BEGIN:VCALENDAR
VERSION:2.0
PRODID:-//Seminar-und Fortbildungszentrum Rheine - ECPv6.15.20//NONSGML v1.0//EN
CALSCALE:GREGORIAN
METHOD:PUBLISH
X-WR-CALNAME:Seminar-und Fortbildungszentrum Rheine
X-ORIGINAL-URL:https://semifobi.de
X-WR-CALDESC:Veranstaltungen für Seminar-und Fortbildungszentrum Rheine
REFRESH-INTERVAL;VALUE=DURATION:PT1H
X-Robots-Tag:noindex
X-PUBLISHED-TTL:PT1H
BEGIN:VTIMEZONE
TZID:Europe/Berlin
BEGIN:DAYLIGHT
TZOFFSETFROM:+0100
TZOFFSETTO:+0200
TZNAME:CEST
DTSTART:20260329T010000
END:DAYLIGHT
BEGIN:STANDARD
TZOFFSETFROM:+0200
TZOFFSETTO:+0100
TZNAME:CET
DTSTART:20261025T010000
END:STANDARD
BEGIN:DAYLIGHT
TZOFFSETFROM:+0100
TZOFFSETTO:+0200
TZNAME:CEST
DTSTART:20270328T010000
END:DAYLIGHT
BEGIN:STANDARD
TZOFFSETFROM:+0200
TZOFFSETTO:+0100
TZNAME:CET
DTSTART:20271031T010000
END:STANDARD
BEGIN:DAYLIGHT
TZOFFSETFROM:+0100
TZOFFSETTO:+0200
TZNAME:CEST
DTSTART:20280326T010000
END:DAYLIGHT
BEGIN:STANDARD
TZOFFSETFROM:+0200
TZOFFSETTO:+0100
TZNAME:CET
DTSTART:20281029T010000
END:STANDARD
END:VTIMEZONE
BEGIN:VEVENT
DTSTART;TZID=Europe/Berlin:20270410T100000
DTEND;TZID=Europe/Berlin:20270410T173000
DTSTAMP:20260422T113203
CREATED:20260203T080210Z
LAST-MODIFIED:20260203T080417Z
UID:10000473-1807351200-1807378200@semifobi.de
SUMMARY:Das NOVAFON in der Logopädie
DESCRIPTION:Überblick zu logopädischen Anwendungen mit dem NOVAFON\nIn diesem Kompaktüberblick zum Thema Logopädische Anwendungen mit dem NOVAFON werden praxisnahe und fachspezifischen Anwendungsmöglichkeiten des NOVAFONs nahegebracht. Diese werden vor allem durch theoretischen Input\, praktische Übungen und Fallbeispiele aus der Praxis vermittelt und ermöglichen zudem einen praxisnahen Erfahrungsaustausch unter Kolleg*innen.\nDie Handhabung des NOVAFONs sowie der verschiedenen Aufsätze ermöglicht eine wichtige Ergänzung vieler Behandlungen im logopädischen Alltag. \n 
URL:https://semifobi.de/seminar/das-novafon-in-der-logopaedie/
LOCATION:TAT Rheine\, Hovesaatstraße 6\, Rheine\, 48432\, Deutschland
CATEGORIES:Neurologie/ Dysphagie,Stimme & Stimmklang,Therapie-Unterstützung
END:VEVENT
BEGIN:VEVENT
DTSTART;TZID=Europe/Berlin:20270429T090000
DTEND;TZID=Europe/Berlin:20270430T160000
DTSTAMP:20260422T113203
CREATED:20250205T102852Z
LAST-MODIFIED:20260226T095104Z
UID:10000237-1808989200-1809100800@semifobi.de
SUMMARY:Demenz im Fokus - Erhalt der Kommunikationsfähigkeiten von Menschen mit Demenz
DESCRIPTION:Erhalt der Kommunikationsfähigkeiten von Menschen mit Demenz: Ressourcenorientierte Diagnostik\, Therapie und Beratung aller Akteur:innen\nDu möchtest Menschen mit Demenz gezielt begleiten und suchst nach praxisnahen Methoden\, die wirklich einen Unterschied machen? In diesem Seminar erhältst du wertvolle Werkzeuge\, um die Diagnostik und Therapie ressourcenorientiert und individuell zu gestalten. Du profitierst von direkt anwendbarem Wissen\, das deine Arbeit bereichert und dich in deiner Rolle als Ansprechpartner:in für Patient:innen\, Angehörige und alle beteiligten Akteur:innen stärkt.\nNeben der Behandlung von Dysphagien spielt bei MmD der Erhalt der Kommunikationskompetenz eine zentrale Rolle. Im Verlauf der Erkrankung treten\, durch den Abbau kognitiver Fähigkeiten Einschränkungen in der Kommunikation auf. Die Symptome unterscheiden sich je nach Form der Demenz und Stadium der Erkrankung. \nDiagnosen wie Alzheimer Demenz stellen für Betroffene\, Angehörige und Fachpersonal eine große Herausforderung dar. Sprache und Kommunikation sind oft schnell beeinträchtigt\, wodurch Unsicherheiten im Alltag entstehen können. Umso wichtiger ist es\, ressourcenorientierte Wege zu kennen und zu nutzen – nicht nur in der Therapie\, sondern auch in der Beratung aller Beteiligten. Durch aktuelle medizinische und schlucktherapeutische Diagnostik lernst du\, Symptome sicher zu erkennen und das weitere therapeutische Vorgehen gezielt zu planen. Besonderen Fokus legen wir dabei auf die Stärken der Patient:innen und darauf\, wie du diese in den Therapiealltag einbinden kannst. Gleichzeitig erhältst du Einblick in bewährte Beratungstechniken\, damit du Angehörige und Teams sicher und wertschätzend unterstützen kannst.
URL:https://semifobi.de/seminar/demenz-im-fokus-erhalt-der-kommunikationsfaehigkeiten-von-menschen-mit-demenz/
CATEGORIES:Angebot,Geriatrie/ Demenz/ Palliativ,Neurologie/ Dysphagie
ATTACH;FMTTYPE=image/jpeg:https://semifobi.de/wp-content/uploads/2025/02/Demenz-im-Fokus-1000-x-627-px-1024-x-568-px-2-1.jpg
LOCATION:https://semifobi.de/seminar/demenz-im-fokus-erhalt-der-kommunikationsfaehigkeiten-von-menschen-mit-demenz/
END:VEVENT
BEGIN:VEVENT
DTSTART;TZID=Europe/Berlin:20270602T180000
DTEND;TZID=Europe/Berlin:20270602T201500
DTSTAMP:20260422T113203
CREATED:20260310T085407Z
LAST-MODIFIED:20260310T085407Z
UID:10000488-1811959200-1811967300@semifobi.de
SUMMARY:AHMA - Abbau Habitueller Mundatmung
DESCRIPTION:Abbau Habitueller Mundatmung – ein M.U.N.D.T Spin-off!\nAHMA wurde von Petra Krätsch-Sievert\, die auch Dozentin dieses Seminar ist\, als strukturiertes Trainingsprogramm für den Abbau der habituellen Mundatmung und das Erlangen einer funktionierenden Nasenatmung entwickelt. AHMA ist das erste und einzige therapeutische Tool\, dass sich ausschließlich auf das Erlangen der Nasenatmung konzentriert. Es ist ein Programm\, dass für das Üben zu Hause konzipiert wurde\, damit die betroffenen Personen hochfrequent üben können.\nDie habituelle Mundatmung ist ein Symptom\, das unterschiedliche logopädische Störungsbilder begleitet und sogar eine Kontraindikation zum Beginn einer Therapie bildet. Hat ein Patient beispielsweise eine orofaziale Dysfunktion und weist er zugleich eine habituelle Mundatmung auf\, dann muss dem Abbau dieses Habits der Vorrang gegeben werden. Wenn die Nasenatmung verlegt ist\, kann mit der eigentlichen Therapie also nicht begonnen werden\, denn eine funktionierende Nasenatmung ist beispielsweise für die Therapie orofazialer Dysfunktionen unerlässlich. Auch im Bereich der Stimmtherapie ist die Nasenatmung die Basis. Hierfür wurde AHMA entwickelt: ein strukturiertes Trainingsprogramm für den Abbau der habituellen Mundatmung und das Erlangen einer funktionierenden Nasenatmung. \nIn diesem Seminar stellt Ihnen die Referentin Petra Krätsch-Sievert das Programm AHMA ausführlich vor\, welches ein Spin-off von M.U.N.D.T ist und für Patienten ab einem Alter von 4 bis 99 Jahren entwickelt wurde.
URL:https://semifobi.de/seminar/ahma-abbau-habitueller-mundatmung-5/
CATEGORIES:allgemeine Dysphagie,MFS/ OFD,MFS/ OFD/ Zungenband,Neurologie/ Dysphagie
ATTACH;FMTTYPE=image/jpeg:https://semifobi.de/wp-content/uploads/2025/09/AHMA.jpg
LOCATION:https://semifobi.de/seminar/ahma-abbau-habitueller-mundatmung-5/
END:VEVENT
BEGIN:VEVENT
DTSTART;TZID=Europe/Berlin:20270611T090000
DTEND;TZID=Europe/Berlin:20270611T113000
DTSTAMP:20260422T113203
CREATED:20260422T085907Z
LAST-MODIFIED:20260422T085907Z
UID:10000512-1812704400-1812713400@semifobi.de
SUMMARY:Ausatemtherapie in der Dysphagietherapie
DESCRIPTION:Husten und eine ausreichende Hustenstoßkraft sind essentiell für Menschen\, die mit (neurogenen) Dysphagien konfrontiert sind.\nHäufig liegt hier aber genau für diese Menschen der Knackpunkt\, was letztlich zur Bedrohung der Atemwege bei Penetration und Aspiration führen kann.\nIn dem Online-Seminar werden Ausatemtrainer und Übungen gezeigt\, um die Sicherheit der Menschen mit (neurogenen) Dysphagien bei der Nahrungsaufnahme zu verbessern. \nDie Teilnehmenden werden Ausatemtrainer in der Dysphagietherapie kennenlernen als einen möglichen Bereich\, um Schlucken und Hustenkraft zu verbessern. Nicht nur Adaptionen und bekannte Dysphagieübungen können zum Einsatz kommen\, wir erweitern den dysphagiologischen Übungsbereich. \n*Für Logopäd:innen in Deutschland 1\,5 Fortbildungspunkte weitere Berufsgruppen 3 Fortbildungspunkte
URL:https://semifobi.de/seminar/ausatemtherapie-in-der-dysphagietherapie/
CATEGORIES:allgemeine Dysphagie,Logopädie Interdisziplinär,Medizin & Logo,Neurologie/ Dysphagie
LOCATION:https://semifobi.de/seminar/ausatemtherapie-in-der-dysphagietherapie/
END:VEVENT
BEGIN:VEVENT
DTSTART;TZID=Europe/Berlin:20270611T130000
DTEND;TZID=Europe/Berlin:20270611T180000
DTSTAMP:20260422T113203
CREATED:20260422T090430Z
LAST-MODIFIED:20260422T090430Z
UID:10000513-1812718800-1812736800@semifobi.de
SUMMARY:Schlucksicherheit & Schluckeffizienz – Praktische Tools für die Dysphagietherapie: Capsaicin und PEP-Atemtrainer
DESCRIPTION:Schlucksicherheit & Schluckeffizienz im Fokus – Online-Fortbildung zu Capsaicin\, PEP-Atemtraining und FEES-basiertem Dysphagiemanagement\nDieses Online-Seminar richtet sich an Logopädinnenund weitere medizinische Kolleg:innen\, die mit Patient*innen mit neurogenen Dysphagien und Schluckstörungen arbeiten und ihre Dysphagietherapie gezielt weiterentwickeln möchten. Du lernst praxisnah\, wie du Schlucksicherheit und Schluckeffizienz systematisch verbessern kannst – mit Capsaicin zur Förderung der pharyngealen und laryngealen Sensibilität und PEP-Atemtrainern zur Kräftigung der Ausatem- und Schluckmuskulatur. Besonders profitieren Fachpersonen\, die ihre Arbeit mit Capsaicin\, FEES\, VFSS und PEP-Atemtrainern praxisnah vertiefen und evidenzbasiert untermauern möchten. \nCapsaicin in der Dysphagietherapie: Sensibilität und Schlucksicherheit verbessern\nEine zentrale Herausforderung der Dysphagietherapie ist die Verbesserung der perilaryngealen und pharyngealen Sensibilität sowie des Timings der Schluckauslösung. In diesem Teil des Online-Seminars erfährst du\, wie Capsaicin – ein in zahlreichen Studien untersuchter Wirkstoff – genutzt werden kann\, um die Sensibilität deiner Dysphagiepatient*innen zu erhöhen und die Schlucksicherheit zu steigern. Du lernst die Rolle von Substanz P kennen\, bekommst einen Überblick über die Studienlage und erfährst\, welche Indikationen und Kontraindikationen für Capsaicin in der Dysphagietherapie zu beachten sind. Außerdem erhältst du konkrete\, alltagsnahe Beispiele\, wie du Capsaicin sicher und strukturiert in dein therapeutisches Setting integrieren kannst. \nPEP-Atemtrainer: Kraft und Schluckeffizienz steigern\nWenn es um Schluckeffizienz geht\, steht die Kraft der pharyngealen und expiratorischen Muskulatur im Mittelpunkt. Im zweiten Teil des Seminars lernst du positiv-expiratorische Ausatemtrainer (PEP-Atemtrainer) als wirksames Tool kennen\, um die Kraft und Koordination im Bereich der Ausatmung und des Schluckens zu trainieren. Nach einer kurzen Vorstellung verschiedener Devices werden Indikationen und Kontraindikationen erläutert und du erhältst konkrete Übungsbeispiele für das Dysphagie-Setting\, die du direkt mit deinen Patient*innen umsetzen kannst. So verbindest du Atemtherapie\, Kraftaufbau und Schluckeffizienz zu einem zielgerichteten Behandlungskonzept. \nSchlucksicherheit & Schluckeffizienz differenzieren – mit FEES-Quiz und Teamdiskussion\nIm gemeinsamen Diskussionsteil setzt du dich mit der Frage auseinander\, ob und warum es sinnvoll ist\, die Begriffe Schlucksicherheit und Schluckeffizienz in der klinischen Praxis klar zu trennen. Anhand eines kleinen FEES-Quiz und klinischer Fallbeispiele lernst du\, unterschiedliche dysphagiologische Pathomechanismen gezielt zu erkennen und deine therapeutischen Entscheidungen darauf abzustimmen. Dadurch schärfst du dein klinisches Denken und kannst deine Diagnostik und Therapieplanung noch individueller und effizienter gestalten. \nDozentin Yasemin Milutinovic – Expertin für neurogene Dysphagien\nYasemin Milutinovic arbeitet seit 2010 als Logopädin und hat sich im Laufe der Jahre auf neurogene Schluckstörungen spezialisiert. Nach ihrem Studium der Medizinalfachberufe mit Schwerpunkt Logopädie sammelte sie viel Erfahrung in der ambulanten und klinischen Arbeit – von Hausbesuchen bis hin zur Diagnostik und Therapie im Krankenhaus. Heute ist sie im Krankenhaus Lindenbrunn tätig und betreut dort Patientinnen und Patienten rund um die Themen FEES\, VFSS und Schluckdiagnostik. Neben ihrer klinischen Tätigkeit ist es ihr ein großes Anliegen\, Wissen weiterzugeben. Sie gibt regelmäßig Fortbildungen und Seminare zu Themen wie Atemtraining\, Schlucksicherheit oder Dysphagie bei Parkinson und teilt dabei ihre praktische Erfahrung mit Kolleginnen und Kollegen aus der Logopädie. Als Dozentin für neurogene Dysphagien verbindet sie aktuelles Fachwissen mit einem starken Praxisfokus und vermittelt Inhalte verständlich\, lebendig und direkt im klinischen Alltag anwendbar. \nYasemin ist auch im April bei uns im Programm mit dem Thema Ausatemtrainer in der Dysphagietherapie
URL:https://semifobi.de/seminar/schlucksicherheit-schluckeffizienz-praktische-tools-fuer-die-dysphagietherapie-capsaicin-und-pep-atemtrainer/
CATEGORIES:allgemeine Dysphagie,Neurologie/ Dysphagie
ATTACH;FMTTYPE=image/jpeg:https://semifobi.de/wp-content/uploads/2025/07/Schlucksicherheit-Schluckeffizienz-1.jpg
LOCATION:https://semifobi.de/seminar/schlucksicherheit-schluckeffizienz-praktische-tools-fuer-die-dysphagietherapie-capsaicin-und-pep-atemtrainer/
END:VEVENT
BEGIN:VEVENT
DTSTART;TZID=Europe/Berlin:20270612T090000
DTEND;TZID=Europe/Berlin:20270612T113000
DTSTAMP:20260422T113203
CREATED:20260422T090732Z
LAST-MODIFIED:20260422T090732Z
UID:10000514-1812790800-1812799800@semifobi.de
SUMMARY:Dysphagietherapie bei Menschen im Wachkoma
DESCRIPTION:Was bedeutet und umfasst der Begriff „Wachkoma“? Und wie begegne ich als DysphagietherapeutIn dem Menschen im Wachkoma?\nIn dem Online Seminar „Dysphagietherapie bei Menschen im Wachkoma“ werden nach Begriffsklärungen die verschiedenen Remissionsphasen aus dem Koma erläutert und voneinander abgegrenzt. Wir nähern uns der Frage „Was ist Bewusstsein“ und schauen auf verschiedene diagnostische Tools\, um Prozesse genauer beleuchten zu können.\nAnschließend blicken wir auf die Besonderheiten bei Menschen im Wachkoma und schließen auf grundsätzliche Therapiebausteine\, die im multiprofessionellen Team nicht fehlen dürfen. \nDer Dysphagietherapie kommt eine besondere Bedeutung zu. Es werden Methoden\, Ideen und Maßnahmen exemplarisch dargestellt und anschließend freue ich mich auf gemeinsamen Austausch und Diskussion der Ideen.
URL:https://semifobi.de/seminar/dysphagietherapie-bei-menschen-im-wachkoma-3/
CATEGORIES:allgemeine Dysphagie,Neurologie/ Dysphagie
ATTACH;FMTTYPE=image/jpeg:https://semifobi.de/wp-content/uploads/2024/11/Dysphagietherapie-bei-Menschen-im-Wachkoma.jpg
LOCATION:https://semifobi.de/seminar/dysphagietherapie-bei-menschen-im-wachkoma-3/
END:VEVENT
BEGIN:VEVENT
DTSTART;TZID=Europe/Berlin:20270612T130000
DTEND;TZID=Europe/Berlin:20270612T180000
DTSTAMP:20260422T113203
CREATED:20260422T091935Z
LAST-MODIFIED:20260422T091935Z
UID:10000515-1812805200-1812823200@semifobi.de
SUMMARY:Kritisch in der Dysphagietherapie - Alte und neue Methoden auf dem  Prüfstand
DESCRIPTION:Das Seminar adressiert ein zentrales Problem in der Dysphagietherapie. Viele therapeutische Entscheidungen basieren noch immer auf verallgemeinerten Annahmen\, Routinen oder Mythen – etwa das angedickte Flüssigkeiten immer sicherer sind.\nDas Seminar löst das Problem von unscharfen\, nicht ausreichend evidenzbasierten Entscheidungsfindungen in der Dysphagietherapie und ersetzt sie durch reflektiertes\, patientenzentriertes Vorgehen.\nWeg von „so macht man das halt“ hin zu wirklich begründeter Dysphagietherapie. Du hinterfragst gängige Standards wie angedickte Getränke oder Chin Tuck nicht nur theoretisch\, sondern lernst\, wann sie sinnvoll sind und wann eben nicht. Der große Gewinn liegt in der Verbindung aus: \n– Externer Evidenz \n– Interner Evidenz -> Präzisere individuelle angepasste Therapie entwickeln
URL:https://semifobi.de/seminar/kritisch-in-der-dysphagietherapie-alte-und-neue-methoden-auf-dem-pruefstand/
CATEGORIES:allgemeine Dysphagie,Ergo & Logo,Logopädie Interdisziplinär,Neurologie/ Dysphagie
LOCATION:https://semifobi.de/seminar/kritisch-in-der-dysphagietherapie-alte-und-neue-methoden-auf-dem-pruefstand/
END:VEVENT
BEGIN:VEVENT
DTSTART;TZID=Europe/Berlin:20270917T090000
DTEND;TZID=Europe/Berlin:20270918T160000
DTSTAMP:20260422T113203
CREATED:20260324T084356Z
LAST-MODIFIED:20260324T084356Z
UID:10000497-1821171600-1821283200@semifobi.de
SUMMARY:Neuro 360° - ALS\, MS & Parkinson in der Logopädie
DESCRIPTION:Das Seminar zeigt auf\, wie eine logopädische Therapie in einem neurodegenerativen bis hin zu sogar palliativen Setting\, bereichernd und für den Patienten wirklich hilfreich sein kann. Es zeigt zahlreiche Möglichkeiten einer sinnvollen und vor allem patientenorientierten Therapieplanung auf und kommt mit jeder Menge Praxis daher.\nDie Teilnehmer*innen nähern sich drei großen neurologischen Krankheitsbildern in der Logopädie aus einer sehr patientennahen Sicht. Sie bekommen außerdem konkrete Tools an die Hand\, um Verläufe im Hinblick auf die Therapieplanung besser beobachten zu können wie die ALS-FRS Uhr oder auch den ReAkt Befundbogen.
URL:https://semifobi.de/seminar/neuro-360-als-ms-parkinson-in-der-logopaedie-2/
CATEGORIES:allgemeine Dysphagie,Geriatrie/ Demenz/ Palliativ,Neurologie/ Dysphagie,neurologische Sprachstörung/ Apraxie
ATTACH;FMTTYPE=image/jpeg:https://semifobi.de/wp-content/uploads/2025/05/Neuro-360°-–-ALS-MS-Parkinson-in-der-Logopaedie.jpg
LOCATION:https://semifobi.de/seminar/neuro-360-als-ms-parkinson-in-der-logopaedie-2/
END:VEVENT
BEGIN:VEVENT
DTSTART;TZID=Europe/Berlin:20271109T180000
DTEND;TZID=Europe/Berlin:20271109T203000
DTSTAMP:20260422T113203
CREATED:20260121T102108Z
LAST-MODIFIED:20260121T102147Z
UID:10000463-1825783200-1825792200@semifobi.de
SUMMARY:Gesundheitskompetenz erkennen und fördern - so stärkst Du Deine Patient:innen!
DESCRIPTION:Gesundheitskompetenz\, also die Fähigkeit\, Gesundheitsinformationen zu verstehen und anzuwenden\, beeinflusst den Therapieerfolg positiv (Salter et al.\,2014). Wie fit sind deine Patient:innen im Umgang mit ihrer Gesundheit?\nIn diesem Seminar erfährst du\, wie du den Wissensstand und die Selbstmanagementfähigkeiten deiner Patient:innen einschätzen und gezielt stärken kannst.
URL:https://semifobi.de/seminar/gesundheitskompetenz-erkennen-und-foerdern-so-staerkst-du-deine-patientinnen-2/
CATEGORIES:Geriatrie/ Demenz/ Palliativ,Neurologie/ Dysphagie
ATTACH;FMTTYPE=image/jpeg:https://semifobi.de/wp-content/uploads/2025/02/Gesundheitskompetenz-erkennen-und-foerdern.jpg
LOCATION:https://semifobi.de/seminar/gesundheitskompetenz-erkennen-und-foerdern-so-staerkst-du-deine-patientinnen-2/
END:VEVENT
BEGIN:VEVENT
DTSTART;TZID=Europe/Berlin:20271206T180000
DTEND;TZID=Europe/Berlin:20271206T201500
DTSTAMP:20260422T113203
CREATED:20260310T090255Z
LAST-MODIFIED:20260310T090255Z
UID:10000489-1828116000-1828124100@semifobi.de
SUMMARY:AHMA - Abbau Habitueller Mundatmung
DESCRIPTION:Abbau Habitueller Mundatmung – ein M.U.N.D.T Spin-off!\nAHMA wurde von Petra Krätsch-Sievert\, die auch Dozentin dieses Seminar ist\, als strukturiertes Trainingsprogramm für den Abbau der habituellen Mundatmung und das Erlangen einer funktionierenden Nasenatmung entwickelt. AHMA ist das erste und einzige therapeutische Tool\, dass sich ausschließlich auf das Erlangen der Nasenatmung konzentriert. Es ist ein Programm\, dass für das Üben zu Hause konzipiert wurde\, damit die betroffenen Personen hochfrequent üben können.\nDie habituelle Mundatmung ist ein Symptom\, das unterschiedliche logopädische Störungsbilder begleitet und sogar eine Kontraindikation zum Beginn einer Therapie bildet. Hat ein Patient beispielsweise eine orofaziale Dysfunktion und weist er zugleich eine habituelle Mundatmung auf\, dann muss dem Abbau dieses Habits der Vorrang gegeben werden. Wenn die Nasenatmung verlegt ist\, kann mit der eigentlichen Therapie also nicht begonnen werden\, denn eine funktionierende Nasenatmung ist beispielsweise für die Therapie orofazialer Dysfunktionen unerlässlich. Auch im Bereich der Stimmtherapie ist die Nasenatmung die Basis. Hierfür wurde AHMA entwickelt: ein strukturiertes Trainingsprogramm für den Abbau der habituellen Mundatmung und das Erlangen einer funktionierenden Nasenatmung. \nIn diesem Seminar stellt Ihnen die Referentin Petra Krätsch-Sievert das Programm AHMA ausführlich vor\, welches ein Spin-off von M.U.N.D.T ist und für Patienten ab einem Alter von 4 bis 99 Jahren entwickelt wurde.
URL:https://semifobi.de/seminar/ahma-abbau-habitueller-mundatmung-6/
CATEGORIES:allgemeine Dysphagie,MFS/ OFD,MFS/ OFD/ Zungenband,Neurologie/ Dysphagie
ATTACH;FMTTYPE=image/jpeg:https://semifobi.de/wp-content/uploads/2025/09/AHMA.jpg
LOCATION:https://semifobi.de/seminar/ahma-abbau-habitueller-mundatmung-6/
END:VEVENT
BEGIN:VEVENT
DTSTART;TZID=Europe/Berlin:20271207T180000
DTEND;TZID=Europe/Berlin:20271207T211500
DTSTAMP:20260422T113203
CREATED:20260121T102503Z
LAST-MODIFIED:20260121T102503Z
UID:10000464-1828202400-1828214100@semifobi.de
SUMMARY:Ressourcenorientierte Logopädie bei Demenz
DESCRIPTION:Kreative Lösungsansätze für die Therapie der Kommunikation\nNeben vielen ressourcenorientierten Methoden gibt es im Seminar einen ausführlichen Überblick zur Kommunikation bei Demenz\, viele kreative Lösungsansätze\, Tipps für die Angehörigenberatung und die Möglichkeit\, sich mit Kolleg:innen auszutauschen.\nDu triffst in deinem Alltag als Logopäd:in immer mehr Menschen mit Demenz und wünschst dir Sicherheit\, Kreativität und einen aufgefrischten Methodenkoffer für deine Therapien? Dann schau in diesem Seminar durch die Ressourcenbrille und entwickle Ideen für eine gewinnbringende logopädische Therapie für deine Patient:innen mit Demenz.
URL:https://semifobi.de/seminar/ressourcenorientierte-logopaedie-bei-demenz-4/
CATEGORIES:Geriatrie/ Demenz/ Palliativ,Neurologie/ Dysphagie
ATTACH;FMTTYPE=image/jpeg:https://semifobi.de/wp-content/uploads/2024/07/Logopaedische-Therapie-von-Menschen-mit-Demenz.jpg
LOCATION:https://semifobi.de/seminar/ressourcenorientierte-logopaedie-bei-demenz-4/
END:VEVENT
END:VCALENDAR