BEGIN:VCALENDAR
VERSION:2.0
PRODID:-//Seminar-und Fortbildungszentrum Rheine - ECPv6.15.20//NONSGML v1.0//EN
CALSCALE:GREGORIAN
METHOD:PUBLISH
X-ORIGINAL-URL:https://semifobi.de
X-WR-CALDESC:Veranstaltungen für Seminar-und Fortbildungszentrum Rheine
REFRESH-INTERVAL;VALUE=DURATION:PT1H
X-Robots-Tag:noindex
X-PUBLISHED-TTL:PT1H
BEGIN:VTIMEZONE
TZID:Europe/Berlin
BEGIN:DAYLIGHT
TZOFFSETFROM:+0100
TZOFFSETTO:+0200
TZNAME:CEST
DTSTART:20240331T010000
END:DAYLIGHT
BEGIN:STANDARD
TZOFFSETFROM:+0200
TZOFFSETTO:+0100
TZNAME:CET
DTSTART:20241027T010000
END:STANDARD
BEGIN:DAYLIGHT
TZOFFSETFROM:+0100
TZOFFSETTO:+0200
TZNAME:CEST
DTSTART:20250330T010000
END:DAYLIGHT
BEGIN:STANDARD
TZOFFSETFROM:+0200
TZOFFSETTO:+0100
TZNAME:CET
DTSTART:20251026T010000
END:STANDARD
BEGIN:DAYLIGHT
TZOFFSETFROM:+0100
TZOFFSETTO:+0200
TZNAME:CEST
DTSTART:20260329T010000
END:DAYLIGHT
BEGIN:STANDARD
TZOFFSETFROM:+0200
TZOFFSETTO:+0100
TZNAME:CET
DTSTART:20261025T010000
END:STANDARD
END:VTIMEZONE
BEGIN:VEVENT
DTSTART;TZID=Europe/Berlin:20250514T090000
DTEND;TZID=Europe/Berlin:20250514T163000
DTSTAMP:20260422T062933
CREATED:20240724T073800Z
LAST-MODIFIED:20250509T080759Z
UID:10000064-1747213200-1747240200@semifobi.de
SUMMARY:Aphasietherapie - Das Praxisseminar
DESCRIPTION:Für alle\, die gerne zielgerichtet und evidenzbasiert arbeiten und auch ICF im Blick haben wollen\nSie möchten neues und bewährtes Therapiematerial für die Aphasietherapie kennenlernen\, dieses zielgerichtet einsetzen und flexibel variieren können? Dann sind Sie hier richtig!  \nTherapie des Wortabrufs basierend auf dem Logogenmodell.\nEinsatz von Therapieansätzen für alle ICF Ebenen. \n 
URL:https://semifobi.de/seminar/aphasietherapie-das-praxisseminar/
CATEGORIES:Neurologie/ Dysphagie,neurologische Sprachstörung/ Apraxie
ATTACH;FMTTYPE=image/jpeg:https://semifobi.de/wp-content/uploads/2024/08/Aphasietherapie.jpg
LOCATION:https://semifobi.de/seminar/aphasietherapie-das-praxisseminar/
END:VEVENT
BEGIN:VEVENT
DTSTART;TZID=Europe/Berlin:20250514T090000
DTEND;TZID=Europe/Berlin:20250515T140000
DTSTAMP:20260422T062933
CREATED:20240724T091813Z
LAST-MODIFIED:20250422T110749Z
UID:10000067-1747213200-1747317600@semifobi.de
SUMMARY:Faszienbehandlung in der Logopädie
DESCRIPTION:Aufbau und Bedeutung des myofaszialen Systems für Diagnostik.\nKaum eine Struktur in unserem Körper hat in den letzten Jahren derartig für Aufsehen gesorgt\, wie die Faszien – unser Bindegewebe. Sie reagieren auf Stress\, Dysbalancen und Störungen im System mit Verengung\, Verkrampfung und Verfilzung. Dies blockiert die elastischen Funktionen im Körper. Im Bereich der Logopädie betrifft das die Atmung und folglich auch die Stimmgebung. Daher ist es wichtig\, vor der Anbahnung der physiologischen costoabdominalen Atmung auch die Faszien zu bearbeiten. \nDieser Kurs befasst sich intensiv mit den Faszien und den myofaszialen Meridianen inklusive visueller\, palpatorischer und funktioneller Faszienprüfung. Um wie oben beschrieben mit Hilfe der Faszienarbeit beispielsweise die Stimme zu bearbeiten\, lernen Sie in diesem Kurs mit Hilfe von Release Techniken manuell\, mit aktivem myofaszialem Training effektiv zu behandeln. Dabei werden Strategien erarbeitet\, um Dysfunktionen zu beseitigen und die myofasziale Balance wieder herzustellen.
URL:https://semifobi.de/seminar/faszienbehadlung-in-der-logopaedie/
LOCATION:TAT Rheine\, Hovesaatstraße 6\, Rheine\, 48432\, Deutschland
CATEGORIES:allgemeine Dysphagie,Ergo & Logo,Logopädie Interdisziplinär,Neurologie/ Dysphagie,Osteopathie & Logo
ATTACH;FMTTYPE=image/jpeg:https://semifobi.de/wp-content/uploads/2024/08/Faszienbehadlung-in-der-Logopaedie.jpg
END:VEVENT
END:VCALENDAR