BEGIN:VCALENDAR
VERSION:2.0
PRODID:-//Seminar-und Fortbildungszentrum Rheine - ECPv6.15.20//NONSGML v1.0//EN
CALSCALE:GREGORIAN
METHOD:PUBLISH
X-ORIGINAL-URL:https://semifobi.de
X-WR-CALDESC:Veranstaltungen für Seminar-und Fortbildungszentrum Rheine
REFRESH-INTERVAL;VALUE=DURATION:PT1H
X-Robots-Tag:noindex
X-PUBLISHED-TTL:PT1H
BEGIN:VTIMEZONE
TZID:Europe/Berlin
BEGIN:DAYLIGHT
TZOFFSETFROM:+0100
TZOFFSETTO:+0200
TZNAME:CEST
DTSTART:20240331T010000
END:DAYLIGHT
BEGIN:STANDARD
TZOFFSETFROM:+0200
TZOFFSETTO:+0100
TZNAME:CET
DTSTART:20241027T010000
END:STANDARD
BEGIN:DAYLIGHT
TZOFFSETFROM:+0100
TZOFFSETTO:+0200
TZNAME:CEST
DTSTART:20250330T010000
END:DAYLIGHT
BEGIN:STANDARD
TZOFFSETFROM:+0200
TZOFFSETTO:+0100
TZNAME:CET
DTSTART:20251026T010000
END:STANDARD
BEGIN:DAYLIGHT
TZOFFSETFROM:+0100
TZOFFSETTO:+0200
TZNAME:CEST
DTSTART:20260329T010000
END:DAYLIGHT
BEGIN:STANDARD
TZOFFSETFROM:+0200
TZOFFSETTO:+0100
TZNAME:CET
DTSTART:20261025T010000
END:STANDARD
END:VTIMEZONE
BEGIN:VEVENT
DTSTART;TZID=Europe/Berlin:20250903T090000
DTEND;TZID=Europe/Berlin:20250904T153000
DTSTAMP:20260425T174449
CREATED:20250108T085257Z
LAST-MODIFIED:20250721T091942Z
UID:10000216-1756890000-1756999800@semifobi.de
SUMMARY:Acupressure techniques for Voice\, swallowing and OMFT  (Oral Myofunctional Therapy)🇬🇧
DESCRIPTION:Join Robert Price and Stephen King for 2 days of Acupressure techniques for Voice\, swallowing and OMFT.\nFor thousands of years\, ancient cultures have treated voice problems using manualised approaches. Acupressure\, borne out of the philosophy of Traditional Chinese Medicine is one of those such systems of help. It is based on observation of life and symptoms\, as dissection was banned in China. Therefore acupressure is the study of ‘life’ rather than anatomy observed after death.\nOver these two days\, you will learn the system of the voice master points through beginning to understand the meridians of Traditional Chinese Medicine. This work can be integrated into current clinical practise for vocal massage therapists\, speech therapists and vocal coaches. \nCourse language: 🇬🇧
URL:https://semifobi.de/seminar/acupressure-techniques-for-voice-swallowing-and-omft-oral-myofunctional-therapy%f0%9f%87%ac%f0%9f%87%a7/
LOCATION:TAT Rheine\, Hovesaatstraße 6\, Rheine\, 48432\, Deutschland
CATEGORIES:Logopädie Interdisziplinär,Osteopathie & Logo,Stimme & Stimmklang,Stimmtraining
ATTACH;FMTTYPE=image/jpeg:https://semifobi.de/wp-content/uploads/2025/01/Acupressure-techniques-for-Voice-swallowing-and-OMFT.jpg
END:VEVENT
END:VCALENDAR