BEGIN:VCALENDAR
VERSION:2.0
PRODID:-//Seminar-und Fortbildungszentrum Rheine - ECPv6.15.20//NONSGML v1.0//EN
CALSCALE:GREGORIAN
METHOD:PUBLISH
X-ORIGINAL-URL:https://semifobi.de
X-WR-CALDESC:Veranstaltungen für Seminar-und Fortbildungszentrum Rheine
REFRESH-INTERVAL;VALUE=DURATION:PT1H
X-Robots-Tag:noindex
X-PUBLISHED-TTL:PT1H
BEGIN:VTIMEZONE
TZID:Europe/Berlin
BEGIN:DAYLIGHT
TZOFFSETFROM:+0100
TZOFFSETTO:+0200
TZNAME:CEST
DTSTART:20240331T010000
END:DAYLIGHT
BEGIN:STANDARD
TZOFFSETFROM:+0200
TZOFFSETTO:+0100
TZNAME:CET
DTSTART:20241027T010000
END:STANDARD
BEGIN:DAYLIGHT
TZOFFSETFROM:+0100
TZOFFSETTO:+0200
TZNAME:CEST
DTSTART:20250330T010000
END:DAYLIGHT
BEGIN:STANDARD
TZOFFSETFROM:+0200
TZOFFSETTO:+0100
TZNAME:CET
DTSTART:20251026T010000
END:STANDARD
BEGIN:DAYLIGHT
TZOFFSETFROM:+0100
TZOFFSETTO:+0200
TZNAME:CEST
DTSTART:20260329T010000
END:DAYLIGHT
BEGIN:STANDARD
TZOFFSETFROM:+0200
TZOFFSETTO:+0100
TZNAME:CET
DTSTART:20261025T010000
END:STANDARD
END:VTIMEZONE
BEGIN:VEVENT
DTSTART;TZID=Europe/Berlin:20251006T183000
DTEND;TZID=Europe/Berlin:20251208T204500
DTSTAMP:20260421T102010
CREATED:20250806T111929Z
LAST-MODIFIED:20251213T141408Z
UID:10000388-1759775400-1765226700@semifobi.de
SUMMARY:SI_BAKIS 1-3: Sensorische Integration_eine BAsis der KIndlichen Sprachentwicklung
DESCRIPTION:SI_BAKIS ist ein praxisnahes Seminar\, das fundiertes Wissen zur sensorischen Integration mit der kindlichen Sprachentwicklung verknüpft – kompakt und anwendungsorientiert.\nSensorische Integration bildet die Grundlage für kindliche Entwicklung – und ist eng verknüpft mit Sprachverarbeitung\, Verhalten und Lernfähigkeit. In dieser praxisnahen Webinarreihe lernst du\, wie du sensorische Verarbeitungsprozesse erkennen\, verstehen und gezielt in deinen therapeutischen Alltag integrieren kannst. Die drei Module bauen inhaltlich aufeinander auf\, können aber auch einzeln gebucht werden. \nSI_BAKIS Modul 1 – Grundlagen verstehen\nWie Wahrnehmung die Sprachentwicklung prägt\nDu fragst dich\, warum logopädische Fortschritte bei manchen Kindern mühsam erarbeitet werden – oder trotz aller Bemühungen stagnieren? Dann könnte eine unbeachtete sensorische Verarbeitungsproblematik dahinterstecken. In Modul 1 erhältst du fundiertes Basiswissen zur sensorischen Integration und erfährst\, wie die Verarbeitung basaler Sinneseindrücke (taktil\, vestibulär\, propriozeptiv) mit Sprachentwicklung\, Verhalten und Aufmerksamkeit zusammenhängt. Anhand konkreter Beispiele bekommst du ein neues Verständnis dafür\, warum Sprache\nmanchmal nicht „greifen“ kann – und warum klassische logopädische Ansätze dann nicht ausreichen. \nSI_BAKIS Modul 2 – Zusammenhänge erkennen\nWenn Verhalten\, Emotionen & Sprache sich gegenseitig beeinflussen\nIn Modul 2 vertiefst du dein Verständnis für die Auswirkungen sensorischer Verarbeitungsstörungen auf sprachliche und emotionale Entwicklung. Du lernst\, typische Auffälligkeiten im Verhalten und in der Sprachentwicklung im Kontext sensorischer Dysfunktionen zu deuten – und entwickelst ein feineres Gespür für die Ursachen hinter scheinbar „therapieresistentem“ Verhalten. \nSI_BAKIS Modul 3 – Praxis anwenden\nRegulation fördern – Sprache ermöglichen\nIn Modul 3 geht es um die konkrete Umsetzung im Therapiealltag. Du erhältst praxiserprobte Ansätze und Impulse\, wie du mit einfachen Mitteln die Regulation deiner Klient:innen gezielt fördern kannst – als Basis für Aufmerksamkeit\, Lernfähigkeit und sprachliche Entwicklung. Denn nur ein reguliertes Kind kann logopädische Inhalte aufnehmen. Du lernst\, wie du Materialien gezielt auswählst\, vorbereitest und in eine alltagsnahe\, sensorisch gestützte Therapie integrierst. \nBei den SI_BAKIS handelt es sich um eine Webinarreihe (Modul 1-3). Inhaltlich und Thematisch bauen sie aufeinander auf. Du solltest mit Modul 1 starten\, welches die Grundlage für die Module 2 und 3 darstellt. Alle drei Teile können einzeln gebucht werden. Folge diesem Link zur Übersicht der nächsten Termine. \n 
URL:https://semifobi.de/seminar/si_bakis-1-3/
CATEGORIES:Ergo & Logo,Logopädie Interdisziplinär,Osteopathie & Logo,Pädagogik & Logo,Pädiatrie,Physio & Logo,Sonstige Therapieunterstützung,Sprachentwicklung/ Grammatik/ Wortschatz,Sprechstörung,Therapie-Unterstützung
ATTACH;FMTTYPE=image/jpeg:https://semifobi.de/wp-content/uploads/2025/08/SI_BAKIS-Sensorische-Integration.jpg
LOCATION:https://semifobi.de/seminar/si_bakis-1-3/
END:VEVENT
BEGIN:VEVENT
DTSTART;TZID=Europe/Berlin:20251117T090000
DTEND;TZID=Europe/Berlin:20251117T160000
DTSTAMP:20260421T102010
CREATED:20250917T083738Z
LAST-MODIFIED:20250917T123323Z
UID:10000411-1763370000-1763395200@semifobi.de
SUMMARY:Gitarre lernen an einem Tag
DESCRIPTION:Musik begeistert\, verbindet und schafft Gemeinschaft. In diesem Workshop entdecken Sie\, wie einfach Liedbegleitung auf der Gitarre sein kann – auch ohne Vorkenntnisse. Mit der offenen C-Stimmung lassen sich viele bekannte Kinderlieder wie „Bruder Jakob“\, „Aram sam sam“ oder „Pitsch\, Patsch Pinguin“ bereits nach kurzer Zeit mit nur einem Griff begleiten.\nDie Methode eröffnet neue Möglichkeiten für die musikalische Arbeit in Kita\, Schule und anderen pädagogischen Einrichtungen. Sie eignet sich zudem hervorragend für den Einsatz der Gitarre als „Orff-Instrument“ – so können sogar schon Kinder ab 4 Jahren aktiv ins gemeinsame Musizieren einbezogen werden.\nInhalte des Workshops: \n\nEinfache Liedbegleitung mit der offenen C-Stimmung\nKennenlernen und Ausprobieren neuer Kinderlieder\nGrundlagen von Anschlagtechniken\nPraktischer Einsatz von Stimmgerät und Kapodaster\n\nDieser Workshop vermittelt Freude am Musizieren\, praxisnahe Methoden für den Alltag und schnelle Erfolgserlebnisse – für eine lebendige musikalische Begleitung im pädagogischen Kontext. \n**** Achtung\, dieses Seminar wird von unserem Kooperationspartner jfd im Bürgerhof Rheine ausgerichtet. Klicke auf “Anmelden” und gelange auf die Anmeldeseite ****
URL:https://semifobi.de/seminar/gitarre-lernen-an-einem-tag/
LOCATION:Bürgerhof Rheine\, Lingener Damm 17\, Rheine\, 48432\, Deutschland
CATEGORIES:Gesprächsführung,Logopädie Interdisziplinär,Musik,Pädagogik & Logo,Sonstige Therapieunterstützung,Therapie-Unterstützung
ATTACH;FMTTYPE=image/jpeg:https://semifobi.de/wp-content/uploads/2025/09/Gitarre-lernen-an-einem-Tag.jpg
END:VEVENT
END:VCALENDAR