BEGIN:VCALENDAR
VERSION:2.0
PRODID:-//Seminar-und Fortbildungszentrum Rheine - ECPv6.15.20//NONSGML v1.0//EN
CALSCALE:GREGORIAN
METHOD:PUBLISH
X-WR-CALNAME:Seminar-und Fortbildungszentrum Rheine
X-ORIGINAL-URL:https://semifobi.de
X-WR-CALDESC:Veranstaltungen für Seminar-und Fortbildungszentrum Rheine
REFRESH-INTERVAL;VALUE=DURATION:PT1H
X-Robots-Tag:noindex
X-PUBLISHED-TTL:PT1H
BEGIN:VTIMEZONE
TZID:Europe/Berlin
BEGIN:DAYLIGHT
TZOFFSETFROM:+0100
TZOFFSETTO:+0200
TZNAME:CEST
DTSTART:20240331T010000
END:DAYLIGHT
BEGIN:STANDARD
TZOFFSETFROM:+0200
TZOFFSETTO:+0100
TZNAME:CET
DTSTART:20241027T010000
END:STANDARD
BEGIN:DAYLIGHT
TZOFFSETFROM:+0100
TZOFFSETTO:+0200
TZNAME:CEST
DTSTART:20250330T010000
END:DAYLIGHT
BEGIN:STANDARD
TZOFFSETFROM:+0200
TZOFFSETTO:+0100
TZNAME:CET
DTSTART:20251026T010000
END:STANDARD
BEGIN:DAYLIGHT
TZOFFSETFROM:+0100
TZOFFSETTO:+0200
TZNAME:CEST
DTSTART:20260329T010000
END:DAYLIGHT
BEGIN:STANDARD
TZOFFSETFROM:+0200
TZOFFSETTO:+0100
TZNAME:CET
DTSTART:20261025T010000
END:STANDARD
END:VTIMEZONE
BEGIN:VEVENT
DTSTART;TZID=Europe/Berlin:20251212T100000
DTEND;TZID=Europe/Berlin:20251213T171500
DTSTAMP:20260421T212539
CREATED:20250117T085841Z
LAST-MODIFIED:20251201T094550Z
UID:10000227-1765533600-1765646100@semifobi.de
SUMMARY:Die Verbale Entwicklungsdyspraxie und KoArt® - Grundkurs
DESCRIPTION:KoArt®-Grundkurs mit Ulrike Becker-Redding – Diagnostik\, Grundlagen und Therapieeinführung\nDer Grundkurs schafft eine solide Basis im Umgang mit VED und bietet den Teilnehmerinnen diagnostische Sicherheit sowie ein praxisnahes\, störungsspezifisches Therapiekonzept. Damit können Logopädinnen die oft therapieresistent wirkenden Schwierigkeiten dieser Kinder effektiver und mit einem klaren methodischen Leitfaden behandeln – und so den Weg zu einer erfolgreichen Sprachentwicklung ebnen.\nSynonyme wie verbale\, artikulatorische oder kindliche Dyspraxie bzw. Verbale Entwicklungsdyspraxie beschreiben die Unfähigkeit des Kindes\, willkürliche und adäquate Bewegungen zur Produktion von Lauten und Lautfolgen auszuführen. Das Ergebnis ist eine schwere Aussprachestörung\, die die gesamte Sprachentwicklung beeinträchtigen kann – und sich mit klassischen Therapieansätzen oft als schwer therapierbar zeigt. Dieses Seminar bietet Logopädinnen die Möglichkeit\, diese komplexe Störungsform fundiert zu verstehen und spezifisch zu behandeln. \nDer Kurs vermittelt die Grundlagen des KoArt®-Konzeptes und schließt eine wichtige therapeutische Wissenslücke: \n\nTypische Merkmale der Verbalen Entwicklungsdyspraxie\nDifferentialdiagnostik und Diagnostik bei Verdacht auf VED\nApraxie-/Dyspraxieprüfung als diagnostisches Instrument\nTherapiestufen nach KoArt®: vom Einstieg bis zum weiteren Verlauf\nPraktische Einblicke durch Videobeispiele zur Veranschaulichung des Vorgehens\n\nDabei werden die Teilnehmerinnen ermutigt und befähigt\, VED möglichst frühzeitig zu erkennen und auch sehr junge Kinder gezielt zu fördern. \nKoArt® gehört zu den einzellautorientierten Ansätzen\, beinhaltet aber auch Elemente anderer Vorgehensweisen. Hierbei werden die Teilnehmerinnen ermutigt und in die Lage versetzt\, die Verbale Entwicklungsdyspraxie möglichst frühzeitig zu erkennen und einer Therapie auch bei sehr jungen Kindern positiv und kompetent gegenüber zu stehen. Es werden Vorgehen und Verlauf auch anhand von Videobeispielen demonstriert.
URL:https://semifobi.de/seminar/die-verbale-entwicklungsdyspraxie-und-koart-grundseminar/
LOCATION:TAT Rheine\, Hovesaatstraße 6\, Rheine\, 48432\, Deutschland
CATEGORIES:Pädiatrie,Verbale Entwicklungsdyspraxie/ Sprechapraxie
ATTACH;FMTTYPE=image/jpeg:https://semifobi.de/wp-content/uploads/2025/09/Die-Verbale-Entwicklungsdyspraxie-KoArt®-Grundkurs.jpg
END:VEVENT
END:VCALENDAR