BEGIN:VCALENDAR
VERSION:2.0
PRODID:-//Seminar-und Fortbildungszentrum Rheine - ECPv6.15.20//NONSGML v1.0//EN
CALSCALE:GREGORIAN
METHOD:PUBLISH
X-WR-CALNAME:Seminar-und Fortbildungszentrum Rheine
X-ORIGINAL-URL:https://semifobi.de
X-WR-CALDESC:Veranstaltungen für Seminar-und Fortbildungszentrum Rheine
REFRESH-INTERVAL;VALUE=DURATION:PT1H
X-Robots-Tag:noindex
X-PUBLISHED-TTL:PT1H
BEGIN:VTIMEZONE
TZID:Europe/Berlin
BEGIN:DAYLIGHT
TZOFFSETFROM:+0100
TZOFFSETTO:+0200
TZNAME:CEST
DTSTART:20240331T010000
END:DAYLIGHT
BEGIN:STANDARD
TZOFFSETFROM:+0200
TZOFFSETTO:+0100
TZNAME:CET
DTSTART:20241027T010000
END:STANDARD
BEGIN:DAYLIGHT
TZOFFSETFROM:+0100
TZOFFSETTO:+0200
TZNAME:CEST
DTSTART:20250330T010000
END:DAYLIGHT
BEGIN:STANDARD
TZOFFSETFROM:+0200
TZOFFSETTO:+0100
TZNAME:CET
DTSTART:20251026T010000
END:STANDARD
BEGIN:DAYLIGHT
TZOFFSETFROM:+0100
TZOFFSETTO:+0200
TZNAME:CEST
DTSTART:20260329T010000
END:DAYLIGHT
BEGIN:STANDARD
TZOFFSETFROM:+0200
TZOFFSETTO:+0100
TZNAME:CET
DTSTART:20261025T010000
END:STANDARD
END:VTIMEZONE
BEGIN:VEVENT
DTSTART;TZID=Europe/Berlin:20251218T084500
DTEND;TZID=Europe/Berlin:20251219T171500
DTSTAMP:20260425T232715
CREATED:20240927T095804Z
LAST-MODIFIED:20251213T092559Z
UID:10000157-1766047500-1766164500@semifobi.de
SUMMARY:Evidenzbasierte Therapie bei Autismus-Spektrum-Störungen
DESCRIPTION:Zeitgemäße Anwendung verhaltenstherapeutischer Prinzipien in der Logopädie\nDie Therapie mit Kindern mit einer Autismus-Spektrum-Störung stellt aufgrund der Komplexität des Themas in vielerlei Hinsicht eine Herausforderung dar.\nDenn viele dieser Kinder haben Probleme damit\, in die verbale Sprache zu kommen\, aber auch in eine Interaktion mit ihnen zu treten und Kommunikation zu fördern erscheint oftmals schwer. Hinzu kommen außerdem bei vielen Kindern herausfordernde Verhaltensweisen\, die den Umgang mit ihnen erschweren. \n 
URL:https://semifobi.de/seminar/evidenzbasierte-therapie-bei-autismus-spektrum-stoerungen-3/
CATEGORIES:Angebot,Autismus,Neurodiversität/ Mutismus
ATTACH;FMTTYPE=image/jpeg:https://semifobi.de/wp-content/uploads/2025/10/Evidenzbasierte-Therapie-bei-Autismus-Spektrum-Stoerungen.jpg
LOCATION:https://semifobi.de/seminar/evidenzbasierte-therapie-bei-autismus-spektrum-stoerungen-3/
END:VEVENT
END:VCALENDAR