BEGIN:VCALENDAR
VERSION:2.0
PRODID:-//Seminar-und Fortbildungszentrum Rheine - ECPv6.15.20//NONSGML v1.0//EN
CALSCALE:GREGORIAN
METHOD:PUBLISH
X-WR-CALNAME:Seminar-und Fortbildungszentrum Rheine
X-ORIGINAL-URL:https://semifobi.de
X-WR-CALDESC:Veranstaltungen für Seminar-und Fortbildungszentrum Rheine
REFRESH-INTERVAL;VALUE=DURATION:PT1H
X-Robots-Tag:noindex
X-PUBLISHED-TTL:PT1H
BEGIN:VTIMEZONE
TZID:Europe/Berlin
BEGIN:DAYLIGHT
TZOFFSETFROM:+0100
TZOFFSETTO:+0200
TZNAME:CEST
DTSTART:20250330T010000
END:DAYLIGHT
BEGIN:STANDARD
TZOFFSETFROM:+0200
TZOFFSETTO:+0100
TZNAME:CET
DTSTART:20251026T010000
END:STANDARD
BEGIN:DAYLIGHT
TZOFFSETFROM:+0100
TZOFFSETTO:+0200
TZNAME:CEST
DTSTART:20260329T010000
END:DAYLIGHT
BEGIN:STANDARD
TZOFFSETFROM:+0200
TZOFFSETTO:+0100
TZNAME:CET
DTSTART:20261025T010000
END:STANDARD
BEGIN:DAYLIGHT
TZOFFSETFROM:+0100
TZOFFSETTO:+0200
TZNAME:CEST
DTSTART:20270328T010000
END:DAYLIGHT
BEGIN:STANDARD
TZOFFSETFROM:+0200
TZOFFSETTO:+0100
TZNAME:CET
DTSTART:20271031T010000
END:STANDARD
END:VTIMEZONE
BEGIN:VEVENT
DTSTART;TZID=Europe/Berlin:20260430T173000
DTEND;TZID=Europe/Berlin:20260430T200000
DTSTAMP:20260421T142844
CREATED:20250219T101159Z
LAST-MODIFIED:20260407T080739Z
UID:10000265-1777570200-1777579200@semifobi.de
SUMMARY:Der Befund ist fertig. Und jetzt?! Therapieplanung bei neurogenen Dysphagien mit der Funktionellen Dysphagietherapie (FDT)
DESCRIPTION:Therapieplanung bei neurogenen Dysphagien mit der Funktionellen Dysphagietherapie (FDT) – Fortbildung für Logopäd:innen\nPraxisorientierte Fortbildung zur Dysphagietherapie\nDieses Seminar richtet sich an Logopäd:innen\, die ihre Kompetenzen in der Behandlung von neurogenen Schluckstörungen erweitern möchten. Du lernst\, wie du mit der Funktionellen Dysphagietherapie (FDT) eine fundierte\, patient:innenorientierte und effektive Therapieplanung erstellst. Das Seminar stärkt deine Handlungssicherheit im klinischen Alltag und verbessert die Qualität deiner Behandlung bei Dysphagien. \nDiagnostik und Befunderstellung bei Schluckstörungen\nNach einem kompakten Überblick über die physiologischen Grundlagen des Schluckakts und die typischen Leitsymptome einer Dysphagie\, werden praxisrelevante Diagnostikverfahren wie der Aspirationsschnelltest und die klinische Schluckuntersuchung vorgestellt. Du erhältst Hinweise\, wie du Befunde präzise verschriftlichst und daraus eine klare Therapieentscheidung ableitest – eine entscheidende Basis für die erfolgreiche Dysphagietherapie. \nFunktionelle Dysphagietherapie (FDT) gezielt anwenden\nIm Zentrum steht die praktische Umsetzung der Komponenten der Funktionellen Dysphagietherapie. Du lernst\, wie du Therapiebereiche festlegst\, passende Übungen für spezifische Störungsmuster auswählst und die Wirksamkeit deiner Maßnahmen kritisch bewertest. Ergänzend werden Strategien vermittelt\, um Kostempfehlungen und Schluckregeln sicher zu kommunizieren und die Therapie langfristig abzusichern. \nFür wen ist das Seminar geeignet?\nDie Fortbildung ist ideal für Therapeut:innen\, die mit Patient:innen mit neurogenen Dysphagien arbeiten – ob in Klinik\, Reha oder ambulanter Praxis. Sie bietet sofort anwendbares Wissen für eine strukturierte\, wirksame und individuell angepasste Dysphagietherapie. \nKompetent geleitet von einem erfahrenen Experten\nSascha Inderwisch ist Logopäde\, Lehrlogopäde und Spezialist für Dysphagietherapie. Als erfahrener Fachdozent verbindet er wissenschaftlich fundiertes Wissen mit praxisnaher Vermittlung. Durch seine Qualifikationen als Bachelor der Medizinalfachberufe (FH Nordhessen) und Master der Erwachsenenbildung (TU Kaiserslautern) garantiert er ein lehrreiches und handlungsorientiertes Seminar.
URL:https://semifobi.de/seminar/der-befund-ist-fertig-und-jetzt/
CATEGORIES:allgemeine Dysphagie,Neurologie/ Dysphagie
ATTACH;FMTTYPE=image/jpeg:https://semifobi.de/wp-content/uploads/2025/02/Befund-1024-x-568-px-1.jpg
LOCATION:https://semifobi.de/seminar/der-befund-ist-fertig-und-jetzt/
END:VEVENT
END:VCALENDAR