BEGIN:VCALENDAR
VERSION:2.0
PRODID:-//Seminar-und Fortbildungszentrum Rheine - ECPv6.15.20//NONSGML v1.0//EN
CALSCALE:GREGORIAN
METHOD:PUBLISH
X-WR-CALNAME:Seminar-und Fortbildungszentrum Rheine
X-ORIGINAL-URL:https://semifobi.de
X-WR-CALDESC:Veranstaltungen für Seminar-und Fortbildungszentrum Rheine
REFRESH-INTERVAL;VALUE=DURATION:PT1H
X-Robots-Tag:noindex
X-PUBLISHED-TTL:PT1H
BEGIN:VTIMEZONE
TZID:Europe/Berlin
BEGIN:DAYLIGHT
TZOFFSETFROM:+0100
TZOFFSETTO:+0200
TZNAME:CEST
DTSTART:20250330T010000
END:DAYLIGHT
BEGIN:STANDARD
TZOFFSETFROM:+0200
TZOFFSETTO:+0100
TZNAME:CET
DTSTART:20251026T010000
END:STANDARD
BEGIN:DAYLIGHT
TZOFFSETFROM:+0100
TZOFFSETTO:+0200
TZNAME:CEST
DTSTART:20260329T010000
END:DAYLIGHT
BEGIN:STANDARD
TZOFFSETFROM:+0200
TZOFFSETTO:+0100
TZNAME:CET
DTSTART:20261025T010000
END:STANDARD
BEGIN:DAYLIGHT
TZOFFSETFROM:+0100
TZOFFSETTO:+0200
TZNAME:CEST
DTSTART:20270328T010000
END:DAYLIGHT
BEGIN:STANDARD
TZOFFSETFROM:+0200
TZOFFSETTO:+0100
TZNAME:CET
DTSTART:20271031T010000
END:STANDARD
END:VTIMEZONE
BEGIN:VEVENT
DTSTART;TZID=Europe/Berlin:20260505T180000
DTEND;TZID=Europe/Berlin:20260505T203000
DTSTAMP:20260422T074448
CREATED:20250721T083101Z
LAST-MODIFIED:20260407T114958Z
UID:10000372-1778004000-1778013000@semifobi.de
SUMMARY:Pädiatrische Dysphagien – Theorie & Therapie bei Säuglingen und Kindern
DESCRIPTION:Pädiatrische Dysphagien – Theorie & Therapie bei Säuglingen und Kindern\nDu kannst mit diesem Seminar deine Kompetenz bei pädiatrischen Dysphagien gezielt ausbauen und Familien in der Praxis wirkungsvoll unterstützen. Die Inhalte sind praxisnah und direkt umsetzbar für deine Arbeit mit Säuglingen\, Kindern und Angehörigen. \nSchluckstörungen meistern: Praxisnutzen für Ergotherapeut:innen\, Logopäd:innen\, Mediziner:innen und Physiotherapeut:innen\nDie Arbeit mit schwerbehinderten Kindern\, Frühchen und ihren Familien stellt dich vor große Herausforderungen – besonders bei Schluckstörungen. Hier lernst du\, wie du dein Fachwissen optimal weitergibst\, damit Familien die Therapie im Alltag sinnvoll ergänzen. Betroffene Kinder profitieren durch schnellere Fortschritte in Entwicklung\, Ernährung und Wohlbefinden. \nDysphagien bei Babys und Kindern verstehen\nPädiatrische Dysphagien – also Schluckstörungen bei Säuglingen und Kindern – sind bei Frühgeborenen und mehrfachbehinderten Kindern häufig. Das Seminar gibt dir einen kompakten Überblick über „Pädiatrische Dysphagien“: pränatale Entwicklung\, orale Reflexe\, Saugen-Schlucken-Atmen-Koordination sowie Diagnostik und Therapieansätze. Kurze Videos visualisieren alles praxisnah. \nVorbereitende Maßnahmen und Sensibilitätsregulierung anwenden\nDu tauchst ein in vorbereitende Maßnahmen\, Sensibilitätsregulierung\, Muskelaufbau\, Atmungstraining und den Weg zu physiologischer Nahrungsaufnahme. Die Inhalte sind speziell auf pädiatrische Dysphagie bei Säuglingen und Kindern zugeschnitten und erklären die Relevanz jedes Schritts in der Therapie. \n\nTherapiemöglichkeiten erfassen und Familien einbinden\nErfassen der Therapiemöglichkeiten bei pädiatrischer Dysphagie.\nEinblick in Therapieelemente für Babys und Kinder.\nStrategien\, um Familien Wissen praxisnah zu vermitteln.\n\nBettina Genz: Expertin mit Praxis-Fokus seit 2008\nBettina Genz ist seit 2008 Logopädin in eigener Praxis und bietet seit 2010 Fortbildungen zu pädiatrischer Dysphagie an. Als zertifizierte Schlucktherapeutin arbeitet sie mit Frühchen\, Mehrfachbehinderungen und Kö.Be.S. Kids. Ihr Fokus: Hoher Praxisbezug für sofort umsetzbares Wissen. \nDein Praxisgewinn\nDieses Seminar gibt dir einen fundierten und zugleich anwendungsnahen Einstieg in die Arbeit mit pädiatrischen Dysphagien. Du profitierst von einer Dozentin\, die als echte Expertin gilt und ihre langjährige Erfahrung gezielt in praxisrelevante Inhalte übersetzt. So entsteht Fortbildung\, die nicht nur Wissen vermittelt\, sondern deine therapeutische Arbeit mit Säuglingen\, Kindern und ihren Familien spürbar stärkt.
URL:https://semifobi.de/seminar/einfuehrung-in-die-fortbildung-paediatrische-dysphagien-2/
CATEGORIES:allgemeine Dysphagie,Neurologie/ Dysphagie,Pädiatrie,pädiatrische_Dysphagie & Fütter-/ Essstörungen
ATTACH;FMTTYPE=image/jpeg:https://semifobi.de/wp-content/uploads/2025/07/Paediatrische-Dysphagien-1024-x-568-px-1.jpg
LOCATION:https://semifobi.de/seminar/einfuehrung-in-die-fortbildung-paediatrische-dysphagien-2/
END:VEVENT
END:VCALENDAR