BEGIN:VCALENDAR
VERSION:2.0
PRODID:-//Seminar-und Fortbildungszentrum Rheine - ECPv6.15.20//NONSGML v1.0//EN
CALSCALE:GREGORIAN
METHOD:PUBLISH
X-WR-CALNAME:Seminar-und Fortbildungszentrum Rheine
X-ORIGINAL-URL:https://semifobi.de
X-WR-CALDESC:Veranstaltungen für Seminar-und Fortbildungszentrum Rheine
REFRESH-INTERVAL;VALUE=DURATION:PT1H
X-Robots-Tag:noindex
X-PUBLISHED-TTL:PT1H
BEGIN:VTIMEZONE
TZID:Europe/Berlin
BEGIN:DAYLIGHT
TZOFFSETFROM:+0100
TZOFFSETTO:+0200
TZNAME:CEST
DTSTART:20250330T010000
END:DAYLIGHT
BEGIN:STANDARD
TZOFFSETFROM:+0200
TZOFFSETTO:+0100
TZNAME:CET
DTSTART:20251026T010000
END:STANDARD
BEGIN:DAYLIGHT
TZOFFSETFROM:+0100
TZOFFSETTO:+0200
TZNAME:CEST
DTSTART:20260329T010000
END:DAYLIGHT
BEGIN:STANDARD
TZOFFSETFROM:+0200
TZOFFSETTO:+0100
TZNAME:CET
DTSTART:20261025T010000
END:STANDARD
BEGIN:DAYLIGHT
TZOFFSETFROM:+0100
TZOFFSETTO:+0200
TZNAME:CEST
DTSTART:20270328T010000
END:DAYLIGHT
BEGIN:STANDARD
TZOFFSETFROM:+0200
TZOFFSETTO:+0100
TZNAME:CET
DTSTART:20271031T010000
END:STANDARD
END:VTIMEZONE
BEGIN:VEVENT
DTSTART;TZID=Europe/Berlin:20260519T090000
DTEND;TZID=Europe/Berlin:20260519T161500
DTSTAMP:20260423T155723
CREATED:20250507T081601Z
LAST-MODIFIED:20260305T123057Z
UID:10000322-1779181200-1779207300@semifobi.de
SUMMARY:Kognitive Dysphasien – Einteilung\, Diagnostik & Therapie
DESCRIPTION:Stärker in der Praxis: Mehr Sicherheit bei “unklaren” Sprachstörungen\nWenn du in der Sprachtherapie\, Neurorehabilitation oder im pädagogischen Kontext mit Menschen arbeitest\, die “irgendwie sprachlich auffällig” sind\, aber nicht in das Schema einer klassischen Aphasie passen\, ist dieses Seminar genau für dich gemacht. Du gewinnst mehr Sicherheit darin\, Kognitive Dysphasien zu erkennen\, klar von aphasischen Störungen abzugrenzen und darauf aufbauend fundierte\, alltagsnahe Therapieziele zu formulieren. \nWarum Kognitive Dysphasien für deine Arbeit so wichtig sind\nIn vielen klinischen und ambulanten Settings triffst du auf Patient:innen mit Hirnschädigungen\, Demenzen oder Aufmerksamkeits- und Gedächtnisproblemen\, deren Sprache zwar formal weitgehend erhalten wirkt\, die aber im Alltag massiv in ihrer Kommunikationsfähigkeit eingeschränkt sind. Genau hier setzen Kognitive Dysphasien an: Es geht um sprachliche Beeinträchtigungen\, die primär durch Störungen von Aufmerksamkeit\, Gedächtnis\, Exekutivfunktionen oder Wahrnehmung entstehen – und deshalb andere diagnostische Überlegungen und Therapieansätze brauchen als klassische Aphasien. \nDein Nutzen: Störungen erkennen\, einordnen\, sicher behandeln\nIn diesem Seminar lernst du\, typische Symptome Kognitiver Dysphasien zu erkennen\, sie voneinander zu unterscheiden und gegenüber aphasischen Störungsbildern abzugrenzen. Du bekommst Beispiele aus der Praxis\, Fallvignetten und Anhaltspunkte\, wie du deine Beobachtungen systematisch erfasst und daraus eine schlüssige Diagnose ableitest. So kannst du künftig schneller entscheiden\, ob du vor allem an sprachsystemischen Störungen oder eher an kognitiv bedingten Sprachproblemen arbeiten musst – und entsprechend deine Behandlung planen. \nKerninhalte: Einteilung\, Diagnostik\, Abgrenzung und Therapieplanung\nIm Mittelpunkt steht eine praxisnahe Einteilung Kognitiver Dysphasien – zum einen hinsichtlich beeinträchtigter Aufmerksamkeits-\, Gedächtnis-\, Wahrnehmungs- und Exekutivfunktionen\, zum anderen im Hinblick auf häufig vorkommende neurologische Erkrankungen. Diese Einteilung soll dir helfen\, Symptome zu strukturieren und Störungsbilder im klinischen Alltag greifbar zu machen. Du lernst geeignete diagnostische Vorgehensweisen kennen – von Anamnese und Beobachtung über standardisierte und halbstandardisierte Verfahren bis hin zu Screenings – und übst\, daraus differenzierte Befunde abzuleiten. \nAphasie oder Kognitive Dysphasie? Klarer werden in der Differenzialdiagnostik\nEin Schwerpunkt liegt auf der Abgrenzung zu aphasischen Störungen: Du erfährst\, welche Merkmale eher für eine Aphasie sprechen\, wann eine Kognitive Dysphasie im Vordergrund steht und wie Mischbilder eingeschätzt werden können. Anhand typischer Symptome (z. B. Probleme beim Themenhalten\, Planen von Äußerungen\, Merken von Informationen oder flexiblen Perspektivwechseln) entwickelst du Kriterien\, um deine Einschätzung im Team sicher zu vertreten. \nVon der Diagnose zum Ziel: realistische Therapieziele und Methoden\nAuf dieser Basis erarbeitest du realistische therapeutische Ziele – sowohl defizitorientiert (z. B. Verbesserung von Aufmerksamkeitsleistungen\, Handlungsplanung und kognitiver Flexibilität) als auch kompetenzorientiert (Ressourcen nutzen und Kompensationsstrategien aufbauen). Du erhältst konkrete Methoden und Materialien an die Hand\, um: \n\nTherapieeinheiten strukturiert zu planen\,\nkognitive Voraussetzungen für die Kommunikation gezielt anzubahnen\,\nsprachliche Anforderungen an die jeweilige Belastbarkeit anzupassen\,\n\nFür wen dieses Seminar besonders wertvoll ist\nDas Seminar richtet sich an Logopäd:innen\, Sprachtherapeut:innen\, akademische Sprachtherapeut:innen\, Sprechwissenschaftler:innen sowie andere Therapeut:innen\, die im neurologischen\, geriatrischen oder psychiatrischen Bereich arbeiten. Auch Fachkräfte\, die mit Menschen mit erworbenen Hirnschädigungen oder demenziellen Erkrankungen zu tun haben und deren Kommunikationsverhalten besser einordnen möchten\, profitieren von den Inhalten. \nTypische Herausforderungen aus deinem Alltag im Fokus\nBesonders wertvoll ist das Seminar für dich\, wenn du: \n\nhäufig Patient:innen betreust\, die “keine klassische Aphasie” haben\,\nunsicher bist\, wie du ihre Störung benennen\, einordnen und dokumentieren sollst\,\ndir mehr Struktur für Befunderhebung\, Zielsetzung und Therapieplanung wünschst\,\ndein Repertoire an kognitiv orientierten Sprachtherapie-Methoden erweitern möchtest.\n\nDeine Dozentin: ausgewiesene Expertin für Kognitive Dysphasien\nDr. phil. Maria-Dorothea Heidler ist Diplom-Sprechwissenschaftlerin\, Fachtherapeutin für Kognitives Training und Buchautorin zum Thema Kognitive Dysphasien. Sie gilt im deutschsprachigen Raum als ausgewiesene Expertin für Einteilung\, Diagnostik und Therapie dieser Störungsbilder und verbindet wissenschaftliche Fundierung mit langjähriger klinischer Erfahrung. \nPraxisnah lernen: Methoden\, Fälle\, direkte Umsetzung in deinen Alltag\nIm Seminar legt sie großen Wert auf Praxisbezug: Du arbeitest mit Fallbeispielen\, diskutierst typische Herausforderungen aus deinem Berufsalltag und erhältst konkrete\, sofort umsetzbare Anregungen für Diagnostik und Therapie. So nimmst du nicht nur theoretisches Wissen mit\, sondern vor allem Handlungssicherheit für die Arbeit mit deinen Patient:innen\, die an Kognitiven Dysphasien leiden – auch dann\, wenn ihre Probleme auf den ersten Blick “unscheinbar” wirken.
URL:https://semifobi.de/seminar/kognitive-dysphasien-2/
CATEGORIES:Geriatrie/ Demenz/ Palliativ,Neurologie/ Dysphagie
ATTACH;FMTTYPE=image/jpeg:https://semifobi.de/wp-content/uploads/2025/05/Kognitive-Dysphasien-1.jpg
LOCATION:https://semifobi.de/seminar/kognitive-dysphasien-2/
END:VEVENT
END:VCALENDAR