BEGIN:VCALENDAR
VERSION:2.0
PRODID:-//Seminar-und Fortbildungszentrum Rheine - ECPv6.15.20//NONSGML v1.0//EN
CALSCALE:GREGORIAN
METHOD:PUBLISH
X-WR-CALNAME:Seminar-und Fortbildungszentrum Rheine
X-ORIGINAL-URL:https://semifobi.de
X-WR-CALDESC:Veranstaltungen für Seminar-und Fortbildungszentrum Rheine
REFRESH-INTERVAL;VALUE=DURATION:PT1H
X-Robots-Tag:noindex
X-PUBLISHED-TTL:PT1H
BEGIN:VTIMEZONE
TZID:Europe/Berlin
BEGIN:DAYLIGHT
TZOFFSETFROM:+0100
TZOFFSETTO:+0200
TZNAME:CEST
DTSTART:20250330T010000
END:DAYLIGHT
BEGIN:STANDARD
TZOFFSETFROM:+0200
TZOFFSETTO:+0100
TZNAME:CET
DTSTART:20251026T010000
END:STANDARD
BEGIN:DAYLIGHT
TZOFFSETFROM:+0100
TZOFFSETTO:+0200
TZNAME:CEST
DTSTART:20260329T010000
END:DAYLIGHT
BEGIN:STANDARD
TZOFFSETFROM:+0200
TZOFFSETTO:+0100
TZNAME:CET
DTSTART:20261025T010000
END:STANDARD
BEGIN:DAYLIGHT
TZOFFSETFROM:+0100
TZOFFSETTO:+0200
TZNAME:CEST
DTSTART:20270328T010000
END:DAYLIGHT
BEGIN:STANDARD
TZOFFSETFROM:+0200
TZOFFSETTO:+0100
TZNAME:CET
DTSTART:20271031T010000
END:STANDARD
END:VTIMEZONE
BEGIN:VEVENT
DTSTART;TZID=Europe/Berlin:20260608T180000
DTEND;TZID=Europe/Berlin:20260608T211500
DTSTAMP:20260423T155743
CREATED:20250430T072048Z
LAST-MODIFIED:20260410T054808Z
UID:10000305-1780941600-1780953300@semifobi.de
SUMMARY:Selektiver Mutismus in der Schule
DESCRIPTION:Selektiven Mutismus in der Schule sicher verstehen und Kinder kompetent begleiten\nWenn ein Kind in der Schule schweigt\, entstehen schnell Unsicherheit\, Druck und viele offene Fragen. In dieser praxisnahen Fortbildung zum selektiven Mutismus erfährst du\, wie du schweigende Kinder im Schulalltag verstehst\, angemessen begleitest und gemeinsam mit Eltern und Therapie tragfähige Lösungen entwickelst. Der Workshop richtet sich an Lehrkräfte\, schulische Fachkräfte\, pädagogisches Personal und Therapeut:innen\, die mehr Handlungssicherheit im Umgang mit selektiv mutistischen Kindern gewinnen möchten. Du erhältst fundiertes Wissen\, konkrete Strategien für den Schulkontext und praxisnahe Orientierung für schwierige Situationen im Klassenraum. \nWenn Kinder in der Schule nicht sprechen\, braucht es Wissen statt Druck\nSelektiver Mutismus zeigt sich dadurch\, dass Kinder in bestimmten sozialen Situationen\, typischerweise auch in der Schule\, nicht sprechen\, obwohl sie in vertrauten Kontexten sprachlich kompetent sein können. Das Schweigen ist nicht einfach Schüchternheit\, sondern kann den schulischen Alltag\, die soziale Teilhabe und die Leistungsbeurteilung erheblich beeinflussen. Gerade für Lehrkräfte und pädagogische Fachkräfte stellt sich deshalb die Frage\, wie sie hilfreich reagieren können\, ohne zusätzlichen Druck aufzubauen. Wichtig sind ein verstehender Blick auf die Hintergründe\, ein realistischer Umgang mit Erwartungen und eine gute Abstimmung zwischen Schule\, Elternhaus und Therapie. \nPraxiswissen zu selektivem Mutismus im schulischen Kontext\nIm Seminar erhältst du grundlegende Kenntnisse zum selektiven Mutismus und verstehst\, warum Kinder in manchen Situationen sprechen und in anderen verstummen. Dabei wird deutlich\, wie unterschiedlich Ausprägung\, Bedingungshintergrund und Unterstützungsbedarf im Einzelfall sein können. Ein besonderer Schwerpunkt liegt auf den konkreten Fragen aus dem Schulalltag. Dazu gehören unter anderem: \n\nWie du mit dem Schweigen eines Kindes im Unterricht professionell umgehst.\nWas du von einem selektiv mutistischen Kind fordern kannst und wo Vorsicht notwendig ist.\nWie du Fragen von Mitschüler:innen aufgreifst und ob beziehungsweise wie das Thema in der Klasse besprochen werden sollte.\nWie Leistungsbewertung gelingen kann\, wenn mündliche Beteiligung noch nicht möglich ist.\nWelche außerschulischen Maßnahmen unterstützen können und wie Schule und Therapie wirksam zusammenarbeiten.\n\nAnhand von Videobeispielen werden Einblicke in typische Verläufe und therapeutische Prozesse gegeben. Der Fokus der Fortbildung liegt jedoch klar auf alltagsnahen Lösungswegen für Schule\, Unterricht und pädagogische Begleitung. \nDein Nutzen: Mehr Sicherheit im Umgang mit schweigenden Kindern in Schule und Unterricht\nNach der Fortbildung kannst du das Schweigen eines Kindes fachlich besser einordnen und angemessene nächste Schritte ableiten. Du gewinnst mehr Sicherheit darin\, Erwartungen realistisch zu gestalten\, hilfreiche Unterstützung im Klassenkontext umzusetzen und die Grenzen des eigenen Engagements professionell zu reflektieren. Das Seminar ist besonders wertvoll\, weil es nicht bei Theorie stehen bleibt. Du nimmst konkrete Impulse für den Umgang mit selektivem Mutismus in der Schule mit\, die sich direkt in den schulischen oder therapeutischen Alltag übertragen lassen. \nWarum Kerstin Bahrfeck für deine Fortbildung genau die richtige Expertin ist\nDu lernst von jemandem\, die nicht nur theoretisch bestens aufgestellt ist\, sondern das Thema seit vielen Jahren hautnah in Schule\, Therapie und Fortbildung begleitet. Ihre Seminare legen konsequent Wert auf umsetzbaren Praxisbezug – genau das\, was Lehrkräfte\, pädagogisches Fachpersonal und Therapeut:innen im schulischen Alltag brauchen\, um schweigende Kinder sicher und kompetent zu unterstützen. \nDiese Online Semifobis von Kerstin Bahrfeck findest du im Semifobi Jahresprogramm:\n\nSelektiver Mutismus in der Schule – am 08.06.2026\nDortMuT – am 15./ 16.10.2026\nGruppentherapie mit selektiv mutistischen oder sprechängstlichen Jugendlichen am 09.11.2026
URL:https://semifobi.de/seminar/selektiver-mutismus-in-der-schule/
CATEGORIES:Mutismus,Neurodiversität/ Mutismus
ATTACH;FMTTYPE=image/jpeg:https://semifobi.de/wp-content/uploads/2025/04/Selektiver-Mutismus-in-der-Schule-1.jpg
LOCATION:https://semifobi.de/seminar/selektiver-mutismus-in-der-schule/
END:VEVENT
END:VCALENDAR