BEGIN:VCALENDAR
VERSION:2.0
PRODID:-//Seminar-und Fortbildungszentrum Rheine - ECPv6.15.20//NONSGML v1.0//EN
CALSCALE:GREGORIAN
METHOD:PUBLISH
X-ORIGINAL-URL:https://semifobi.de
X-WR-CALDESC:Veranstaltungen für Seminar-und Fortbildungszentrum Rheine
REFRESH-INTERVAL;VALUE=DURATION:PT1H
X-Robots-Tag:noindex
X-PUBLISHED-TTL:PT1H
BEGIN:VTIMEZONE
TZID:Europe/Berlin
BEGIN:DAYLIGHT
TZOFFSETFROM:+0100
TZOFFSETTO:+0200
TZNAME:CEST
DTSTART:20250330T010000
END:DAYLIGHT
BEGIN:STANDARD
TZOFFSETFROM:+0200
TZOFFSETTO:+0100
TZNAME:CET
DTSTART:20251026T010000
END:STANDARD
BEGIN:DAYLIGHT
TZOFFSETFROM:+0100
TZOFFSETTO:+0200
TZNAME:CEST
DTSTART:20260329T010000
END:DAYLIGHT
BEGIN:STANDARD
TZOFFSETFROM:+0200
TZOFFSETTO:+0100
TZNAME:CET
DTSTART:20261025T010000
END:STANDARD
BEGIN:DAYLIGHT
TZOFFSETFROM:+0100
TZOFFSETTO:+0200
TZNAME:CEST
DTSTART:20270328T010000
END:DAYLIGHT
BEGIN:STANDARD
TZOFFSETFROM:+0200
TZOFFSETTO:+0100
TZNAME:CET
DTSTART:20271031T010000
END:STANDARD
END:VTIMEZONE
BEGIN:VEVENT
DTSTART;TZID=Europe/Berlin:20260707T083000
DTEND;TZID=Europe/Berlin:20260707T154500
DTSTAMP:20260424T091529
CREATED:20250728T074413Z
LAST-MODIFIED:20260410T052827Z
UID:10000386-1783413000-1783439100@semifobi.de
SUMMARY:Alltagsrelevante Aphasietherapie – praxisnah und evidenzbasiert
DESCRIPTION:Aphasietherapie auf Aktivitätsebene – Kommunikation im Alltag fördern\nDie Therapie auf Aktivitätsebene spielt in der Aphasietherapie eine zentrale Rolle. Sie stärkt die alltagsrelevante Kommunikationsfähigkeit deiner Patient:innen\, verbessert ihre Lebensqualität und fördert ihre aktive Teilhabe am gesellschaftlichen Leben. Dieses Seminar zeigt dir\, wie du die Diagnostik und Therapie auf der Ebene der kommunikativen Aktivität gezielt einsetzen kannst – praxisnah\, fundiert und sofort anwendbar. \nWarum die Aktivitätsebene in der Aphasietherapie entscheidend ist\nDie ICF-orientierte Aphasietherapie rückt die tatsächliche Kommunikationsleistung in den Mittelpunkt – weg von reinen Sprachfunktionen hin zum kommunikativen Handeln. Du erfährst\, warum die Diagnostik auf der ICF-Aktivitätsebene die Grundlage für wirksame Therapieziele bildet und wie sie dich dabei unterstützt\, Menschen mit Aphasie in ihrem Alltag wirklich weiterzubringen. \nPraxisnahe Diagnostik: ANELT\, KOPS und alltagsnahe Fragebögen\nIm Seminar stellst du wichtige Diagnostikinstrumente vor und erprobst sie praktisch: \n\nANELT (Aachener Test zur Erfassung kommunikativer Leistungen)\nKOPS (Kommunikativ-pragmatisches Screening für Patienten mit Aphasie)\nFragebögen zur subjektiven und fremdeingeschätzten Kommunikationsfähigkeit\n\nDu lernst\, wie du mit diesen Tools alltagsrelevante Kommunikationsprofile erstellst und daraus individuelle Therapieziele ableitest\, die deine Patient:innen motivieren und fördern. \nEvidenzbasierte Aphasietherapie: CIAT\, PACE und AOT in der Praxis\nIm Therapieteil lernst du evidenzbasierte Ansätze kennen\, die sich in der modernen Aphasietherapie bewährt haben: \n\nCIAT (Constraint-Induced Aphasia Therapy) – intensive\, sprechfokussierte Übungsmethoden\nPACE (Promoting Aphasics’ Communicative Effectiveness) – dialogorientierte Kommunikation auf Augenhöhe\nAOT (Alltagsorientierte Therapie) – funktionale Übungsansätze für echte Lebenssituationen\n\nDarüber hinaus erhältst du wertvolle Impulse zu Gruppentherapie\, Angehörigenarbeit und Unterstützter Kommunikation\, um den Therapieerfolg langfristig zu stabilisieren. \nDein Nutzen: alltagsnahe\, evidenzbasierte Therapie für mehr Teilhabe\nNach dem Seminar kannst du die Diagnostik und Therapie auf der Aktivitätsebene gezielt einsetzen. Du entwickelst realistische\, alltagsnahe Ziele und gestaltest die Behandlung deiner Patient:innen so\, dass sie im Alltag spürbare Kommunikationsfortschritte erleben. Damit stärkst du nicht nur ihre Selbstwirksamkeit\, sondern auch deine therapeutische Kompetenz. \nExpertin mit Praxisnähe: Dr. Gabriela Barthel\nDr. Gabriela Barthel ist ausgewiesene Expertin für alltagsrelevante Aphasietherapie. Sie vereint wissenschaftliche Fundierung\, klinische Erfahrung und pädagogisches Geschick. Kolleg:innen schätzen ihre Fähigkeit\, komplexe neurolinguistische Modelle verständlich und praxisnah zu vermitteln – so\, dass du das Gelernte am nächsten Tag sofort umsetzen kannst. Dr. Barthel lehrt an der Akademie für Gesundheitsberufe des Universitätsklinikums Ulm und ist seit vielen Jahren gefragte Referentin für praxisnahe Fortbildungen in der neurologischen Logopädie. Zudem ist sie seit 20 Jahren selbstständig  in eigener Praxis und bringt somit viel praktische Erfahrung mit.
URL:https://semifobi.de/seminar/alltagsrelevante-aphasietherapie-praxisnah-und-evidenzbasiert/
CATEGORIES:Neurologie/ Dysphagie,neurologische Sprachstörung/ Apraxie
ATTACH;FMTTYPE=image/jpeg:https://semifobi.de/wp-content/uploads/2025/07/Diagnostik-in-der-Aphasietherapie-1.jpg
LOCATION:https://semifobi.de/seminar/alltagsrelevante-aphasietherapie-praxisnah-und-evidenzbasiert/
END:VEVENT
END:VCALENDAR