BEGIN:VCALENDAR
VERSION:2.0
PRODID:-//Seminar-und Fortbildungszentrum Rheine - ECPv6.15.20//NONSGML v1.0//EN
CALSCALE:GREGORIAN
METHOD:PUBLISH
X-ORIGINAL-URL:https://semifobi.de
X-WR-CALDESC:Veranstaltungen für Seminar-und Fortbildungszentrum Rheine
REFRESH-INTERVAL;VALUE=DURATION:PT1H
X-Robots-Tag:noindex
X-PUBLISHED-TTL:PT1H
BEGIN:VTIMEZONE
TZID:Europe/Berlin
BEGIN:DAYLIGHT
TZOFFSETFROM:+0100
TZOFFSETTO:+0200
TZNAME:CEST
DTSTART:20250330T010000
END:DAYLIGHT
BEGIN:STANDARD
TZOFFSETFROM:+0200
TZOFFSETTO:+0100
TZNAME:CET
DTSTART:20251026T010000
END:STANDARD
BEGIN:DAYLIGHT
TZOFFSETFROM:+0100
TZOFFSETTO:+0200
TZNAME:CEST
DTSTART:20260329T010000
END:DAYLIGHT
BEGIN:STANDARD
TZOFFSETFROM:+0200
TZOFFSETTO:+0100
TZNAME:CET
DTSTART:20261025T010000
END:STANDARD
BEGIN:DAYLIGHT
TZOFFSETFROM:+0100
TZOFFSETTO:+0200
TZNAME:CEST
DTSTART:20270328T010000
END:DAYLIGHT
BEGIN:STANDARD
TZOFFSETFROM:+0200
TZOFFSETTO:+0100
TZNAME:CET
DTSTART:20271031T010000
END:STANDARD
END:VTIMEZONE
BEGIN:VEVENT
DTSTART;TZID=Europe/Berlin:20260711T090000
DTEND;TZID=Europe/Berlin:20260711T163000
DTSTAMP:20260424T051403
CREATED:20250918T082631Z
LAST-MODIFIED:20250918T092326Z
UID:10000423-1783760400-1783787400@semifobi.de
SUMMARY:Erste Hilfe am Kind – Grund- und Auffrischungskurs
DESCRIPTION:Schnelles und sicheres Handeln kann im Notfall Leben retten. Deshalb schreibt die Landesunfallkasse Nordrhein-Westfalen vor\, dass jede Kindertagespflegeperson sowie jede pädagogische Fachkraft in Kindertageseinrichtungen in Erster Hilfe am Kind geschult sein muss.\nDieses Seminar vermittelt die notwendigen Kenntnisse und praktischen Fertigkeiten\, um im Falle von Unfällen oder akuten Kindernotfällen angemessen reagieren zu können. Die Teilnehmenden lernen typische Gefahrensituationen im Alltag zu erkennen\, Erste-Hilfe-Maßnahmen sicher umzusetzen und gewinnen Handlungssicherheit für ihre Rolle als Ersthelfende.\nInhalte: \n\nGrundlagen der Ersten Hilfe bei Kindern und Säuglingen\nErkennen und Einschätzen von Kindernotfällen\nMaßnahmen bei Verletzungen\, Atemnot\, Vergiftungen und Bewusstlosigkeit\nPraktisches Einüben lebensrettender Sofortmaßnahmen\nPrävention von Unfällen im pädagogischen Alltag\nRolle und Aufgaben von Ersthelfenden\n\nHinweise: \n\nGutscheine für die Teilnahme können bei der zuständigen Fachberatung Kindertagespflege beantragt werden.\nEine Auffrischung der Kenntnisse ist für Kindertagespflegepersonen sowie Erzieher:innen alle zwei Jahre verpflichtend.\n\nDieses Seminar richtet sich an Kindertagespflegepersonen und pädagogische Fachkräfte\, die ihre Kenntnisse in Erster Hilfe am Kind erwerben oder auffrischen möchten. \n**** Achtung\, dieses Seminar wird von unserem Kooperationspartner jfd im Bürgerhof Rheine ausgerichtet. Über den Button Anmelden gelangen Sie direkt zur Anmeldeseite. ****
URL:https://semifobi.de/seminar/erste-hilfe-am-kind-grund-und-auffrischungskurs-5/
LOCATION:Bürgerhof Rheine\, Lingener Damm 17\, Rheine\, 48432\, Deutschland
CATEGORIES:Gesprächsführung,Logopädie Interdisziplinär,Pädagogik & Logo,Sonstige Therapieunterstützung,Therapie-Unterstützung
ATTACH;FMTTYPE=image/jpeg:https://semifobi.de/wp-content/uploads/2025/09/Erste-Hilfe-am-Kind.jpg
END:VEVENT
BEGIN:VEVENT
DTSTART;TZID=Europe/Berlin:20260711T100000
DTEND;TZID=Europe/Berlin:20260711T173000
DTSTAMP:20260424T051403
CREATED:20251031T075848Z
LAST-MODIFIED:20260409T132902Z
UID:10000445-1783764000-1783791000@semifobi.de
SUMMARY:DTTC-Linz - Evidenzbaiserte Therapie bei kindlicher Sprechapraxie
DESCRIPTION:Warum klappt’s jetzt plötzlich besser? – DTTC-Linz verstehen und einsetzen\nDieses eintägige Grundlagen-Seminar bringt dich auf das nächste Level\, wenn du Kinder mit kindlicher Sprechapraxie wirklich wirksam unterstützen willst. DTTC-Linz ist mehr als nur eine Methode – es ist ein evidenzbasiertes Konzept\, das gezielt dort ansetzt\, wo herkömmliche Therapien oft ins Leere laufen.\nIm Seminar tauchst du tief in die Prinzipien des motorischen Lernens ein und erfährst\, warum genau diese Herangehensweise bei Sprechapraxie so entscheidend ist. Du lernst\, wie alltagsnahe\, motivierende Ziele definiert werden und wie du Kind\, Eltern und Umfeld von Anfang an aktiv einbeziehst\, damit Kommunikation Schritt für Schritt wirklich Alltag wird. Anhand von praktischen Fallbeispielen und authentischen Therapiesituationen wirst du Schritt für Schritt an die Umsetzung von DTTC-Linz herangeführt. Du bekommst fundierte Erklärungen\, erprobte Strategien für jede Therapiesequenz und viele praktische Tipps – damit aus Theorie gelebte Praxis wird. Im Fokus steht immer: Wie animierst du Kinder\, die Therapie engagiert mitzugestalten\, auch wenn sie sich bislang zurückgezogen haben? \nGerade Kinder mit kindlicher Sprechapraxie reagieren häufig zurückhaltend\, verweigern Mitarbeit und ziehen sich zurück – eine Herausforderung\, die viele Therapeut*innen kennen. Mit DTTC-Linz erhältst du ein evidenzbasiertes Konzept\, das in deutschsprachigen Regionen noch wenig bekannt ist und neue Möglichkeiten für deinen beruflichen Alltag eröffnet. „Dynamic Temporal and Tactile Cueing (DTTC)-Linz“ bietet dir einen echten Praxisnutzen\, denn es zeigt dir einen Weg auf\, wie du gezielt mit Kindern arbeitest\, die von herkömmlichen Therapien nicht profitieren. Möglicherweise ist es als Integrale Stimulation schon bekannt\, die genaue Umsetzung jedoch noch unklar. \nFachkompetenz und praktische Erfahrung aus erster Hand\nGeleitet wird das Seminar von Sabine Leonhartsberger\, Logopädin und Linguistin in Linz. Als therapeutische Leiterin am Sprachtherapiezentrum des Konventhospitals Barmherzige Brüder in Linz arbeitet sie tagtäglich mit Kindern\, die schwere Kommunikationsstörungen haben. Ihre besondere Expertise ist die Behandlung der kindlichen Sprechapraxie. Mit ihrem Mix aus wissenschaftlicher Tiefe und praxisnaher Erfahrung wird dieses Fortbildung echten Mehrwert für deine Arbeit haben. \nMehr als Theorie – DTTC-Linz so erklärt\, dass Sie’s sofort anwenden können\nAm Tagesende nimmst du nicht nur das Verständnis für die Methode mit – sondern sofort umsetzbare Werkzeuge\, neue Perspektiven und persönliche Antworten auf Ihre eigenen Fragen zur Therapie kindlicher Sprechapraxie.Das Seminar eignet sich für Therapeut*innen\, die schon erste Erfahrungen mit Kindern mit Sprechapraxie oder VED gesammelt haben und jetzt ihr Wissen vertiefen und professionalisieren möchten. \n2026 bieten wir auch den DTTC-Linz Refresher an am 18.11.2026: Refresher (3 UE) 
URL:https://semifobi.de/seminar/dttc-linz-evidenzbaiserte-therapie-bei-kindlicher-sprechapraxie/
LOCATION:TAT Rheine\, Hovesaatstraße 6\, Rheine\, 48432\, Deutschland
CATEGORIES:Pädiatrie,Verbale Entwicklungsdyspraxie/ Sprechapraxie
ATTACH;FMTTYPE=image/jpeg:https://semifobi.de/wp-content/uploads/2025/10/DTTC-Einfuehrung-1.jpg
END:VEVENT
BEGIN:VEVENT
DTSTART;TZID=Europe/Berlin:20260711T100000
DTEND;TZID=Europe/Berlin:20260712T170000
DTSTAMP:20260424T051403
CREATED:20241115T092247Z
LAST-MODIFIED:20260309T131802Z
UID:10000182-1783764000-1783875600@semifobi.de
SUMMARY:Befreiung der natürlichen Stimme nach Prof. Kristin Linklater - eine Einführung
DESCRIPTION:„Befreiung der natürlichen Stimme” nach Prof. Kristin Linklater – eine Einführung\nMöglichkeiten dieser Stimmarbeit in der Stimmtherapie\nDieses Fortbildungsseminar führt durch die aufeinander aufbauenden Schritte der Stimmarbeit nach Prof. Kristin Linklater: Über das Lösen von Spannungen und Blockanden im ganzen Körper und insbesondere im Vokaltrakt wird die sensorische Wahrnehmung der Stimme aufgebaut. \nDie Arbeit an den Resonanzräumen und der Atemkapazität unterstützt die Weiterentwicklung der Stimme. Der Stimmumfang wird erweitert\, Freiheit und Belastbarkeit im stimmlichen Ausdruck werden möglich. Damit ist diese ursprünglich aus der Ausbildung für Schauspieler:Innen entwickelte Methode auch für die Stimmtherapie wertvoll. Mit den Teilnehmenden dieses Seminars werden „Übungs-Bausteine“ erarbeitet\, die sich besonders für ihre individuelle Stimmarbeit mit Patienten eignen.
URL:https://semifobi.de/seminar/befreiung-der-natuerlichen-stimme-nach-prof-kristin-linklater-eine-einfuehrung/
LOCATION:TAT Rheine\, Hovesaatstraße 6\, Rheine\, 48432\, Deutschland
CATEGORIES:Stimme & Stimmklang,Stimmtraining
ATTACH;FMTTYPE=image/jpeg:https://semifobi.de/wp-content/uploads/2024/11/Befreiung-der-natuerlichen-Stimme.jpg
END:VEVENT
END:VCALENDAR