BEGIN:VCALENDAR
VERSION:2.0
PRODID:-//Seminar-und Fortbildungszentrum Rheine - ECPv6.15.20//NONSGML v1.0//EN
CALSCALE:GREGORIAN
METHOD:PUBLISH
X-WR-CALNAME:Seminar-und Fortbildungszentrum Rheine
X-ORIGINAL-URL:https://semifobi.de
X-WR-CALDESC:Veranstaltungen für Seminar-und Fortbildungszentrum Rheine
REFRESH-INTERVAL;VALUE=DURATION:PT1H
X-Robots-Tag:noindex
X-PUBLISHED-TTL:PT1H
BEGIN:VTIMEZONE
TZID:Europe/Berlin
BEGIN:DAYLIGHT
TZOFFSETFROM:+0100
TZOFFSETTO:+0200
TZNAME:CEST
DTSTART:20250330T010000
END:DAYLIGHT
BEGIN:STANDARD
TZOFFSETFROM:+0200
TZOFFSETTO:+0100
TZNAME:CET
DTSTART:20251026T010000
END:STANDARD
BEGIN:DAYLIGHT
TZOFFSETFROM:+0100
TZOFFSETTO:+0200
TZNAME:CEST
DTSTART:20260329T010000
END:DAYLIGHT
BEGIN:STANDARD
TZOFFSETFROM:+0200
TZOFFSETTO:+0100
TZNAME:CET
DTSTART:20261025T010000
END:STANDARD
BEGIN:DAYLIGHT
TZOFFSETFROM:+0100
TZOFFSETTO:+0200
TZNAME:CEST
DTSTART:20270328T010000
END:DAYLIGHT
BEGIN:STANDARD
TZOFFSETFROM:+0200
TZOFFSETTO:+0100
TZNAME:CET
DTSTART:20271031T010000
END:STANDARD
END:VTIMEZONE
BEGIN:VEVENT
DTSTART;TZID=Europe/Berlin:20260901T180000
DTEND;TZID=Europe/Berlin:20260901T211500
DTSTAMP:20260424T093631
CREATED:20260213T105455Z
LAST-MODIFIED:20260306T104114Z
UID:10000478-1788285600-1788297300@semifobi.de
SUMMARY:Das restriktive Zungenband - Kleines Band\, große Auswirkungen!
DESCRIPTION:Das restriktive Zungenband und seine Auswirkungen auf die orofazialen Strukturen und Funktionen hat in den letzten Jahren vermehrte Aufmerksamkeit in unterschiedlichen medizinischen Disziplinen erhalten. Zu Recht!\nAufgrund seiner Anatomie und seiner engen funktionellen Verknüpfung\, auch mit dem Zungenbein\, hat es Einfluss auf Haltung\, Atmung\, Stimme\, Sprechen\, Saugen\, Kauen und Schlucken. Deshalb sollte es auch von LogopädInnen und SprachtherapeutInnen in den Fokus genommen werden\, um bei Verdacht auf ein funktionseinschränkendes kurzes Zungenbandes adäquate Therapieschritte einleiten zu können.\nDas Webinar gibt einen kurzen Überblick über Anatomie\, Prävalenz\, Symptome\, Diagnostik und Behandlung eines zu kurzen Zungenbandes\, auch anhand von Fallbeispielen aus der logopädischen Praxis.
URL:https://semifobi.de/seminar/das-restriktive-zungenband-kleines-band-grosse-auswirkungen/
CATEGORIES:Frenotomie/ Zungenband,MFS/ OFD,MFS/ OFD/ Zungenband
ATTACH;FMTTYPE=image/jpeg:https://semifobi.de/wp-content/uploads/2026/02/Kopie-von-Kopie-von-SZET-Konzept-Schlucken-und-Zungenruhelage-Effizient-Therapieren-1000-x-627-px-1024-x-568-px-1-1.jpg
LOCATION:https://semifobi.de/seminar/das-restriktive-zungenband-kleines-band-grosse-auswirkungen/
END:VEVENT
END:VCALENDAR