BEGIN:VCALENDAR
VERSION:2.0
PRODID:-//Seminar-und Fortbildungszentrum Rheine - ECPv6.15.20//NONSGML v1.0//EN
CALSCALE:GREGORIAN
METHOD:PUBLISH
X-WR-CALNAME:Seminar-und Fortbildungszentrum Rheine
X-ORIGINAL-URL:https://semifobi.de
X-WR-CALDESC:Veranstaltungen für Seminar-und Fortbildungszentrum Rheine
REFRESH-INTERVAL;VALUE=DURATION:PT1H
X-Robots-Tag:noindex
X-PUBLISHED-TTL:PT1H
BEGIN:VTIMEZONE
TZID:Europe/Berlin
BEGIN:DAYLIGHT
TZOFFSETFROM:+0100
TZOFFSETTO:+0200
TZNAME:CEST
DTSTART:20250330T010000
END:DAYLIGHT
BEGIN:STANDARD
TZOFFSETFROM:+0200
TZOFFSETTO:+0100
TZNAME:CET
DTSTART:20251026T010000
END:STANDARD
BEGIN:DAYLIGHT
TZOFFSETFROM:+0100
TZOFFSETTO:+0200
TZNAME:CEST
DTSTART:20260329T010000
END:DAYLIGHT
BEGIN:STANDARD
TZOFFSETFROM:+0200
TZOFFSETTO:+0100
TZNAME:CET
DTSTART:20261025T010000
END:STANDARD
BEGIN:DAYLIGHT
TZOFFSETFROM:+0100
TZOFFSETTO:+0200
TZNAME:CEST
DTSTART:20270328T010000
END:DAYLIGHT
BEGIN:STANDARD
TZOFFSETFROM:+0200
TZOFFSETTO:+0100
TZNAME:CET
DTSTART:20271031T010000
END:STANDARD
END:VTIMEZONE
BEGIN:VEVENT
DTSTART;TZID=Europe/Berlin:20260904T090000
DTEND;TZID=Europe/Berlin:20260905T140000
DTSTAMP:20260424T063650
CREATED:20250604T085528Z
LAST-MODIFIED:20260226T122434Z
UID:10000330-1788512400-1788616800@semifobi.de
SUMMARY:Sprachentwicklung bei Schädelasymmetrie (KISS) in der Logopädie nach dem Physiopathischen Stimmkonzept nach Reinhard Wolf®
DESCRIPTION:Ganzheitlicher Behandlungsansatz bei Schädelasymmetrien (KISS) und Entwicklungsverzögerungen mit logopädischem Schwerpunkt\nVerzögerungen in der kindlichen Sprachentwicklung sind oft die direkte Folge einer unbehandelten Schädelasymmetrie\, dem sogenannten KISS-Syndrom. KISS steht hier für die Kopfgelenk-induzierte Symmetrie-Störung\, in der Regel durch Geburtstraumata\, die in der pädiatrischen Praxis einen relevanten Risikofaktor für die altersgerechte frühkindliche Entwicklung darstellt. Die Fehlstellung hat teils massive Auswirkungen\, von Schlafstörungen mit Schrei-Attacken\, Schluckstörungen\, motorischer Unruhe\, Artikulationsproblemen bis hin zu Einschränkungen im Spracherwerb. Unbehandelt können Fehlstellungen im Kopfgelenkbereich zu Lese-Rechtschreibschwäche\, Konzentrations- und Verhaltensstörungen führen. Eine frühe Intervention kann diesen Problemen vorbeugen. \nDieses Seminar verbindet neueste Forschung zu Suturen und Schädelphysiologie mit Alltagsanwendungen in der Logopädie – praxisorientiert und evidenzbasiert.\nWer Symptome und Kausalketten erkennt\, ist in der Lage\, nicht nur die Symptome\, sondern auch die Ursache von kindlichen Entwicklungsverzögerungen ganzheitlich und nachhaltig zu behandeln. Dieses Seminar vermittelt dir\, was du brauchst\, um interdisziplinär zu wirken – von der Anamnese bis zur Nachsorge.\nGerade in der Logopädie ist das Wissen um KISS zentral\, bietet neue Behandlungsansätze vermeidet Fehltherapien und verbessert deine Behandlungsergebnisse. Dieses Seminar vermittelt dir\, was du brauchst\, um interdisziplinär zu wirken – von der Anamnese bis zur Nachsorge. \nIn diesem praxisnahen KISS Seminar lernst du\, wie Schädelasymmetrien (KISS) die Sprachentwicklung beeinflussen und wie du sie manuell behandelst\nDu lernst Anatomie und Physiologie der Schädelknochen mit Suturen\, Befundung via Anamnese\, Inspektion und Palpation sowie gezielte Behandlungen wie Mobilisation der Knochen\, Handling-Techniken und craniosakrale Ansätze. Es werden Symptome (z. B. Asymmetrien im Gesicht\, Augen\, Ohren\, Mund)\, Risikofaktoren\, Indikationen\, Kontraindikationen sowie Fallbeispiele mit Fotos und Videos durchgenommen\, um Schrei-\, Spuck- und Schluckprobleme differenziert zu lösen. \nErhalte sofort einsetzbare Techniken: Löse Sprachstörungen durch KISS mit Mobilisation\, craniosakralen Ansätzen und Handling – einsetzbar bei Kindern mit Schiefhals\, Spuckproblemen oder ADHS-Symptomen. \nDas KISS-Seminar beleuchtet die Relevanz von Schädelasymmetrien für die Sprachentwicklung bei Babys und Kleinkindern\nDu tauchst tief in die Materie ein: \n\nAnatomie & Physiologie: Schädelknochen\, Suturen\, Faszialnerven und ihr Einfluss auf Sprache\, Atmung und Schlucken\nBefundungstechniken: Systematische Anamnese\, Inspektion (Gesicht\, Augen\, Ohren\, Mund)\, Palpation von KISS-Indikatoren wie Hypermobilität oder Blockaden\nBehandlungsmethoden: Manuelle Korrekturen\, Osteopathische Logopädie-Techniken\, Übungen gegen Spannungen – inklusive Videos und Fallbeispiele\nRisikofaktoren & Differentialdiagnosen: Von Geburtskomplikationen bis Kontraindikationen wie Frakturen\n\nJeder Inhalt ist so gestaltet\, dass du ihn direkt replizierst – mit Fokus auf KISS-Behandlung in der Logopädie. \nWer ist Reinhard Wolf? Dein Experte für Praxisnähe\nReinhard Wolf ist nicht nur Physiotherapeut\, Osteopath und Kinderosteopath\, sondern ein Pionier in der Pädiatrie und Neurologie. Mit jahrzehntelanger Erfahrung in der Behandlung von Babys und Kleinkindern legt er höchsten Wert auf praxisbezogene Techniken\, die funktionieren – keine Theorie\, sondern Hands-on! Seine Seminare sind legendär für die hohe Erfolgsquote und die Leidenschaft\, mit der er sein Wissen weitergibt. Als Dozent beim Seminar- und Fortbildungszentrum Rheine (Semifobi) bildet er Tausende aus und teilt reale Fälle aus seiner Praxis. \nFAQs: Häufige Fragen zum KISS-Logopädie-Seminar\nSind Vorkenntnisse nötig? Kenntnisse der Schädelanatomie sind hilfreich. Grundkenntnisse in Logopädie reichen – alles wird praxisnah aufgebaut.\nZertifikat? Ja\, anerkannt für Fortbildungspunkte in Logopädie und Physiotherapie.\nZielgruppe? Logopädinnen\, Ergotherapeuten\, Hebammen\, Pädagogen – alle mit Kinderkontakt. \n2026 bieten wir diese Semifobis mit Reinhard Wolf an\n\nFaszientechniken in der Logo-Praxis nach dem Physiopathischen Stimmkonzept nach Reinhard Wolf®\nAtlasbehandlung in der Logopädie mit dem Physiopathischen Stimmkonzept nach Reinhard Wolf®\nGesichtslymphdrainage für Logopäd:innen nach dem Physiopathischen Stimmkonzept nach Reinhard Wolf®\nSprachentwicklung bei Schädelasymmetrie (KISS) in der Logopädie nach dem Physiopathischen Stimmkonzept nach Reinhard Wolf®\nBehandlung bei M. Parkinson\nKiefergelenk-Kurs (CMD/TMD)
URL:https://semifobi.de/seminar/sprachentwicklung-bei-schaedelasymmetrie-kiss-in-der-logopaedie/
LOCATION:TAT Rheine\, Hovesaatstraße 6\, Rheine\, 48432\, Deutschland
CATEGORIES:Ergo & Logo,Logopädie Interdisziplinär,Osteopathie & Logo,Pädiatrie,Sonstige Therapieunterstützung,Sprachentwicklung/ Grammatik/ Wortschatz,Therapie-Unterstützung
ATTACH;FMTTYPE=image/jpeg:https://semifobi.de/wp-content/uploads/2025/06/Kopie-von-Atlasbehandlung-2-1.jpg
END:VEVENT
BEGIN:VEVENT
DTSTART;TZID=Europe/Berlin:20260904T090000
DTEND;TZID=Europe/Berlin:20260905T160000
DTSTAMP:20260424T063650
CREATED:20250429T091018Z
LAST-MODIFIED:20251213T140503Z
UID:10000299-1788512400-1788624000@semifobi.de
SUMMARY:Neuro 360° - ALS\, MS & Parkinson in der Logopädie
DESCRIPTION:Das Seminar zeigt auf\, wie eine logopädische Therapie in einem neurodegenerativen bis hin zu sogar palliativen Setting\, bereichernd und für den Patienten wirklich hilfreich sein kann. Es zeigt zahlreiche Möglichkeiten einer sinnvollen und vor allem patientenorientierten Therapieplanung auf und kommt mit jeder Menge Praxis daher.\nDie Teilnehmer*innen nähern sich drei großen neurologischen Krankheitsbildern in der Logopädie aus einer sehr patientennahen Sicht. Sie bekommen außerdem konkrete Tools an die Hand\, um Verläufe im Hinblick auf die Therapieplanung besser beobachten zu können wie die ALS-FRS Uhr oder auch den ReAkt Befundbogen.
URL:https://semifobi.de/seminar/neuro-360-als-ms-parkinson-in-der-logopaedie/
CATEGORIES:allgemeine Dysphagie,Geriatrie/ Demenz/ Palliativ,Neurologie/ Dysphagie,neurologische Sprachstörung/ Apraxie
ATTACH;FMTTYPE=image/jpeg:https://semifobi.de/wp-content/uploads/2025/05/Neuro-360°-–-ALS-MS-Parkinson-in-der-Logopaedie.jpg
LOCATION:https://semifobi.de/seminar/neuro-360-als-ms-parkinson-in-der-logopaedie/
END:VEVENT
BEGIN:VEVENT
DTSTART;TZID=Europe/Berlin:20260904T150000
DTEND;TZID=Europe/Berlin:20260906T140000
DTSTAMP:20260424T063650
CREATED:20250623T095817Z
LAST-MODIFIED:20250623T095817Z
UID:10000342-1788534000-1788703200@semifobi.de
SUMMARY:Manuelle Schlucktherapie II
DESCRIPTION:In der Manuellen Schlucktherapie verbindet sich das Vorgehen aus der NAP® mit den sequentiellen Betrachtungen von Schlucken und Atmung und ihre Koordination aus der Facio-Oralen Trakt Therapie (F.O.T.T.®).\nDieses Vorgehen ist ebenso erfolgreich anwendbar bei Patienten mit Sprech- und Stimmstörungen zentraler und peripher Genese\, u.a. bei myofunktionellen Störungen. Ziel dieser drei- moduligen Kursreihe ist\, die Bedeutung der posturalen Kontrolle für das Schlucken zu verstehen. \nNach Verletzungen und Erkrankungen kommt es zu limbisch gesteuerten und vegetativ generierten Schutzprogrammen\, die mit Steifigkeit der am Sprechen\, Kauen und Schlucken und vor allem an der Atmung beteiligten Muskulatur einhergehen. Auch die Faszien verlieren Elastizität\, was zu einer verminderten Gleitfähigkeit der Nerven führt.
URL:https://semifobi.de/seminar/manuelle-schlucktherapie-ii-2/
LOCATION:TAT Rheine\, Hovesaatstraße 6\, Rheine\, 48432\, Deutschland
CATEGORIES:allgemeine Dysphagie,Neurologie/ Dysphagie,Stimme & Stimmklang,Stimmstörung
ATTACH;FMTTYPE=image/jpeg:https://semifobi.de/wp-content/uploads/2024/11/Manuelle-Schlucktherapie-II.jpg
END:VEVENT
END:VCALENDAR