BEGIN:VCALENDAR
VERSION:2.0
PRODID:-//Seminar-und Fortbildungszentrum Rheine - ECPv6.15.20//NONSGML v1.0//EN
CALSCALE:GREGORIAN
METHOD:PUBLISH
X-WR-CALNAME:Seminar-und Fortbildungszentrum Rheine
X-ORIGINAL-URL:https://semifobi.de
X-WR-CALDESC:Veranstaltungen für Seminar-und Fortbildungszentrum Rheine
REFRESH-INTERVAL;VALUE=DURATION:PT1H
X-Robots-Tag:noindex
X-PUBLISHED-TTL:PT1H
BEGIN:VTIMEZONE
TZID:Europe/Berlin
BEGIN:DAYLIGHT
TZOFFSETFROM:+0100
TZOFFSETTO:+0200
TZNAME:CEST
DTSTART:20250330T010000
END:DAYLIGHT
BEGIN:STANDARD
TZOFFSETFROM:+0200
TZOFFSETTO:+0100
TZNAME:CET
DTSTART:20251026T010000
END:STANDARD
BEGIN:DAYLIGHT
TZOFFSETFROM:+0100
TZOFFSETTO:+0200
TZNAME:CEST
DTSTART:20260329T010000
END:DAYLIGHT
BEGIN:STANDARD
TZOFFSETFROM:+0200
TZOFFSETTO:+0100
TZNAME:CET
DTSTART:20261025T010000
END:STANDARD
BEGIN:DAYLIGHT
TZOFFSETFROM:+0100
TZOFFSETTO:+0200
TZNAME:CEST
DTSTART:20270328T010000
END:DAYLIGHT
BEGIN:STANDARD
TZOFFSETFROM:+0200
TZOFFSETTO:+0100
TZNAME:CET
DTSTART:20271031T010000
END:STANDARD
END:VTIMEZONE
BEGIN:VEVENT
DTSTART;TZID=Europe/Berlin:20260911T090000
DTEND;TZID=Europe/Berlin:20260913T153000
DTSTAMP:20260424T163414
CREATED:20250818T063932Z
LAST-MODIFIED:20251213T140729Z
UID:10000393-1789117200-1789313400@semifobi.de
SUMMARY:SZET Konzept Schlucken und Zungenruhelage Effizient Therapieren
DESCRIPTION:Im SZET-Seminar wird ausführlich gezeigt und in Kleingruppen ausprobiert\, wie mit Patienten in wenigen Minuten die physiologische Zungenruhelage und das adulte Schluckmuster erarbeitet werden kann.\nSZET ist das Therapiekonzept zur Behandlung myofunktioneller Störungen (MFS)\, das gänzlich ohne mundmotorische Übungen auskommt und den sehr häufig vernachlässigten Therapiebereich Habits in all seinen Facetten konsequent diagnostiziert und therapiert.\nDas Vorgehen orientiert sich ohne Umwege direkt an den physiologischen Abläufen\, die schließlich am Ende einer erfolgreichen myofunktionellen Therapie stehen sollen – die physiologische Zungenruhelage und das adulte Schlucken. Genau deshalb wird ausschließlich daran ab der 1. Therapieeinheit gezielt gearbeitet. Gleichzeitig werden die anstelle der Zungenruhelage und in allen willkürlichen Phasen des Schluckens auftauchenden Habits erkannt und konsequent abtrainiert\, um die Habitualisierung der neuen Bewegungsabläufe zu gewährleisten. Die bei vielen Therapeutinnen und Therapeuten unbeliebten Mundmotorikübungen (ohne oder mit Hilfsmitteln wie Spatel\, Ringchen\, Kauschläuchen oder Therapiesaugern) entfallen\, da Ihre Patienten diese mit dem SZET-Konzept gar nicht mehr benötigen.
URL:https://semifobi.de/seminar/szet-konzept-schlucken-und-zungenruhelage-effizient-therapieren-5/
CATEGORIES:MFS/ OFD,MFS/ OFD/ Zungenband
ATTACH;FMTTYPE=image/jpeg:https://semifobi.de/wp-content/uploads/2025/08/SZET-Konzept-Schlucken-und-Zungenruhelage-Effizient-Therapieren.jpg
LOCATION:https://semifobi.de/seminar/szet-konzept-schlucken-und-zungenruhelage-effizient-therapieren-5/
END:VEVENT
BEGIN:VEVENT
DTSTART;TZID=Europe/Berlin:20260911T100000
DTEND;TZID=Europe/Berlin:20260912T163000
DTSTAMP:20260424T163414
CREATED:20250725T064848Z
LAST-MODIFIED:20260305T081541Z
UID:10000380-1789120800-1789230600@semifobi.de
SUMMARY:Praxisbezogene Mutismustherapie in Anlehnung an SYMUT®
DESCRIPTION:Das Seminar richtet sich sowohl an LogopädInnen\, SprachtherapeutInnen als auch an andere TherapeutInnen oder PädagogInnen\, sowie Eltern und Interessierte\, die mit mutistischen\, schweigenden und/oder zurückgezogenen Kindern im Kontakt sind.\nSchweigende Kinder und Familien mit Angstsymptomatik haben in den vergangenen Jahren sehr zugenommen und leider ist es noch immer so\, dass dieser Bereich in den Ausbildungen nur sehr spärlich behandelt wird.\nDie Teilnehmenden erhalten neben dem theoretischen Input einen hohen Praxisbezug\, können eigene Fallfragen mit einbringen und lernen Therapiematerial und Spielideen\, sowie eine große Auswahl an Büchern zum Thema kennen. Sie verlieren die (Berührungs)Angst zum Thema und haben im Anschluss Lust auf die Umwandlung in Mut und Leichtigkeit!
URL:https://semifobi.de/seminar/praxisbezogene-mutismustherapie-in-anlehnung-an-symut-2/
LOCATION:TAT Rheine\, Hovesaatstraße 6\, Rheine\, 48432\, Deutschland
CATEGORIES:ADHS/ HSP,Autismus,Logopädie Interdisziplinär,Mehrsprachigkeit,Mutismus,Neurodiversität/ Mutismus,Pädagogik & Logo,Pädiatrie,Sprachentwicklung/ Grammatik/ Wortschatz,Sprechstörung,Therapie-Unterstützung
ATTACH;FMTTYPE=image/jpeg:https://semifobi.de/wp-content/uploads/2024/08/Praxisbezogene-Mutismustherapie.jpg
END:VEVENT
BEGIN:VEVENT
DTSTART;TZID=Europe/Berlin:20260912T100000
DTEND;TZID=Europe/Berlin:20260912T173000
DTSTAMP:20260424T163414
CREATED:20250707T083658Z
LAST-MODIFIED:20260107T095406Z
UID:10000353-1789207200-1789234200@semifobi.de
SUMMARY:Stimmig durch den Berufsalltag
DESCRIPTION:Eine echte Investition in deine Gesundheit und dein wichtigstes Arbeitswerkzeug: deine Stimme\nViele Menschen in sprechintensiven Berufen stehen täglich vor der Herausforderung\, ihre Stimme gesund und belastbar zu halten. Wer frühzeitig präventive Maßnahmen ergreift\, senkt das Risiko von Stimmproblemen und Arbeitsausfällen spürbar. Die Teilnahme am Seminar unterstützt dich dabei\, deine eigene Stimme gezielt zu stärken\, Warnsignale rechtzeitig wahrzunehmen und direkt zu handeln – damit du souverän und leistungsfähig durch den Berufsalltag gehst. \nStimmig durch den Berufsalltag – Prävention statt Stimmausfall\nIm Seminar profitierst du von praktischen Übungen\, die direkt in deinen Arbeitsalltag integriert werden können. Sie fördern deine Belastbarkeit\, helfen dir Stress besser zu bewältigen und schärfen den achtsamen Umgang mit deiner Stimme. So gewinnst du deutlich mehr Selbstsicherheit – auch in schwierigen Situationen\, in denen eine stabile Stimme besonders gefragt ist. Effiziente Strategien zur Stimmhygiene und zur Selbstfürsorge runden das Programm ab und geben dir nachhaltig Rückenwind. \nFundiertes Wissen und gezielte Übungen für eine starke Stimme\nStimmprobleme sind eine der häufigsten Ursachen für Arbeitsausfälle in Sprechberufen – und oft wiederkehrend\, wenn sie nicht präventiv behandelt werden. Dieses Seminar richtet sich an alle\, die im Beruf viel sprechen müssen und ihre Stimme als zentrales Arbeitsinstrument verstehen: Therapeutinnen\, Lehrer\, Vortragende und Sprecher:innen. Durch fundiertes Wissen und gezielte Übungen lernst du\, Warnsignale frühzeitig zu erkennen und deiner Stimme langfristig Stabilität zu geben. \n\nDie Teilnehmer:innen werden neben der Theorie auch viele praktische Übungen für ihren Arbeitsalltag mitnehmen können. \nSie werden ihre eigene Stimme und Veränderungen besser einschätzen können und direkt präventiv handeln können. \nZudem werden die Teilnehmer:innen Stimmbelastungen erkennen bevor sie sich auf die Stimme auswirken.\n\nDie Leitung des Seminars liegt in den Händen einer ausgewiesenen Expertin\, die praxiserprobte Tipps und effektives Know-how vermittelt. Du profitierst von einer fundierten Anleitung und kannst individuelle Fragen stellen – eine echte Investition in deine Gesundheit und dein wichtigstes Arbeitswerkzeug: deine Stimme.
URL:https://semifobi.de/seminar/stimmig-durch-den-berufsalltag/
LOCATION:TAT Rheine\, Hovesaatstraße 6\, Rheine\, 48432\, Deutschland
CATEGORIES:Gesprächsführung,Stimme & Stimmklang,Stimmstörung,Therapie-Unterstützung
ATTACH;FMTTYPE=image/jpeg:https://semifobi.de/wp-content/uploads/2025/07/Stimmig-durch-den-Berufsalltag-1.jpg
END:VEVENT
END:VCALENDAR