BEGIN:VCALENDAR
VERSION:2.0
PRODID:-//Seminar-und Fortbildungszentrum Rheine - ECPv6.15.20//NONSGML v1.0//EN
CALSCALE:GREGORIAN
METHOD:PUBLISH
X-WR-CALNAME:Seminar-und Fortbildungszentrum Rheine
X-ORIGINAL-URL:https://semifobi.de
X-WR-CALDESC:Veranstaltungen für Seminar-und Fortbildungszentrum Rheine
REFRESH-INTERVAL;VALUE=DURATION:PT1H
X-Robots-Tag:noindex
X-PUBLISHED-TTL:PT1H
BEGIN:VTIMEZONE
TZID:Europe/Berlin
BEGIN:DAYLIGHT
TZOFFSETFROM:+0100
TZOFFSETTO:+0200
TZNAME:CEST
DTSTART:20250330T010000
END:DAYLIGHT
BEGIN:STANDARD
TZOFFSETFROM:+0200
TZOFFSETTO:+0100
TZNAME:CET
DTSTART:20251026T010000
END:STANDARD
BEGIN:DAYLIGHT
TZOFFSETFROM:+0100
TZOFFSETTO:+0200
TZNAME:CEST
DTSTART:20260329T010000
END:DAYLIGHT
BEGIN:STANDARD
TZOFFSETFROM:+0200
TZOFFSETTO:+0100
TZNAME:CET
DTSTART:20261025T010000
END:STANDARD
BEGIN:DAYLIGHT
TZOFFSETFROM:+0100
TZOFFSETTO:+0200
TZNAME:CEST
DTSTART:20270328T010000
END:DAYLIGHT
BEGIN:STANDARD
TZOFFSETFROM:+0200
TZOFFSETTO:+0100
TZNAME:CET
DTSTART:20271031T010000
END:STANDARD
END:VTIMEZONE
BEGIN:VEVENT
DTSTART;TZID=Europe/Berlin:20260914T090000
DTEND;TZID=Europe/Berlin:20260914T160000
DTSTAMP:20260424T180831
CREATED:20250410T090909Z
LAST-MODIFIED:20251213T141317Z
UID:10000293-1789376400-1789401600@semifobi.de
SUMMARY:EINFACHGENIAL
DESCRIPTION:Sprachentwicklung bewegen\nWie hängen Bewegung\, Wahrnehmung und Sprache zusammen?\nUnd warum ist ein stabiler Gleichgewichtssinn genauso wichtig wie ein sicherer Wortschatz?\nIn diesem praxisnahen Seminar tauchen wir in die spannende Welt der kindlichen Entwicklung ein und entdecken\, wie alle Sinne (taktil\, kinästhetisch\, vestibulär\, auditiv und visuell) zusammenspielen und die Sprachentwicklung beeinflussen.\nKinder lernen durch Bewegung\, Wahrnehmung und Erleben – doch wie können wir sie im Alltag oder in der Therapie optimal dabei unterstützen? Dieses Seminar liefert die Antworten! \n 
URL:https://semifobi.de/seminar/einfachgenial/
CATEGORIES:Logopädie Interdisziplinär,Pädagogik & Logo
ATTACH;FMTTYPE=image/jpeg:https://semifobi.de/wp-content/uploads/2025/02/EINFACHGENIAL.jpg
LOCATION:https://semifobi.de/seminar/einfachgenial/
END:VEVENT
BEGIN:VEVENT
DTSTART;TZID=Europe/Berlin:20260914T183000
DTEND;TZID=Europe/Berlin:20260914T204500
DTSTAMP:20260424T180831
CREATED:20250624T071916Z
LAST-MODIFIED:20251213T141642Z
UID:10000345-1789410600-1789418700@semifobi.de
SUMMARY:Sensorische Integration_eine BAsis der KIndlichen Sprachentwicklung_Modul 1
DESCRIPTION:Sensorische Integration_eine BAsis der KIndlichen Sprachentwicklung_Modul 1\nDu kommst mit deinem logopädischen Wissen einfach nicht weiter und erzielst bei kindlichen Klient*innen nur mühsam Erfolge?\nZudem hast du das Gefühl\, dass der Sprachentwicklung etwas im Wege steht\, die du nicht greifen kannst?! Dann brauchst du dringend fachübergreifendes Wissen und einen Therapieansatz\, der es dir ermöglicht\, ursächlich und somit effektiv zu arbeiten! Sensorische Integration – von einer Logopädin für Logopäd*innen \nDu hast erkannt\, dass deine kindlichen Klient*innen zusätzlich zur Logopädie noch Ergotherapie nötig hätten. Doch es findet sich entweder kein Kinderarzt\, der verordnet oder eine ergotherapeutische Praxis\, die freie Kapazitäten hat? Also ist es an der Zeit\, dass du dir selbstständig Wissen aneignest\, um effektiv behandeln zu können! Dazu benötigst du das Wissen rund um die Zusammenhänge der sensorischen Integration und der Sprachentwicklung. \nSI_BAKIS ist ein praxisnahes Seminar\, das fundiertes Wissen zur sensorischen Integration mit der kindlichen Sprachentwicklung verknüpft – kompakt und anwendungsorientiert\nLiegt einer Sprachentwicklungsstörung eine sensorische Verarbeitungsstörung zugrunde\, braucht es fachübergreifendes Wissen und ein ursächlich wirkendes Therapiekonzept.  \nFür Logopäd:innen\, Ergotherapeut:innen und Fachkräfte der Frühförderung bietet dieser Kurs wertvolle Einblicke in die Rolle basaler Sinnesverarbeitung für Sprache\, Verhalten und Entwicklung. Anhand konkreter Fallbeispiele und Videodemonstrationen lernst du\, wie sensorische Prozesse Sprachauffälligkeiten beeinflussen können – und wie du therapeutisch wirksam darauf reagieren kannst. Von theoretischen Grundlagen (Teil 1) über das Erkennen sensorischer Verarbeitungsstörungen (Teil 2) bis hin zu praxiserprobten Therapieansätzen (Teil 3) erhältst du Impulse\, die du direkt in deinem beruflichen Alltag einsetzen kannst. Für alle\, die Sprache ganzheitlich verstehen und behandeln wollen. \nKommt es zu Störungen im Bereich der sensorischen Integration\, kann sich dies schwerwiegend auf die kindliche Sprach- und Sprechentwicklung auswirken. Daher ist es notwendig\, kindliche logopädische Auffälligkeiten ganzheitlich zu betrachten und ursächlich zu behandeln. \nBei den SI_BAKIS handelt es sich um eine Webinarreihe (Modul 1-3). Inhaltlich und Thematisch bauen sie aufeinander auf. Du solltest mit Modul 1 starten\, welches die Grundlage für die Module 2 und 3 darstellt. Alle drei Teile können einzeln gebucht werden: SI_Bakis 1 | SI_Bakis 2 | SI_Bakis 3 oder als Bundle SI_Bakis 1-3 \n  \n 
URL:https://semifobi.de/seminar/si_bakis_grundlagen-4/
CATEGORIES:Ergo & Logo,Logopädie Interdisziplinär,Pädagogik & Logo,Pädiatrie,Physio & Logo,Sonstige Therapieunterstützung,Sprachentwicklung/ Grammatik/ Wortschatz,Sprechstörung,Therapie-Unterstützung
ATTACH;FMTTYPE=image/jpeg:https://semifobi.de/wp-content/uploads/2024/07/Kopie-von-SI_BAKIS-Sensorische-Integration.jpg
LOCATION:https://semifobi.de/seminar/si_bakis_grundlagen-4/
END:VEVENT
END:VCALENDAR