BEGIN:VCALENDAR
VERSION:2.0
PRODID:-//Seminar-und Fortbildungszentrum Rheine - ECPv6.15.20//NONSGML v1.0//EN
CALSCALE:GREGORIAN
METHOD:PUBLISH
X-ORIGINAL-URL:https://semifobi.de
X-WR-CALDESC:Veranstaltungen für Seminar-und Fortbildungszentrum Rheine
REFRESH-INTERVAL;VALUE=DURATION:PT1H
X-Robots-Tag:noindex
X-PUBLISHED-TTL:PT1H
BEGIN:VTIMEZONE
TZID:Europe/Berlin
BEGIN:DAYLIGHT
TZOFFSETFROM:+0100
TZOFFSETTO:+0200
TZNAME:CEST
DTSTART:20250330T010000
END:DAYLIGHT
BEGIN:STANDARD
TZOFFSETFROM:+0200
TZOFFSETTO:+0100
TZNAME:CET
DTSTART:20251026T010000
END:STANDARD
BEGIN:DAYLIGHT
TZOFFSETFROM:+0100
TZOFFSETTO:+0200
TZNAME:CEST
DTSTART:20260329T010000
END:DAYLIGHT
BEGIN:STANDARD
TZOFFSETFROM:+0200
TZOFFSETTO:+0100
TZNAME:CET
DTSTART:20261025T010000
END:STANDARD
BEGIN:DAYLIGHT
TZOFFSETFROM:+0100
TZOFFSETTO:+0200
TZNAME:CEST
DTSTART:20270328T010000
END:DAYLIGHT
BEGIN:STANDARD
TZOFFSETFROM:+0200
TZOFFSETTO:+0100
TZNAME:CET
DTSTART:20271031T010000
END:STANDARD
END:VTIMEZONE
BEGIN:VEVENT
DTSTART;TZID=Europe/Berlin:20260930T180000
DTEND;TZID=Europe/Berlin:20260930T211500
DTSTAMP:20260426T054115
CREATED:20251029T083107Z
LAST-MODIFIED:20251213T142220Z
UID:10000432-1790791200-1790802900@semifobi.de
SUMMARY:Vom Atmen übers Saugen zum Sprechen
DESCRIPTION:Die perfekte Wiederholung von Grundlagenwissen\, mit besonderem Blick auf den physiologischen Ablauf des Stillens.\nWir schauen uns die physiologische Entwicklung an und ordnen die verschiedenen Entwicklungsschritte ein. Welche Zusammenhänge herrschen und wie können sich Pathophysiologien\, wie das zu kurze Zungenband oder Lippen-Kiefer-Gaumensegelspalt-Fehlbildungen auf das gesamte System auswirken.\nDas Seminar ist für alle Fachpersonen geeignet\, die mit Säuglingen arbeiten und die physiologischen Zusammenhänge\, mit den Schwerpunkten Stillen und Mundentwicklung verstehen wollen. \nLernziel\nNach diesem Seminar kennst du:\n– Physiologische Mundentwicklung\, eingeordnet in gesamtkörperliche und kognitive Entwicklung\n– den gegenseitigen Einfluss der Entwicklungsschritte aufeinander\n– die Veränderungen durch pathophyisologische Veränderungen \n 
URL:https://semifobi.de/seminar/vom-atmen-uebers-saugen-zum-sprechen-2/
CATEGORIES:Frenotomie/ Zungenband,MFS/ OFD,MFS/ OFD/ Zungenband,Pädiatrie,pädiatrische_Dysphagie & Fütter-/ Essstörungen
ATTACH;FMTTYPE=image/png:https://semifobi.de/wp-content/uploads/2024/09/Vom-Atmen-uebers-Saugen-zum-Sprechen-1024-x-568-px-1-1.png
LOCATION:https://semifobi.de/seminar/vom-atmen-uebers-saugen-zum-sprechen-2/
END:VEVENT
END:VCALENDAR