BEGIN:VCALENDAR
VERSION:2.0
PRODID:-//Seminar-und Fortbildungszentrum Rheine - ECPv6.15.20//NONSGML v1.0//EN
CALSCALE:GREGORIAN
METHOD:PUBLISH
X-ORIGINAL-URL:https://semifobi.de
X-WR-CALDESC:Veranstaltungen für Seminar-und Fortbildungszentrum Rheine
REFRESH-INTERVAL;VALUE=DURATION:PT1H
X-Robots-Tag:noindex
X-PUBLISHED-TTL:PT1H
BEGIN:VTIMEZONE
TZID:Europe/Berlin
BEGIN:DAYLIGHT
TZOFFSETFROM:+0100
TZOFFSETTO:+0200
TZNAME:CEST
DTSTART:20250330T010000
END:DAYLIGHT
BEGIN:STANDARD
TZOFFSETFROM:+0200
TZOFFSETTO:+0100
TZNAME:CET
DTSTART:20251026T010000
END:STANDARD
BEGIN:DAYLIGHT
TZOFFSETFROM:+0100
TZOFFSETTO:+0200
TZNAME:CEST
DTSTART:20260329T010000
END:DAYLIGHT
BEGIN:STANDARD
TZOFFSETFROM:+0200
TZOFFSETTO:+0100
TZNAME:CET
DTSTART:20261025T010000
END:STANDARD
BEGIN:DAYLIGHT
TZOFFSETFROM:+0100
TZOFFSETTO:+0200
TZNAME:CEST
DTSTART:20270328T010000
END:DAYLIGHT
BEGIN:STANDARD
TZOFFSETFROM:+0200
TZOFFSETTO:+0100
TZNAME:CET
DTSTART:20271031T010000
END:STANDARD
END:VTIMEZONE
BEGIN:VEVENT
DTSTART;TZID=Europe/Berlin:20261116T173000
DTEND;TZID=Europe/Berlin:20261117T204500
DTSTAMP:20260425T142037
CREATED:20250728T070012Z
LAST-MODIFIED:20251213T145651Z
UID:10000385-1794850200-1794948300@semifobi.de
SUMMARY:Kinderherzen gewinnen - mehr Leichtigkeit in der Kindertherapie
DESCRIPTION:In der Kindertherapie stehen wir\, als Logopäden oft vor Herausforderungen. Leistungsdruck\, fehlende Mitarbeit\, Gefühlsausbrüche etc. bringen uns so manches Mal an unsere Grenzen.\nWie man mit solchen Situationen umgeht\, haben die Wenigsten in der Ausbildung gelernt. Das Seminar soll dazu beitragen\, dass durch eine tragfähige Verbindung zum Kind und deren Eltern\, mehr Leichtigkeit in die Kinder-Therapie einkehren kann.\nDu gewinnst mehr als neue Methoden: Du entwickelst Deine emotionale Klarheit\, stärkst Deine Selbstreflexion\, verbesserst Deine Kommunikation mit Kindern und Eltern und erlebst mehr authentische Präsenz im Alltag – mit nachhaltigem Effekt auf Beziehungsqualität und Therapieerfolg. \n 
URL:https://semifobi.de/seminar/kinderherzen-gewinnen-mehr-leichtigkeit-in-der-kindertherapie/
CATEGORIES:Pädiatrie,Sprachentwicklung/ Grammatik/ Wortschatz,Therapie-Unterstützung
LOCATION:https://semifobi.de/seminar/kinderherzen-gewinnen-mehr-leichtigkeit-in-der-kindertherapie/
END:VEVENT
END:VCALENDAR