BEGIN:VCALENDAR
VERSION:2.0
PRODID:-//Seminar-und Fortbildungszentrum Rheine - ECPv6.15.20//NONSGML v1.0//EN
CALSCALE:GREGORIAN
METHOD:PUBLISH
X-ORIGINAL-URL:https://semifobi.de
X-WR-CALDESC:Veranstaltungen für Seminar-und Fortbildungszentrum Rheine
REFRESH-INTERVAL;VALUE=DURATION:PT1H
X-Robots-Tag:noindex
X-PUBLISHED-TTL:PT1H
BEGIN:VTIMEZONE
TZID:Europe/Berlin
BEGIN:DAYLIGHT
TZOFFSETFROM:+0100
TZOFFSETTO:+0200
TZNAME:CEST
DTSTART:20250330T010000
END:DAYLIGHT
BEGIN:STANDARD
TZOFFSETFROM:+0200
TZOFFSETTO:+0100
TZNAME:CET
DTSTART:20251026T010000
END:STANDARD
BEGIN:DAYLIGHT
TZOFFSETFROM:+0100
TZOFFSETTO:+0200
TZNAME:CEST
DTSTART:20260329T010000
END:DAYLIGHT
BEGIN:STANDARD
TZOFFSETFROM:+0200
TZOFFSETTO:+0100
TZNAME:CET
DTSTART:20261025T010000
END:STANDARD
BEGIN:DAYLIGHT
TZOFFSETFROM:+0100
TZOFFSETTO:+0200
TZNAME:CEST
DTSTART:20270328T010000
END:DAYLIGHT
BEGIN:STANDARD
TZOFFSETFROM:+0200
TZOFFSETTO:+0100
TZNAME:CET
DTSTART:20271031T010000
END:STANDARD
END:VTIMEZONE
BEGIN:VEVENT
DTSTART;TZID=Europe/Berlin:20261120T150000
DTEND;TZID=Europe/Berlin:20261122T140000
DTSTAMP:20260426T012326
CREATED:20250623T095957Z
LAST-MODIFIED:20250825T144210Z
UID:10000343-1795186800-1795356000@semifobi.de
SUMMARY:Manuelle Schlucktherapie III Zertifizierungskurs
DESCRIPTION:Die Teilnahme an Modul 3 der Manuellen Schlucktherapie bietet einen klaren Praxisvorsprung: fachlich\, methodisch und beruflich\nLogopäd:innen\, Sprach- und Stimmtherapeut:innen mit Interesse an Dysphagie und Beatmungspatient:innen erhalten in diesem Kurs eine sehr praxisnahe\, prozessbegleitete Fortsetzung des modularen Curriculums – ideal für alle\, die professionell und sicher in der manuellen Schlucktherapie arbeiten möchten. \n\nDurch die gezielte Kleingruppenarbeit mit realen Patient:innen gewinnen Therapeut:innen an Sicherheit im klinischen Alltag.\nDas Videofeedback fördert eine präzise Selbsteinschätzung und stärkt die Qualität der Behandlung.\nZusätzlich erhöht die Zertifizierung die eigene Sichtbarkeit – z. B. durch die Aufnahme in die offizielle Therapeutenliste der N.A.P.-Akademie. So profitieren Teilnehmende fachlich\, methodisch und beruflich gleichermaßen.
URL:https://semifobi.de/seminar/manuelle-schlucktherapie-iii-zertifizierungskurs-2/
LOCATION:TAT Rheine\, Hovesaatstraße 6\, Rheine\, 48432\, Deutschland
CATEGORIES:allgemeine Dysphagie,Neurologie/ Dysphagie,Stimme & Stimmklang,Stimmstörung
ATTACH;FMTTYPE=image/jpeg:https://semifobi.de/wp-content/uploads/2024/11/Manuelle-Schlucktherapie-III-1.jpg
END:VEVENT
BEGIN:VEVENT
DTSTART;TZID=Europe/Berlin:20261121T100000
DTEND;TZID=Europe/Berlin:20261121T173000
DTSTAMP:20260426T012326
CREATED:20250707T083052Z
LAST-MODIFIED:20250916T080059Z
UID:10000352-1795255200-1795282200@semifobi.de
SUMMARY:Mündliche Kommunikation?
DESCRIPTION:Gespräche kompetent und selbstsicher führen\nDieses Seminar ist vor allem relevant\, weil die meisten vor Berufseinstieg nicht darauf vorbereitet werden\, Gespräche kompetent zu führen und sich selbst präsent zu zeigen.\nEs profitieren besonders Personengruppen von diesem Seminar\, die im Rahmen ihres Berufsalltags Gespräche mit Kunden\, Patienten\, Vorgesetzten oder Mitarbeitern führen. Also eigentlich können beinah alle Berufsgruppen hiervon profitieren.\nDieses Seminar lohnt sich\, weil in jedem Arbeitsbereich Gespräche geführt werden und diese durch dieses Seminar kompetenter und kooperativer sowie wertschätzender geführt werden.\nDie Teilnehmer werden für ihren Arbeitsalltag vor allem viele praktische Methoden\, die direkt angewendet werden können\, mitnehmen. Außerdem werden sie präsenter in Gespräche gehen\, sicherer mit ihren Gesprächspartnern umgehen und auf spezielle Situation reagieren können. \n*Fortbildungspunkte für Logopäd:innen unter Vorbehalt
URL:https://semifobi.de/seminar/muendliche-kommunikation/
LOCATION:TAT Rheine\, Hovesaatstraße 6\, Rheine\, 48432\, Deutschland
CATEGORIES:Gesprächsführung,Stimme & Stimmklang,Stimmtraining,Therapie-Unterstützung
ATTACH;FMTTYPE=image/jpeg:https://semifobi.de/wp-content/uploads/2025/07/Muendliche-Kommunikation.jpg
END:VEVENT
BEGIN:VEVENT
DTSTART;TZID=Europe/Berlin:20261121T100000
DTEND;TZID=Europe/Berlin:20261122T163000
DTSTAMP:20260426T012326
CREATED:20250515T090258Z
LAST-MODIFIED:20260120T070421Z
UID:10000325-1795255200-1795365000@semifobi.de
SUMMARY:Elektrotherapie bei Sprech-\, Stimm- und Schluckstörungen
DESCRIPTION:Theoretische und praktische Ausbildungsinhalte zum Thema Elektrotherapie nach Vorgaben der Medizinprodukte-Betreiberverordnung (MPBetreibV).\nDerzeit wird die funktionelle Therapie als Standardverfahren zur Behandlung von Schluckstörungen eingesetzt. Auf eine Behandlung mit Reizstrom wird dagegen nur selten zurückgegriffen. Dabei lässt sich durch Reizstrom die Schluckfähigkeit unmittelbar beeinflussen\, selbst wenn der Störungsbeginn schon längere Zeit zurückliegt. Bei der Elektrotherapie handelt es sich um einen klassischen Ansatz zur Behandlung von motorischen Schädigungen\, der seit Jahrzehnten im orthopädischen und physiotherapeutischen Bereich zum Einsatz kommt und dessen Wirksamkeit unbestritten ist.\nDie Kombination aus Elektrotherapie und funktioneller Therapie bietet dabei ungleich mehr Möglichkeiten\, als der alleinige Einsatz übender oder kompensatorischer Verfahren.Das Seminar bietet einen Einstieg in die Elektrotherapie mit dem Schwerpunkt der Behandlung neurogener Dysphagien. Neben Fallbeispielen werden aktuelle Studienergebnisse vorgestellt und die praktische Anwendung der Reizstromtechnik vermittelt. \nDazu werden die Grundlagen der Elektrodiagnostik erarbeitet und die Teilnehmer zur eigenständigen Planung und Durchführung der Reizstromtherapie (u.a. bei Fazialis- und Larynxparesen sowie bei Dysarthrie und Sprechapraxie) angeleitet.
URL:https://semifobi.de/seminar/elektrotherapie-bei-sprech-stimm-und-schluckstoerungen-2/
LOCATION:TAT Rheine\, Hovesaatstraße 6\, Rheine\, 48432\, Deutschland
CATEGORIES:allgemeine Dysphagie,Fazialisparese,Neurologie/ Dysphagie,Stimme & Stimmklang,Stimmstörung,Stimmtraining
ATTACH;FMTTYPE=image/jpeg:https://semifobi.de/wp-content/uploads/2024/12/Intensivseminar-zur-Elektrotherapie-bei.jpg
END:VEVENT
END:VCALENDAR