BEGIN:VCALENDAR
VERSION:2.0
PRODID:-//Seminar-und Fortbildungszentrum Rheine - ECPv6.15.20//NONSGML v1.0//EN
CALSCALE:GREGORIAN
METHOD:PUBLISH
X-ORIGINAL-URL:https://semifobi.de
X-WR-CALDESC:Veranstaltungen für Seminar-und Fortbildungszentrum Rheine
REFRESH-INTERVAL;VALUE=DURATION:PT1H
X-Robots-Tag:noindex
X-PUBLISHED-TTL:PT1H
BEGIN:VTIMEZONE
TZID:Europe/Berlin
BEGIN:DAYLIGHT
TZOFFSETFROM:+0100
TZOFFSETTO:+0200
TZNAME:CEST
DTSTART:20250330T010000
END:DAYLIGHT
BEGIN:STANDARD
TZOFFSETFROM:+0200
TZOFFSETTO:+0100
TZNAME:CET
DTSTART:20251026T010000
END:STANDARD
BEGIN:DAYLIGHT
TZOFFSETFROM:+0100
TZOFFSETTO:+0200
TZNAME:CEST
DTSTART:20260329T010000
END:DAYLIGHT
BEGIN:STANDARD
TZOFFSETFROM:+0200
TZOFFSETTO:+0100
TZNAME:CET
DTSTART:20261025T010000
END:STANDARD
BEGIN:DAYLIGHT
TZOFFSETFROM:+0100
TZOFFSETTO:+0200
TZNAME:CEST
DTSTART:20270328T010000
END:DAYLIGHT
BEGIN:STANDARD
TZOFFSETFROM:+0200
TZOFFSETTO:+0100
TZNAME:CET
DTSTART:20271031T010000
END:STANDARD
END:VTIMEZONE
BEGIN:VEVENT
DTSTART;TZID=Europe/Berlin:20261124T180000
DTEND;TZID=Europe/Berlin:20261124T211500
DTSTAMP:20260425T142105
CREATED:20251029T081837Z
LAST-MODIFIED:20251213T150848Z
UID:10000431-1795543200-1795554900@semifobi.de
SUMMARY:Picky Eaters aus logopädischer Sicht
DESCRIPTION:Kinder\, die physiologisch eine Phase wählerischer Essensauswahl durchlaufen in der logopädischen Praxis\nPicky Eaters ist ein Begriff\, der in Deutschland nicht einheitlich definiert ist. Darunter fallen Kinder\, die physiologisch eine Phase wählerischer Essensauswahl durchlaufen. Er wird aber auch genutzt\, um ein Symptom einer (frühkindlichen) Fütterstörung zu beschreiben. Wir grenzen die Begrifflichkeiten ab\, schaffen Klarheit beim Wording und erarbeiten uns erste Ideen.\nDer Begriff des Picky Eaters taucht immer häufiger auf. Wir haben immer mehr ein Bewusstsein für Kinder mit einem “etwas anderem” Essverhalten. Nicht selten ist dieses ein weiteres Symptom bei Kindern\, die in unserer logopädischen Praxis behandelt werden.
URL:https://semifobi.de/seminar/picky-eaters-aus-logopaedischer-sicht/
CATEGORIES:Frenotomie/ Zungenband,Logopädie Interdisziplinär,MFS/ OFD,MFS/ OFD/ Zungenband,Osteopathie & Logo,Pädagogik & Logo,Pädiatrie,pädiatrische_Dysphagie & Fütter-/ Essstörungen
ATTACH;FMTTYPE=image/jpeg:https://semifobi.de/wp-content/uploads/2024/08/Picky-Eaters-aus-logopaedischer-Sicht-1.jpg
LOCATION:https://semifobi.de/seminar/picky-eaters-aus-logopaedischer-sicht/
END:VEVENT
END:VCALENDAR