BEGIN:VCALENDAR
VERSION:2.0
PRODID:-//Seminar-und Fortbildungszentrum Rheine - ECPv6.15.20//NONSGML v1.0//EN
CALSCALE:GREGORIAN
METHOD:PUBLISH
X-WR-CALNAME:Seminar-und Fortbildungszentrum Rheine
X-ORIGINAL-URL:https://semifobi.de
X-WR-CALDESC:Veranstaltungen für Seminar-und Fortbildungszentrum Rheine
REFRESH-INTERVAL;VALUE=DURATION:PT1H
X-Robots-Tag:noindex
X-PUBLISHED-TTL:PT1H
BEGIN:VTIMEZONE
TZID:Europe/Berlin
BEGIN:DAYLIGHT
TZOFFSETFROM:+0100
TZOFFSETTO:+0200
TZNAME:CEST
DTSTART:20250330T010000
END:DAYLIGHT
BEGIN:STANDARD
TZOFFSETFROM:+0200
TZOFFSETTO:+0100
TZNAME:CET
DTSTART:20251026T010000
END:STANDARD
BEGIN:DAYLIGHT
TZOFFSETFROM:+0100
TZOFFSETTO:+0200
TZNAME:CEST
DTSTART:20260329T010000
END:DAYLIGHT
BEGIN:STANDARD
TZOFFSETFROM:+0200
TZOFFSETTO:+0100
TZNAME:CET
DTSTART:20261025T010000
END:STANDARD
BEGIN:DAYLIGHT
TZOFFSETFROM:+0100
TZOFFSETTO:+0200
TZNAME:CEST
DTSTART:20270328T010000
END:DAYLIGHT
BEGIN:STANDARD
TZOFFSETFROM:+0200
TZOFFSETTO:+0100
TZNAME:CET
DTSTART:20271031T010000
END:STANDARD
END:VTIMEZONE
BEGIN:VEVENT
DTSTART;TZID=Europe/Berlin:20260202T090000
DTEND;TZID=Europe/Berlin:20260202T163000
DTSTAMP:20260424T084810
CREATED:20250918T082211Z
LAST-MODIFIED:20250918T092138Z
UID:10000421-1770022800-1770049800@semifobi.de
SUMMARY:Erste Hilfe am Kind – Grund- und Auffrischungskurs
DESCRIPTION:Schnelles und sicheres Handeln kann im Notfall Leben retten. Deshalb schreibt die Landesunfallkasse Nordrhein-Westfalen vor\, dass jede Kindertagespflegeperson sowie jede pädagogische Fachkraft in Kindertageseinrichtungen in Erster Hilfe am Kind geschult sein muss.\nDieses Seminar vermittelt die notwendigen Kenntnisse und praktischen Fertigkeiten\, um im Falle von Unfällen oder akuten Kindernotfällen angemessen reagieren zu können. Die Teilnehmenden lernen typische Gefahrensituationen im Alltag zu erkennen\, Erste-Hilfe-Maßnahmen sicher umzusetzen und gewinnen Handlungssicherheit für ihre Rolle als Ersthelfende.\nInhalte: \n\nGrundlagen der Ersten Hilfe bei Kindern und Säuglingen\nErkennen und Einschätzen von Kindernotfällen\nMaßnahmen bei Verletzungen\, Atemnot\, Vergiftungen und Bewusstlosigkeit\nPraktisches Einüben lebensrettender Sofortmaßnahmen\nPrävention von Unfällen im pädagogischen Alltag\nRolle und Aufgaben von Ersthelfenden\n\nHinweise: \n\nGutscheine für die Teilnahme können bei der zuständigen Fachberatung Kindertagespflege beantragt werden.\nEine Auffrischung der Kenntnisse ist für Kindertagespflegepersonen sowie Erzieher:innen alle zwei Jahre verpflichtend.\n\nDieses Seminar richtet sich an Kindertagespflegepersonen und pädagogische Fachkräfte\, die ihre Kenntnisse in Erster Hilfe am Kind erwerben oder auffrischen möchten. \n**** Achtung\, dieses Seminar wird von unserem Kooperationspartner jfd im Bürgerhof Rheine ausgerichtet. Über den Button Anmelden gelangen Sie direkt zur Anmeldeseite. ****
URL:https://semifobi.de/seminar/erste-hilfe-am-kind-grund-und-auffrischungskurs-3/
LOCATION:Bürgerhof Rheine\, Lingener Damm 17\, Rheine\, 48432\, Deutschland
CATEGORIES:Gesprächsführung,Logopädie Interdisziplinär,Pädagogik & Logo,Sonstige Therapieunterstützung,Therapie-Unterstützung
ATTACH;FMTTYPE=image/jpeg:https://semifobi.de/wp-content/uploads/2025/09/Erste-Hilfe-am-Kind.jpg
END:VEVENT
BEGIN:VEVENT
DTSTART;TZID=Europe/Berlin:20260219T083000
DTEND;TZID=Europe/Berlin:20260219T133000
DTSTAMP:20260424T084810
CREATED:20250918T062959Z
LAST-MODIFIED:20251110T091603Z
UID:10000416-1771489800-1771507800@semifobi.de
SUMMARY:Grundwissen zur kindlichen Entwicklung im Kontext von Kinderschutz
DESCRIPTION:Kinder\, die Vernachlässigung\, körperliche oder emotionale Misshandlung sowie sexuelle Gewalt erfahren\, sind in ihrer Entwicklung massiv gefährdet. Um Anzeichen frühzeitig zu erkennen und fachgerecht einschätzen zu können\, ist fundiertes Wissen über die altersgerechte Entwicklung von Kindern unerlässlich.\nDieses Seminar vermittelt praxisnahes Grundwissen zur kindlichen Entwicklung und vertieft zentrale Aspekte der sozial-emotionalen sowie psychosexuellen Entwicklung – einschließlich der Sauberkeitsentwicklung. Auf dieser Basis können Fachkräfte Entwicklungsauffälligkeiten und mögliche Gefährdungen besser einordnen und im Sinne des Kinderschutzes handeln.\nInhalte: \n\nErweiterung von Fachwissen zu Kinderschutz und Kindeswohlgefährdung\nVermittlung von Grundlagen zur kindlichen Entwicklung\nSchwerpunkt: sozial-emotionale Entwicklung\nSchwerpunkt: psychosexuelle Entwicklung und Sauberkeitsentwicklung\nOptionaler Exkurs: „Beißen“ als entwicklungsbedingtes Verhalten\n\nDas Seminar richtet sich an pädagogische Fachkräfte\, die ihre Handlungssicherheit im Umgang mit möglichen Gefährdungslagen stärken und ihr Wissen zur kindlichen Entwicklung vertiefen möchten. \n**** Achtung\, dieses Seminar wird von unserem Kooperationspartner jfd im Bürgerhof Rheine ausgerichtet. Über den Button Anmelden gelangen Sie direkt zur Anmeldeseite. ****
URL:https://semifobi.de/seminar/grundwissen-zur-kindlichen-entwicklung-im-kontext-von-kinderschutz/
CATEGORIES:Gesprächsführung,Logopädie Interdisziplinär,Pädagogik & Logo,Sonstige Therapieunterstützung,Therapie-Unterstützung
ATTACH;FMTTYPE=image/jpeg:https://semifobi.de/wp-content/uploads/2025/09/jfd-Themen-1.jpg
LOCATION:https://semifobi.de/seminar/grundwissen-zur-kindlichen-entwicklung-im-kontext-von-kinderschutz/
END:VEVENT
BEGIN:VEVENT
DTSTART;TZID=Europe/Berlin:20260227T140000
DTEND;TZID=Europe/Berlin:20260227T210000
DTSTAMP:20260424T084810
CREATED:20250325T075902Z
LAST-MODIFIED:20260302T085042Z
UID:10000288-1772200800-1772226000@semifobi.de
SUMMARY:Einführung in die Diagnostik und Therapie des kurzen Zungenbandes bei Säuglingen und Babys
DESCRIPTION:Ein zu kurzes Zungenband kann bereits in den ersten Lebenstagen zu Stillproblemen bei Mutter und Kind führen. Da dies aber nicht in allen Fällen so sein muss oder als Ursache gar nicht erkannt wird\, können Folgeerscheinungen einer Ankyloglossia bei Patienten in allen Altersgruppen beobachtet werden.\nDie Therapie des zu kurzen Zungenbandes ist die vollständige Frenotomie durch einen spezialisierten und entsprechend fortgebildeten Arzt/Zahnarzt. Dies ist ein minimalinvasiver Eingriff\, der jedoch keine schnelle Lösung ist\, sondern die Vor- und Nachbehandlung durch qualifizierte Therapeuten unterschiedlicher Professionen erfordert.\nBei Säuglingen und Babys ist es Aufgabe der Stillberatung die Eltern nicht nur umfassend vorzubereiten\, sondern auch eine flächendeckende Nachsorge zu gewährleisten. Im Optimalfall laufen bei der Stillberatung alle Fäden zusammen und sie koordiniert zusammen mit den Eltern den gesamten Ablauf der Vor- und Nachsorge\, sowie den optimalen Zeitpunkt der Frenotomie. \nDie Eltern haben mit ihr somit jederzeit einen Ansprechpartner\, Fehler können sofort gesehen und verbessert und die Nachsorge sowie das Stillen kann optimal angepasst werden. Dies alles trägt zu einem nicht unerheblichen Teil zu einem gelungenen Endergebnis bei. \nStillen nach Gestationsdiabetes – Handlungsgrundlagen vor dem Hintergrund wissenschaftlicher Evidenzen\nMütter mit präexistentem oder Gestationsdiabetes sind häufiger Interventionen in Schwangerschaft und unter der Geburt ausgesetzt. Diese resultieren unter anderem in eine höhere Rate an Stillproblemen. Unter dieser metabolischen Vorbelastung ist eine gelingende Stillzeit aus gesundheitlicher Sicht sowohl für Mütter als auch Kinder noch wichtiger als nach einer gesund verlaufenden Schwangerschaft. Die besonderen Bedürfnisse und Einflüsse auf die Hormonlage sind bei diabetischen Müttern in der Stillzeit wichtig zu beachten\, um eine angepasste Betreuung zu gewährleisten und einem gelingenden Stillstart zu verhelfen. – Handlungsgrundlagen vor dem Hintergrund wissenschaftlicher Evidenzen. \n** 8 FBP für Logopäd:innen sowie weitere Berufsgruppen; 9 FBP für ZÄ\, KFO\, Ärzt:innen\, 10 FBP für Osteopath:innen nach erfolgreicher Beantwortung der Wissensfrage\, Stillberaterinnen haben die Möglichkeit\, CERPs eigenständig zu beantragen
URL:https://semifobi.de/seminar/einfuehrung-in-die-diagnostik-und-therapie-des-kurzen-zungenbandes-bei-saeuglingen-und-babys-2/
CATEGORIES:Frenotomie/ Zungenband,Hebammen & Logo,MFS/ OFD,MFS/ OFD/ Zungenband,Osteopathie & Logo
ATTACH;FMTTYPE=image/jpeg:https://semifobi.de/wp-content/uploads/2025/03/Einfuehrung-in-die-Diagnostik-und-Therapie-des-kurzen-Zungenbandes-bei-Saeuglingen-und-Babys.jpg
LOCATION:https://semifobi.de/seminar/einfuehrung-in-die-diagnostik-und-therapie-des-kurzen-zungenbandes-bei-saeuglingen-und-babys-2/
END:VEVENT
END:VCALENDAR