BEGIN:VCALENDAR
VERSION:2.0
PRODID:-//Seminar-und Fortbildungszentrum Rheine - ECPv6.15.20//NONSGML v1.0//EN
CALSCALE:GREGORIAN
METHOD:PUBLISH
X-WR-CALNAME:Seminar-und Fortbildungszentrum Rheine
X-ORIGINAL-URL:https://semifobi.de
X-WR-CALDESC:Veranstaltungen für Seminar-und Fortbildungszentrum Rheine
REFRESH-INTERVAL;VALUE=DURATION:PT1H
X-Robots-Tag:noindex
X-PUBLISHED-TTL:PT1H
BEGIN:VTIMEZONE
TZID:Europe/Berlin
BEGIN:DAYLIGHT
TZOFFSETFROM:+0100
TZOFFSETTO:+0200
TZNAME:CEST
DTSTART:20260329T010000
END:DAYLIGHT
BEGIN:STANDARD
TZOFFSETFROM:+0200
TZOFFSETTO:+0100
TZNAME:CET
DTSTART:20261025T010000
END:STANDARD
BEGIN:DAYLIGHT
TZOFFSETFROM:+0100
TZOFFSETTO:+0200
TZNAME:CEST
DTSTART:20270328T010000
END:DAYLIGHT
BEGIN:STANDARD
TZOFFSETFROM:+0200
TZOFFSETTO:+0100
TZNAME:CET
DTSTART:20271031T010000
END:STANDARD
BEGIN:DAYLIGHT
TZOFFSETFROM:+0100
TZOFFSETTO:+0200
TZNAME:CEST
DTSTART:20280326T010000
END:DAYLIGHT
BEGIN:STANDARD
TZOFFSETFROM:+0200
TZOFFSETTO:+0100
TZNAME:CET
DTSTART:20281029T010000
END:STANDARD
END:VTIMEZONE
BEGIN:VEVENT
DTSTART;TZID=Europe/Berlin:20270112T170000
DTEND;TZID=Europe/Berlin:20270112T201500
DTSTAMP:20260422T012756
CREATED:20260421T080229Z
LAST-MODIFIED:20260421T081427Z
UID:10000511-1799773200-1799784900@semifobi.de
SUMMARY:Presbyphagie versus Dysphagie
DESCRIPTION:Wenn Du in der Geriatrie immer oder manchmal arbeitet und verstehen willst\, warum ein Patient Schluckprobleme hat\, dann ist das Seminar genau richtig! Du lernst\, die Differenzierung von diesen sehr ähnlichen Störungsbildern anhand von Fallbeispielen zu verstehen.\nUm die beiden Störungsbilder voneinander zu trennen\, werden die Begriffe primäre und sekundäre Presbyphagie erläutert. Dann werden häufige Erkrankungen des Alters beschrieben\, die mit Dysphagien einhergehen. Um die Differentialdiagnostik zu erleichtern werden Fallbeispiele diskutiert.
URL:https://semifobi.de/seminar/presbyphagie-versus-dysphagie/
CATEGORIES:allgemeine Dysphagie,Neurologie/ Dysphagie
LOCATION:https://semifobi.de/seminar/presbyphagie-versus-dysphagie/
END:VEVENT
BEGIN:VEVENT
DTSTART;TZID=Europe/Berlin:20270115T090000
DTEND;TZID=Europe/Berlin:20270116T163000
DTSTAMP:20260422T012756
CREATED:20250710T085007Z
LAST-MODIFIED:20251213T152949Z
UID:10000360-1800003600-1800117000@semifobi.de
SUMMARY:Mut heißt machen: Kindern mit selektivem Mutismus in´s Sprechen helfen
DESCRIPTION:Kinder mit selektivem Mutismus leiden unter einer Angststörung\, die eine massive Kommunikations- und Sprechblockade bewirkt. Betroffene können meist zuhause und mit vertrauten Personen sprechen\, bringen aber in sozialen Situationen\, in denen Sprechen erwartet wird – z.B. im Kindergarten oder in der Schule kein Wort heraus. Therapeut:innen\, Eltern und Lehrpersonen stellt das schweigende Verhalten vor große Herausforderungen.\nGrundlage des Seminars ist das verhaltenstherapeutische Konzept der Parent-Child-Interaction Therapy Adapted for selective Mutism (PCIT-SM). Um miteinander die Techniken dieses Ansatzes zu üben\, legen sich die Teilnehmenden bitte Spielzeug parat\, das sich zum Freispiel eignet – z.B. Lego\, Bausteine oder Knete. Der Kurs ist geeignet für Therapierende\, Lehrpersonen und Eltern\, die ein Kind im Alter von 3 bis 11 Jahren unterstützen\, das selektiven Mutismus hat. \n 
URL:https://semifobi.de/seminar/mut-heisst-machen-kindern-mit-selektivem-mutismus-ins-sprechen-helfen/
CATEGORIES:Mutismus,Neurodiversität/ Mutismus
ATTACH;FMTTYPE=image/jpeg:https://semifobi.de/wp-content/uploads/2024/12/Mut-heisst-machen.jpg
LOCATION:https://semifobi.de/seminar/mut-heisst-machen-kindern-mit-selektivem-mutismus-ins-sprechen-helfen/
END:VEVENT
BEGIN:VEVENT
DTSTART;TZID=Europe/Berlin:20270119T180000
DTEND;TZID=Europe/Berlin:20270119T203000
DTSTAMP:20260422T012756
CREATED:20260324T083834Z
LAST-MODIFIED:20260324T083834Z
UID:10000495-1800381600-1800390600@semifobi.de
SUMMARY:KI in der Sprachtherapie
DESCRIPTION:Viele Sprachtherapeut:innen stehen KI-Tools unsicher oder überfordert gegenüber und wissen nicht\, wie diese fachlich sinnvoll\, datenschutzkonform und alltagstauglich eingesetzt werden können. Das Seminar bietet Orientierung in einem schnell wachsenden\, unübersichtlichen Feld und richtet sich an Therapeut:innen\, die fundierte Entscheidungen treffen möchten\, ohne Technikexpert:innen werden zu müssen. Es unterstützt dabei\, KI kritisch\, reflektiert und gewinnbringend in die eigene Arbeit zu integrieren.\nDie Teilnehmer:innen gewinnen Sicherheit im Umgang mit KI\, bauen Berührungsängste ab und entwickeln ein realistisches Verständnis für sinnvolle Einsatzmöglichkeiten im Therapiealltag. Sie nehmen konkrete Ideen\, Entscheidungskompetenz und Klarheit darüber mit\, was KI leisten kann – und was nicht.
URL:https://semifobi.de/seminar/ki-in-der-sprachtherapie-2/
CATEGORIES:Therapie-Unterstützung
LOCATION:https://semifobi.de/seminar/ki-in-der-sprachtherapie-2/
END:VEVENT
BEGIN:VEVENT
DTSTART;TZID=Europe/Berlin:20270129T170000
DTEND;TZID=Europe/Berlin:20270129T201500
DTSTAMP:20260422T012756
CREATED:20260225T074901Z
LAST-MODIFIED:20260304T072512Z
UID:10000481-1801242000-1801253700@semifobi.de
SUMMARY:Stimmgebung bei Menschen im Autismus-Spektrum
DESCRIPTION:Auch wenn bei vielen Kindern in Momenten starker Erregung oder Freude die Stimme deutlich hörbar wird\, gelingt es einigen dennoch nicht\, diese gezielt zur Interaktion und Kommunikation einzusetzen. Besonders nonverbale Kinder sowie Kinder aus dem Autismus-Spektrum zeigen häufig Schwierigkeiten im bewussten Stimmabruf\, in der Stimmmodulation und im funktionalen Einsatz ihrer Stimme im sozialen Kontext.\nDieses Seminar beleuchtet die möglichen Ursachen für eine fehlende oder eingeschränkte stimmliche Nutzung und vermittelt ein vertieftes Verständnis für die zugrunde liegenden entwicklungsneurologischen\, sensorischen und kommunikativen Zusammenhänge.\nDarüber hinaus werden praxisnahe Handlungsansätze vorgestellt\, die Fachkräfte dabei unterstützen\, die Stimme gezielt anzubahnen\, einen bewussten Stimmabruf zu fördern und Modulationsfähigkeiten systematisch aufzubauen. Die Teilnehmenden erhalten konkrete Interventionsideen\, um Kinder dabei zu begleiten\, ihre Stimme als wirksames Mittel der Interaktion und Kommunikation zu entdecken und weiterzuentwickeln. \nDas Seminar richtet sich an Fachkräfte\, die mit nonverbalen Personen sowie mit Kindern im Autismus-Spektrum arbeiten\, deren Stimme nicht oder nur eingeschränkt moduliert eingesetzt werden kann.
URL:https://semifobi.de/seminar/stimmgebung-bei-menschen-im-autismus-spektrum/
CATEGORIES:Autismus,Logopädie Interdisziplinär,Neurodiversität/ Mutismus,Stimme & Stimmklang,Stimmtraining
LOCATION:https://semifobi.de/seminar/stimmgebung-bei-menschen-im-autismus-spektrum/
END:VEVENT
END:VCALENDAR