BEGIN:VCALENDAR
VERSION:2.0
PRODID:-//Seminar-und Fortbildungszentrum Rheine - ECPv6.15.20//NONSGML v1.0//EN
CALSCALE:GREGORIAN
METHOD:PUBLISH
X-WR-CALNAME:Seminar-und Fortbildungszentrum Rheine
X-ORIGINAL-URL:https://semifobi.de
X-WR-CALDESC:Veranstaltungen für Seminar-und Fortbildungszentrum Rheine
REFRESH-INTERVAL;VALUE=DURATION:PT1H
X-Robots-Tag:noindex
X-PUBLISHED-TTL:PT1H
BEGIN:VTIMEZONE
TZID:Europe/Berlin
BEGIN:DAYLIGHT
TZOFFSETFROM:+0100
TZOFFSETTO:+0200
TZNAME:CEST
DTSTART:20260329T010000
END:DAYLIGHT
BEGIN:STANDARD
TZOFFSETFROM:+0200
TZOFFSETTO:+0100
TZNAME:CET
DTSTART:20261025T010000
END:STANDARD
BEGIN:DAYLIGHT
TZOFFSETFROM:+0100
TZOFFSETTO:+0200
TZNAME:CEST
DTSTART:20270328T010000
END:DAYLIGHT
BEGIN:STANDARD
TZOFFSETFROM:+0200
TZOFFSETTO:+0100
TZNAME:CET
DTSTART:20271031T010000
END:STANDARD
BEGIN:DAYLIGHT
TZOFFSETFROM:+0100
TZOFFSETTO:+0200
TZNAME:CEST
DTSTART:20280326T010000
END:DAYLIGHT
BEGIN:STANDARD
TZOFFSETFROM:+0200
TZOFFSETTO:+0100
TZNAME:CET
DTSTART:20281029T010000
END:STANDARD
END:VTIMEZONE
BEGIN:VEVENT
DTSTART;TZID=Europe/Berlin:20270409T090000
DTEND;TZID=Europe/Berlin:20270409T163000
DTSTAMP:20260422T105605
CREATED:20250721T084417Z
LAST-MODIFIED:20260410T061151Z
UID:10000374-1807261200-1807288200@semifobi.de
SUMMARY:Atemtherapie bei pädiatrischen Dysphagien
DESCRIPTION:Atem-Schluck-Koordination bei Kindern – Praxisnahes Seminar zur Atemtherapie bei pädiatrischer Dysphagie\nWenn Kinder mit Behinderungen Auffälligkeiten in der Atem-Schluck-Koordination zeigen\, braucht es therapeutisches Wissen\, das direkt im Alltag einsetzbar ist. In diesem Seminar lernst du\, wie du Zusammenhänge zwischen eingeschränkter Atmung\, Schluckstörungen und Sekretmanagement sicher erkennst und mit gezielten Maßnahmen therapeutisch begleitest. Gerade für Fachkräfte aus der Logopädie\, Sprachtherapie und angrenzenden Therapieberufen ist dieses Thema hoch relevant\, weil Atem-Schluck-Dyskoordination zu Belastungen im Ess-\, Trink- und Therapieverlauf führen kann. Das Seminar verbindet fundierte Grundlagen mit direkt umsetzbaren Interventionen\, damit du Kinder sicherer und wirksamer behandeln kannst. \nWarum Atem-Schluck-Koordination therapeutisch so wichtig ist\nEine gestörte Atem-Schluck-Koordination kann sich im schlucktherapeutischen Alltag deutlich auf die Sicherheit und Effizienz des Schluckens auswirken. Besonders bei Kindern mit Behinderungen ist es deshalb wichtig\, Atmung\, Schlucken und Sekretmanagement nicht getrennt\, sondern im funktionellen Zusammenhang zu betrachten. Das Seminar hilft dir dabei\, typische Probleme besser einzuordnen und therapeutisch zu reduzieren. Dadurch gewinnst du mehr Sicherheit in der Diagnostik und im praktischen Handling von Kindern mit pädiatrischer Dysphagie. \nTheorie: Grundlagen von Atmung und Schlucken\nIm theoretischen Teil bekommst du ein kompaktes\, praxisrelevantes Update zu den physiologischen Grundlagen: \n\nLungenanatomie und Aufbau der Atemwege\nAtemmuskulatur und ihre Bedeutung für die Atem‑Schluck‑Koordination\nLungenfunktion und typische Auffälligkeiten bei Kindern mit Dysphagie\nDiagnostische Schritte in der Atemtherapie\, inklusive Beobachtung\, Auskultation und Einschätzung von Sekretmanagement und Husteneffektivität\n\nDiagnostik mit Stethoskop: Atem- und Schluckgeräusche verstehen\nEin Schwerpunkt liegt auf der praktischen Diagnostik mit dem Stethoskop. Du lernst\, relevante Atem‑ und Schluckgeräusche zu erkennen\, zu unterscheiden und im Kontext der pädiatrischen Dysphagie zu interpretieren. So kannst du Risiken besser einschätzen\, den Verlauf dokumentieren und deine therapeutischen Entscheidungen fundierter treffen. \nPraxis: Therapeutische Ateminterventionen im schlucktherapeutischen Alltag\nIm praktischen Teil übst du konkrete\, direkt einsetzbare Therapiebausteine: \n\nSekretmobilisation (z.B. Lagerung\, manuelle Techniken\, atemerleichternde Maßnahmen)\nErweiterung der Atemwege und Förderung einer effektiven Nasen‑ und Mundatmung\nKräftigung der Atemmuskulatur durch einfache\, kindgerechte Übungen\nAnbahnung und Automatisierung einer effektiven\, physiologischen Atmung im Alltag\n\nAnhand von Filmen zum Handling der praktischen Therapie siehst du\, wie diese Techniken bei Kindern mit verschiedenen Beeinträchtigungen umgesetzt werden können. So bekommst du konkrete Ideen\, wie du die Inhalte in deine eigene Therapie integrierst. Gerade dieser hohe Praxisanteil macht das Seminar für therapeutische Fachkräfte besonders wertvoll. Du bekommst direkt einsetzbare Ideen für ein verbessertes Sekretmanagement und eine vertiefte\, effektivere Atmung bei Kindern. \nDeine Lernziele\nNach dem Seminar verfügst du über ein Grundwissen zu therapeutischen Handgriffen\, die Kinder in ihrer Atmung und im Sekretmanagement wirksam unterstützen können. Du lernst\, Atem-Schluck-Dyskoordination im therapeutischen Alltag besser zu erkennen\, einzuschätzen und gezielt zu behandeln. Außerdem kannst du Atem- und Schluckgeräusche differenzierter wahrnehmen und diagnostische Beobachtungen stärker in deine Therapieplanung einbeziehen. Das verbessert die Qualität deiner therapeutischen Entscheidungen und erhöht den Praxisnutzen für deine Arbeit deutlich. \nDozentin Bettina Genz\nBettina Genz arbeitet seit 2008 als Logopädin in eigener Praxis und bietet seit 2010 Fortbildungen für Logopädinnen\, Sprachtherapeutinnen und weitere Fachpersonen im Bereich der pädiatrischen Dysphagie an. Sie ist damit eine echte Expertin auf diesem Gebiet und vermittelt Inhalte mit einem klaren Fokus auf therapeutische Umsetzbarkeit und Praxisnähe.
URL:https://semifobi.de/seminar/atemtherapie-bei-paediatrischen-dysphagien-2/
CATEGORIES:allgemeine Dysphagie,Neurologie/ Dysphagie,Pädiatrie,pädiatrische_Dysphagie & Fütter-/ Essstörungen
ATTACH;FMTTYPE=image/jpeg:https://semifobi.de/wp-content/uploads/2025/07/Atemtherapie-Genz-1024-x-568-px-1.jpg
LOCATION:https://semifobi.de/seminar/atemtherapie-bei-paediatrischen-dysphagien-2/
END:VEVENT
BEGIN:VEVENT
DTSTART;TZID=Europe/Berlin:20270410T100000
DTEND;TZID=Europe/Berlin:20270410T173000
DTSTAMP:20260422T105605
CREATED:20260203T080210Z
LAST-MODIFIED:20260203T080417Z
UID:10000473-1807351200-1807378200@semifobi.de
SUMMARY:Das NOVAFON in der Logopädie
DESCRIPTION:Überblick zu logopädischen Anwendungen mit dem NOVAFON\nIn diesem Kompaktüberblick zum Thema Logopädische Anwendungen mit dem NOVAFON werden praxisnahe und fachspezifischen Anwendungsmöglichkeiten des NOVAFONs nahegebracht. Diese werden vor allem durch theoretischen Input\, praktische Übungen und Fallbeispiele aus der Praxis vermittelt und ermöglichen zudem einen praxisnahen Erfahrungsaustausch unter Kolleg*innen.\nDie Handhabung des NOVAFONs sowie der verschiedenen Aufsätze ermöglicht eine wichtige Ergänzung vieler Behandlungen im logopädischen Alltag. \n 
URL:https://semifobi.de/seminar/das-novafon-in-der-logopaedie/
LOCATION:TAT Rheine\, Hovesaatstraße 6\, Rheine\, 48432\, Deutschland
CATEGORIES:Neurologie/ Dysphagie,Stimme & Stimmklang,Therapie-Unterstützung
END:VEVENT
BEGIN:VEVENT
DTSTART;TZID=Europe/Berlin:20270414T150000
DTEND;TZID=Europe/Berlin:20270414T200000
DTSTAMP:20260422T105605
CREATED:20260316T075638Z
LAST-MODIFIED:20260316T075638Z
UID:10000491-1807714800-1807732800@semifobi.de
SUMMARY:Zungenband - ganz praktisch!
DESCRIPTION:Fachseminar für Stillberater*Innen\, Hebammen\, Logopäd*Innen und Osteopath*Innen\nDas Seminar „Zungenband- ganz praktisch!“ wendet sich an FachkollegInnen\, die mit Säuglingen und deren Eltern arbeiten\, die unter Einschränkungen\, die durch Lippen- oder Zungenbändchen verursacht werden\, leiden.\nDer Workshop adressiert den Wunsch vieler Fachkolleg:innen nach ganz konkreten Übungsanleitungen für die Praxis und für die Anleitung der Eltern sowohl vor\, als auch nach einer Frenotomie. \nFachkräfte wie Osteopath:Innen\, Logopäd:Innen\, Stillberaterinnen und Hebammen profitieren von diesem Seminar\, da sie lernen\, diese Probleme frühzeitig zu erkennen und effektive Behandlungsansätze anzuwenden. Die Relevanz des Themas erstreckt sich somit über verschiedene Berufsgruppen hinweg und trägt zur Verbesserung der kindlichen Gesundheit bei. \n 
URL:https://semifobi.de/seminar/zungenband-ganz-praktisch-3/
CATEGORIES:Frenotomie/ Zungenband,MFS/ OFD/ Zungenband
ATTACH;FMTTYPE=image/jpeg:https://semifobi.de/wp-content/uploads/2025/01/Zungenband-ganz-praktisch.jpg
LOCATION:https://semifobi.de/seminar/zungenband-ganz-praktisch-3/
END:VEVENT
BEGIN:VEVENT
DTSTART;TZID=Europe/Berlin:20270421T180000
DTEND;TZID=Europe/Berlin:20270421T203000
DTSTAMP:20260422T105605
CREATED:20260316T080158Z
LAST-MODIFIED:20260316T080158Z
UID:10000492-1808330400-1808339400@semifobi.de
SUMMARY:Zungenband: Fallbeispiele und Wundmanagement
DESCRIPTION:Zungenband: Fallbeispiele und Wundmanagement aus osteopathischer und stillberaterischer Sicht\nDieses interdisziplinäre Online-Seminar liefert praxisnahe Werkzeuge zum Wundmanagement und zur Diagnostik funktioneller Störungen nach Frenotomie. Durch Fallbeispiele\, videobasierte Demonstrationen und interkollegialen Austausch erhalten Teilnehmende unmittelbare\, direkt anwendbare Strategien für Osteopathie und Stillberatung\, inkl. frühzeitiger Problemerkennung und effektiver Behandlungsansätze.\nDas Seminar adressiert Probleme nach einer Frenotomie: mangelnde Wundheilung\, Komplikationen\, und funktionelle Störungen durch orale Restriktionen bei Säuglingen. Es bietet Diagnostik\, Wundmanagement und osteopathische wie stillberaterische Behandlungen\, um frühzeitig Risiken zu erkennen und effektiv zu handeln. Relevant ist das Thema für Fachkräfte in der Osteopathie\, Stillberatung\, Logopädie\, Hebammen\, Ergotherapie\, Medizin und Physios\, die interdisziplinär arbeiten oder ihre Kompetenzen in der Betreuung von Babys mit oralen Restriktionen erweitern möchten. Zielgruppen sind Practitioners\, die praxisnahe\, sofort umsetzbare Strategien suchen. \nThemen:\n1) Diagnostische Einschätzung: frühzeitige Identifikation von Wundheilungsstörungen und funktionellen Einschränkungen.\n2) Interdisziplinäre Kommunikation: effektiver Austausch zwischen Osteopathie\, Stillberatung und Pflege.\n3) Praktische Wundversorgung: souveräner Umgang mit Wundmanagement nach Frenotomie.\n4) Funktionelle Beurteilung: Erkennen oraler Restriktionen und deren Auswirkungen.\n5) Behandlungsplanung: individuelle\, evidenzbasierte Vorgehensweisen für Säuglinge.\n6) Fallbasierte Reflexion \n 
URL:https://semifobi.de/seminar/zungenband-fallbeispiele-und-wundmanagement-4/
CATEGORIES:Frenotomie/ Zungenband,MFS/ OFD/ Zungenband
ATTACH;FMTTYPE=image/jpeg:https://semifobi.de/wp-content/uploads/2024/10/Zungenband-Fallbeispiele-und-Wundmanagement-2.jpg
LOCATION:https://semifobi.de/seminar/zungenband-fallbeispiele-und-wundmanagement-4/
END:VEVENT
BEGIN:VEVENT
DTSTART;TZID=Europe/Berlin:20270423T100000
DTEND;TZID=Europe/Berlin:20270424T163000
DTSTAMP:20260422T105605
CREATED:20260127T090922Z
LAST-MODIFIED:20260127T090922Z
UID:10000466-1808474400-1808584200@semifobi.de
SUMMARY:SZET Konzept Schlucken und Zungenruhelage Effizient Therapieren
DESCRIPTION:Im SZET-Seminar wird ausführlich gezeigt und in Kleingruppen ausprobiert\, wie mit Patienten in wenigen Minuten die physiologische Zungenruhelage und das adulte Schluckmuster erarbeitet werden kann.\nSZET ist das Therapiekonzept zur Behandlung myofunktioneller Störungen (MFS)\, das gänzlich ohne mundmotorische Übungen auskommt und den sehr häufig vernachlässigten Therapiebereich Habits in all seinen Facetten konsequent diagnostiziert und therapiert.\nDas Vorgehen orientiert sich ohne Umwege direkt an den physiologischen Abläufen\, die schließlich am Ende einer erfolgreichen myofunktionellen Therapie stehen sollen – die physiologische Zungenruhelage und das adulte Schlucken. Genau deshalb wird ausschließlich daran ab der 1. Therapieeinheit gezielt gearbeitet. Gleichzeitig werden die anstelle der Zungenruhelage und in allen willkürlichen Phasen des Schluckens auftauchenden Habits erkannt und konsequent abtrainiert\, um die Habitualisierung der neuen Bewegungsabläufe zu gewährleisten. Die bei vielen Therapeutinnen und Therapeuten unbeliebten Mundmotorikübungen (ohne oder mit Hilfsmitteln wie Spatel\, Ringchen\, Kauschläuchen oder Therapiesaugern) entfallen\, da Ihre Patienten diese mit dem SZET-Konzept gar nicht mehr benötigen.
URL:https://semifobi.de/seminar/szet-konzept-schlucken-und-zungenruhelage-effizient-therapieren-7/
LOCATION:TAT Rheine\, Hovesaatstraße 6\, Rheine\, 48432\, Deutschland
CATEGORIES:MFS/ OFD,MFS/ OFD/ Zungenband
ATTACH;FMTTYPE=image/jpeg:https://semifobi.de/wp-content/uploads/2024/09/SZET-KonzeptSchlucken-und-Zungenruhelage-Effizient-Therapieren-TAT-Rheine.jpg
END:VEVENT
BEGIN:VEVENT
DTSTART;TZID=Europe/Berlin:20270429T090000
DTEND;TZID=Europe/Berlin:20270430T160000
DTSTAMP:20260422T105605
CREATED:20250205T102852Z
LAST-MODIFIED:20260226T095104Z
UID:10000237-1808989200-1809100800@semifobi.de
SUMMARY:Demenz im Fokus - Erhalt der Kommunikationsfähigkeiten von Menschen mit Demenz
DESCRIPTION:Erhalt der Kommunikationsfähigkeiten von Menschen mit Demenz: Ressourcenorientierte Diagnostik\, Therapie und Beratung aller Akteur:innen\nDu möchtest Menschen mit Demenz gezielt begleiten und suchst nach praxisnahen Methoden\, die wirklich einen Unterschied machen? In diesem Seminar erhältst du wertvolle Werkzeuge\, um die Diagnostik und Therapie ressourcenorientiert und individuell zu gestalten. Du profitierst von direkt anwendbarem Wissen\, das deine Arbeit bereichert und dich in deiner Rolle als Ansprechpartner:in für Patient:innen\, Angehörige und alle beteiligten Akteur:innen stärkt.\nNeben der Behandlung von Dysphagien spielt bei MmD der Erhalt der Kommunikationskompetenz eine zentrale Rolle. Im Verlauf der Erkrankung treten\, durch den Abbau kognitiver Fähigkeiten Einschränkungen in der Kommunikation auf. Die Symptome unterscheiden sich je nach Form der Demenz und Stadium der Erkrankung. \nDiagnosen wie Alzheimer Demenz stellen für Betroffene\, Angehörige und Fachpersonal eine große Herausforderung dar. Sprache und Kommunikation sind oft schnell beeinträchtigt\, wodurch Unsicherheiten im Alltag entstehen können. Umso wichtiger ist es\, ressourcenorientierte Wege zu kennen und zu nutzen – nicht nur in der Therapie\, sondern auch in der Beratung aller Beteiligten. Durch aktuelle medizinische und schlucktherapeutische Diagnostik lernst du\, Symptome sicher zu erkennen und das weitere therapeutische Vorgehen gezielt zu planen. Besonderen Fokus legen wir dabei auf die Stärken der Patient:innen und darauf\, wie du diese in den Therapiealltag einbinden kannst. Gleichzeitig erhältst du Einblick in bewährte Beratungstechniken\, damit du Angehörige und Teams sicher und wertschätzend unterstützen kannst.
URL:https://semifobi.de/seminar/demenz-im-fokus-erhalt-der-kommunikationsfaehigkeiten-von-menschen-mit-demenz/
CATEGORIES:Angebot,Geriatrie/ Demenz/ Palliativ,Neurologie/ Dysphagie
ATTACH;FMTTYPE=image/jpeg:https://semifobi.de/wp-content/uploads/2025/02/Demenz-im-Fokus-1000-x-627-px-1024-x-568-px-2-1.jpg
LOCATION:https://semifobi.de/seminar/demenz-im-fokus-erhalt-der-kommunikationsfaehigkeiten-von-menschen-mit-demenz/
END:VEVENT
END:VCALENDAR