BEGIN:VCALENDAR
VERSION:2.0
PRODID:-//Seminar-und Fortbildungszentrum Rheine - ECPv6.15.20//NONSGML v1.0//EN
CALSCALE:GREGORIAN
METHOD:PUBLISH
X-WR-CALNAME:Seminar-und Fortbildungszentrum Rheine
X-ORIGINAL-URL:https://semifobi.de
X-WR-CALDESC:Veranstaltungen für Seminar-und Fortbildungszentrum Rheine
REFRESH-INTERVAL;VALUE=DURATION:PT1H
X-Robots-Tag:noindex
X-PUBLISHED-TTL:PT1H
BEGIN:VTIMEZONE
TZID:Europe/Berlin
BEGIN:DAYLIGHT
TZOFFSETFROM:+0100
TZOFFSETTO:+0200
TZNAME:CEST
DTSTART:20260329T010000
END:DAYLIGHT
BEGIN:STANDARD
TZOFFSETFROM:+0200
TZOFFSETTO:+0100
TZNAME:CET
DTSTART:20261025T010000
END:STANDARD
BEGIN:DAYLIGHT
TZOFFSETFROM:+0100
TZOFFSETTO:+0200
TZNAME:CEST
DTSTART:20270328T010000
END:DAYLIGHT
BEGIN:STANDARD
TZOFFSETFROM:+0200
TZOFFSETTO:+0100
TZNAME:CET
DTSTART:20271031T010000
END:STANDARD
BEGIN:DAYLIGHT
TZOFFSETFROM:+0100
TZOFFSETTO:+0200
TZNAME:CEST
DTSTART:20280326T010000
END:DAYLIGHT
BEGIN:STANDARD
TZOFFSETFROM:+0200
TZOFFSETTO:+0100
TZNAME:CET
DTSTART:20281029T010000
END:STANDARD
END:VTIMEZONE
BEGIN:VEVENT
DTSTART;TZID=Europe/Berlin:20270510T100000
DTEND;TZID=Europe/Berlin:20270511T161500
DTSTAMP:20260422T173845
CREATED:20260415T063437Z
LAST-MODIFIED:20260415T063437Z
UID:10000500-1809943200-1810052100@semifobi.de
SUMMARY:Dysgrammatismus 360° – Präsenzseminar für Grammatiktherapie mit Kindern
DESCRIPTION:Jetzt wird gespielt!\nWenn du Kinder mit Dysgrammatismus nicht nur korrekt fördern\, sondern wirklich begeistern möchtest\, bist du in diesem Präsenzseminar genau richtig. In „Dysgrammatismus 360° Level 2 – Jetzt wird gespielt!“ erlebst du\, wie Grammatiktherapie bei Kindern durch Geschichten\, Spiele und multisensorische Methoden lebendig wird und sich direkt in deinen Therapiealltag übertragen lässt. \nSo werden Spiele und Geschichten zur wirksamen Grammatiktherapie\nDieses Präsenzseminar richtet sich an Logopäd:innen und andere Interessierte\, die bereits grundlegende Kenntnisse in der Grammatiktherapie haben und ihre Arbeit mit Kindern mit Dysgrammatismus praxisnah vertiefen möchten. Du möchtest grammatische Strukturen nicht mehr nur „üben“\, sondern in spannende Spiel- und Erzählsettings einbetten\, die Kinder motivieren und ihre Aufmerksamkeit halten – dann passt dieses Seminar perfekt zu dir. \nInhalte: Grammatiktherapie spielerisch und multisensorisch\nAufbauend auf deinen Grundkenntnissen zur Dysgrammatismus‑Therapie tauchst du tief in die Welt von Spielen\, Erzählabenteuern und Spannungselementen ein – das Seminar selbst ist wie ein Spiel konzipiert und macht Grammatikarbeit direkt erlebbar. Im Mittelpunkt stehen kindgerechte\, erzählbasierte Settings\, in denen du syntaktische und morphologische Strukturen gezielt anbahnst und festigst und dabei gleichzeitig den Spaßfaktor hochhältst. \nDas Seminar ist ein absolutes Erlebnis\, weil es (fast) nur um die Praxis geht und das Seminar selbst bereits wie ein Spiel aufgebaut ist. Das gab es so definitiv noch nicht. \nDein Nutzen im Therapiealltag: mehr Struktur\, mehr Wirkung\, mehr Motivation\nZentrale Inhalte des Seminars sind: \n\nErzählabenteuer in der Grammatikarbeit: Geschichten als roter Faden\, um grammatische Strukturen sinnhaft und motivierend einzuführen.\nSpannungselemente: Aufmerksamkeitssteuerung über Missionen\, Überraschungsmomente und spielerische Herausforderungen.\nKindgerechter syntaktischer Aufbau: Arbeit an Satzbau und Struktur in alltagsnahen\, spielerischen Kontexten.\nMorphologische Strukturen: Förderung von Flexionsmarkern\, Kongruenz und weiteren morphologischen Aspekten im Spiel.\nSelbstkorrekturmöglichkeiten: Settings\, in denen Kinder eigene Fehler entdecken und korrigieren können.\nMultisensorische Grammatiktherapie: Einbezug möglichst vieler Sinne\, um Sprache nachhaltig zu verankern.\n\nSo bekommst du einen großen Werkzeugkoffer an Ideen für deine Grammatiktherapie\, die du direkt in deine logopädische Praxis übernehmen kannst. \nLernziele: Grammatikförderung im Therapiealltag umsetzen\nNach dem Seminar kannst du \n\nkindliches Lernen und Aufmerksamkeit bei der Planung von Grammatiktherapie noch besser einschätzen\,\nSpannungselemente gezielt einsetzen\, um Kinder im Setting zu halten\,\ngrammatische Strukturen kreativ und flexibel in Spiele und Erzählabenteuer übertragen\,\nmultisensorische Spielerlebnisse gestalten\, die Grammatikziele „nebenbei“ mittrainieren\,\ngrammatische Übungssettings klug und ökonomisch in deine Therapie integrieren.\n\nDamit stärkst du deine Fachkompetenz in der Dysgrammatismus‑Therapie und machst deine logopädischen Angebote für Eltern und Einrichtungen noch attraktiver. \nDozentin: echte Praxisexpertin für Dysgrammatismus\nAnn‑Kathrin Schäfer ist Logopädin (2010)\, Lehrlogopädin und Fachwirtin im Gesundheits‑ und Sozialwesen mit einem besonderen Herz für Neurologie und Dysgrammatismus. Sie verbindet ein hohes Maß an Praxiserfahrung mit didaktischem Know‑how aus der Lehrtätigkeit und ist Autorin mehrerer Fachbücher\, unter anderem „Metasprache – Kinderleichte Kopiervorlagen für die logopädische Therapie“. \nIhre Seminare sind bekannt für lebendige Vermittlung komplexer Inhalte\, große Praxisnähe und eine ansteckende Begeisterung – ideal\, wenn du dir eine Fortbildung wünschst\, aus der du mit vielen direkt umsetzbaren Ideen für deine Grammatiktherapie bei Kindern nach Hause gehst.
URL:https://semifobi.de/seminar/dysgrammatismus-360-praesenzseminar-fuer-grammatiktherapie-mit-kindern/
LOCATION:TAT Rheine\, Hovesaatstraße 6\, Rheine\, 48432\, Deutschland
CATEGORIES:Pädiatrie,Sprachentwicklung/ Grammatik/ Wortschatz
END:VEVENT
END:VCALENDAR