BEGIN:VCALENDAR
VERSION:2.0
PRODID:-//Seminar-und Fortbildungszentrum Rheine - ECPv6.15.20//NONSGML v1.0//EN
CALSCALE:GREGORIAN
METHOD:PUBLISH
X-WR-CALNAME:Seminar-und Fortbildungszentrum Rheine
X-ORIGINAL-URL:https://semifobi.de
X-WR-CALDESC:Veranstaltungen für Seminar-und Fortbildungszentrum Rheine
REFRESH-INTERVAL;VALUE=DURATION:PT1H
X-Robots-Tag:noindex
X-PUBLISHED-TTL:PT1H
BEGIN:VTIMEZONE
TZID:Europe/Berlin
BEGIN:DAYLIGHT
TZOFFSETFROM:+0100
TZOFFSETTO:+0200
TZNAME:CEST
DTSTART:20260329T010000
END:DAYLIGHT
BEGIN:STANDARD
TZOFFSETFROM:+0200
TZOFFSETTO:+0100
TZNAME:CET
DTSTART:20261025T010000
END:STANDARD
BEGIN:DAYLIGHT
TZOFFSETFROM:+0100
TZOFFSETTO:+0200
TZNAME:CEST
DTSTART:20270328T010000
END:DAYLIGHT
BEGIN:STANDARD
TZOFFSETFROM:+0200
TZOFFSETTO:+0100
TZNAME:CET
DTSTART:20271031T010000
END:STANDARD
BEGIN:DAYLIGHT
TZOFFSETFROM:+0100
TZOFFSETTO:+0200
TZNAME:CEST
DTSTART:20280326T010000
END:DAYLIGHT
BEGIN:STANDARD
TZOFFSETFROM:+0200
TZOFFSETTO:+0100
TZNAME:CET
DTSTART:20281029T010000
END:STANDARD
END:VTIMEZONE
BEGIN:VEVENT
DTSTART;TZID=Europe/Berlin:20270702T130000
DTEND;TZID=Europe/Berlin:20270702T180000
DTSTAMP:20260425T164728
CREATED:20260220T083137Z
LAST-MODIFIED:20260220T083137Z
UID:10000479-1814533200-1814551200@semifobi.de
SUMMARY:Restriktive orale Bänder beim Säugling - Basiskurs
DESCRIPTION:Wege zu besserer sprachlicher und orofazialer Entwicklung – Praxiswissen für Logopäd:innen und interdisziplinäre Fachkräfte\nGerade bei restriktiven oralen Bändern im Säuglingsalter ist ein interdisziplinärer Austausch unverzichtbar. Dass du in diesem Seminar die Expertise von drei verschiedenen Fachrichtungen – Logopädie\, Stillberatung und Kinderzahnheilkunde – gebündelt aus erster Hand bekommst\, ist ein echter Gewinn. So lernst du nicht nur die unterschiedlichen Blickwinkel kennen\, sondern erhältst konkrete Impulse für die Zusammenarbeit im Team und in der Begleitung von Familien. Denn nur wenn alle relevanten Berufsgruppen zusammenwirken\, kannst du Säuglinge bestmöglich unterstützen und somit die Grundlage für eine gesunde Entwicklung schaffen.\nGrundlagen\, Einordnung und Praxisrelevanz  \nRestriktive orale Bänder beim Säugling\, besonders ein zu kurzes Zungenband (Ankyloglossie)\, können die Beweglichkeit der Zunge einschränken und führen oft zu Still- und Fütterproblemen. Symptome umfassen Schmerzen beim Stillen\, Schwierigkeiten beim Anlegen und Saugen (z. B. Klick- oder Schnalzgeräusche)\, häufiges Wegdrehen des Babys\, unzureichende oder starke Gewichtsschwankungen\, sowie Verdauungsprobleme wie Koliken oder Reflux. Auch Schlafstörungen\, offene Mundhaltung\, Schnarchen und auffällige Sprachentwicklung können auftreten. Optisch fallen oft wunde oder verformte Brustwarzen bei der Mutter oder eingeschränkte Mundöffnung beim Baby auf. \nIm fundierten Theorieteil tauchst du tief in die Welt der oralen Restriktionen ein. Zunächst erhältst du einen präzisen Überblick über die physiologischen Grundlagen: Du erfährst\, wie sich die Zungen- und Lippenbänder beim Säugling entwickeln\, welche Funktion sie im orofazialen System übernehmen und woran du restriktive Ausprägungen erkennst. Dabei beleuchten wir die wichtigsten Definitionen und gehen auf die verschiedenen Formen restriktiver oraler Bänder ein. Du bekommst verständlich erklärt\, wie sich solche Restriktionen auf das Stillen\, die Nahrungsaufnahme\, das Schlucken\, die Sprachentwicklung und die allgemeine Mundmotorik auswirken können – vom Säuglingsalter bis ins Jugend- und Erwachsenenalter. \nEin zentraler Bestandteil ist die Betrachtung der differentialdiagnostischen Abgrenzungen: Hier lernst du\, wie du orale Restriktionen von anderen möglichen Ursachen für Still-\, Saug- oder Sprachprobleme sicher unterscheiden kannst. Wir besprechen relevante Begleiterscheinungen und geben dir praxiserprobte diagnostische Kriterien an die Hand\, mit denen du im Berufsalltag gezielt vorgehen kannst. \nNatürlich steht auch der interdisziplinäre Ansatz im Fokus: Aus stillberaterischer Sicht stellen wir dir ein Behandlungsmodell vor\, das die Zusammenarbeit von Logopäd:innen\, Zahnmediziner:innen\, Stillberater:innen und weiteren Fachdisziplinen fördert und strukturiert gestaltet. So kannst du frühzeitig handeln und mit allen Beteiligten optimal zusammenarbeiten. \nAbschließend bekommst du einen verständlichen Überblick über die verschiedenen Frenotomie-Methoden – also die operativen Möglichkeiten der Durchtrennung zu kurzer Zungen- oder Lippenbänder. Du lernst\, was bei der Auswahl der Methode zu beachten ist\, wie die Entscheidung “pro/contra Frenotomie” im interdisziplinären Team getroffen wird und welche Auswirkungen die jeweiligen Ansätze auf die weitere logopädische Therapie\, das Stillen und die familiäre Begleitung haben können. \nDu erhältst aktuelles Wissen und konkrete Tools für deinen Berufsalltag. Von der Erkennung oraler Restriktionen bis zur Zusammenarbeit im interdisziplinären Team: Das Seminar ist maximal praxisnah und nimmt deine logopädische Arbeit in den Fokus. Du lernst von echten Expertinnen mit Herz und Erfahrung\, für die praktische Unterstützung und interdisziplinärer Austausch im Mittelpunkt stehen. So bist du bestens vorbereitet für alle Herausforderungen rund um orale Restriktionen! \nExpertinnen mit echtem Praxisbezug und interdisziplinärer Erfahrung\n\nKarin Pokorny: Still- und Laktationsberaterin IBCLC\, Heilpraktikerin für Psychotherapie\, Kinderzahnärztin. Seit Jahren spezialisiert auf die Begleitung von Familien\, Gründerin des Zungenbandzentrums München Stadt und Land.\nMichaela Dreißig: Akademische Sprachtherapeutin\, Still- & Laktationsberaterin IBCLC. Expertin für orofaziale Dysfunktionen und Schluckstörungen\, bringt logopädische Perspektiven auf den Punkt.\nDr. med. dent. Simone-Melanie Linder: Kinderzahnärztin und Spezialistin für orale Restriktionen\, Myofunktion und Dentosophie. Gründerin mehrerer Zentren\, umfangreiche Erfahrung in Therapie\, Prävention und Fortbildung für Fachkräfte.\n\nZwei Seminarteile – Individuell buchbar für maximale Praxisnähe und Übersicht\nDieses Seminar besteht aus zwei Teilen\, die separat gebucht werden müssen. Zusammen bereiten sie dich umfassend auf alle praktischen Fälle vor\, sensibilisiert dich für komplexe Zusammenhänge und macht dich fit für die Arbeit mit Säuglingen und deren Familien rund um das Thema restriktive orale Bänder. \nRestriktive orale Bänder beim Säugling – Basiskurs\nRestriktive orale Bänder beim Säugling – Aufbaukurs (inkl. Supervision)\n 
URL:https://semifobi.de/seminar/restriktive-orale-baender-beim-saeugling-basiskurs-3/
CATEGORIES:Ergo & Logo,Frenotomie/ Zungenband,Hebammen & Logo,Logopädie Interdisziplinär,MFS/ OFD,MFS/ OFD/ Zungenband,Osteopathie & Logo,Pädagogik & Logo,Physio & Logo
ATTACH;FMTTYPE=image/jpeg:https://semifobi.de/wp-content/uploads/2026/01/Restriktive-orale-Baender-bei-Saeuglingen-Basiskurs.jpg
LOCATION:https://semifobi.de/seminar/restriktive-orale-baender-beim-saeugling-basiskurs-3/
END:VEVENT
BEGIN:VEVENT
DTSTART;TZID=Europe/Berlin:20270710T100000
DTEND;TZID=Europe/Berlin:20270711T161500
DTSTAMP:20260425T164728
CREATED:20260324T091334Z
LAST-MODIFIED:20260415T063558Z
UID:10000502-1815213600-1815322500@semifobi.de
SUMMARY:Wortschatz 360°
DESCRIPTION:Ein strategischer Ansatz für die lexikalische Therapie\nWortschatzarbeit kann mehr sein als reines Üben: In diesem Seminar lernen die Teilnehmenden einen durchdachten und zugleich spielerischen Ansatz zur Behandlung lexikalischer Störungen kennen – basierend auf den Wortartenmärchen nach Maria Montessori.Im Mittelpunkt steht eine kindgerechte und strukturierte Möglichkeit\, den Wortschatz von Kindern sowohl qualitativ als auch quantitativ gezielt zu erweitern. Die Wortartenmärchen bieten dabei einen intuitiven Zugang zu grammatischen Kategorien und machen Sprache für Kinder lebendig und verständlich.Die Teilnehmenden erhalten einen klaren Einblick in die Funktionsweise des mentalen Lexikons und lernen\, wie sich lexikalische Störungen differenziert erkennen und behandeln lassen. Schritt für Schritt wird gezeigt\, wie sich der Lexikalisierungsprozess spielerisch in die Therapie integrieren lässt und wie darauf aufbauend weiterführende Methoden sinnvoll eingesetzt werden können.\nLernziele \nNach dem Seminar können die Teilnehmenden: \n\ndie „Betriebsanleitung“ des mentalen Lexikons verstehen\nqualitative und quantitative lexikalische Störungen sicher unterscheiden und erkennen\nmit den Wortartenmärchen nach Maria Montessori (Grundwortarten) therapeutisch arbeiten\nden Lexikalisierungsprozess strategisch und spielerisch in die Therapie integrieren\nweiterführende Methoden der Lexikonarbeit gezielt einsetzen\nWortbildungsprozesse verstehen und effektiv therapeutisch nutzen
URL:https://semifobi.de/seminar/wortschatz-360/
LOCATION:TAT Rheine\, Hovesaatstraße 6\, Rheine\, 48432\, Deutschland
CATEGORIES:Pädiatrie,Sprachentwicklung/ Grammatik/ Wortschatz
ATTACH;FMTTYPE=image/jpeg:https://semifobi.de/wp-content/uploads/2025/04/Kopie-von-Dysgrammatismus-360-Grad-1024-x-568-px-2-1.jpg
END:VEVENT
BEGIN:VEVENT
DTSTART;TZID=Europe/Berlin:20270714T180000
DTEND;TZID=Europe/Berlin:20270714T203000
DTSTAMP:20260425T164728
CREATED:20260324T084105Z
LAST-MODIFIED:20260324T084105Z
UID:10000496-1815588000-1815597000@semifobi.de
SUMMARY:Oma hatte es drauf
DESCRIPTION:Dysgrammatismustherapie mit Spielen aus unserer Kindheit\nDas Seminar zeigt welchen wertvollen Schatz an sprachlichem Input wir bereits in uns tragen und wie wir diesen effektiv für die sprachtherapeutische Intervention nutzen können.\nDas Seminar zeigt\, dass wir uns nicht ständig noch tolleres und wieder neues Therapiematerial ausdenken und zulegen müssen\, sondern es viel mehr darauf ankommt zu verstehen\, was wirklich wichtig ist für die Grammatikentwicklung. \nLernziel\nDie Teilnehmenden sind nach dem Seminar in der Lage:\n– Spiele und Lieder „von früher“ sprachtherapeutisch einzuordnen\n– Therapieeinheiten spontaner zu gestalten\n– mit weniger Kreativitätsdruck in die Therapie zu starten
URL:https://semifobi.de/seminar/oma-hatte-es-drauf-3/
CATEGORIES:Pädiatrie,Sprachentwicklung/ Grammatik/ Wortschatz
ATTACH;FMTTYPE=image/jpeg:https://semifobi.de/wp-content/uploads/2024/08/Oma-hatte-es-drauf.jpg
LOCATION:https://semifobi.de/seminar/oma-hatte-es-drauf-3/
END:VEVENT
END:VCALENDAR