BEGIN:VCALENDAR
VERSION:2.0
PRODID:-//Seminar-und Fortbildungszentrum Rheine - ECPv6.15.20//NONSGML v1.0//EN
CALSCALE:GREGORIAN
METHOD:PUBLISH
X-ORIGINAL-URL:https://semifobi.de
X-WR-CALDESC:Veranstaltungen für Seminar-und Fortbildungszentrum Rheine
REFRESH-INTERVAL;VALUE=DURATION:PT1H
X-Robots-Tag:noindex
X-PUBLISHED-TTL:PT1H
BEGIN:VTIMEZONE
TZID:Europe/Berlin
BEGIN:DAYLIGHT
TZOFFSETFROM:+0100
TZOFFSETTO:+0200
TZNAME:CEST
DTSTART:20230326T010000
END:DAYLIGHT
BEGIN:STANDARD
TZOFFSETFROM:+0200
TZOFFSETTO:+0100
TZNAME:CET
DTSTART:20231029T010000
END:STANDARD
BEGIN:DAYLIGHT
TZOFFSETFROM:+0100
TZOFFSETTO:+0200
TZNAME:CEST
DTSTART:20240331T010000
END:DAYLIGHT
BEGIN:STANDARD
TZOFFSETFROM:+0200
TZOFFSETTO:+0100
TZNAME:CET
DTSTART:20241027T010000
END:STANDARD
BEGIN:DAYLIGHT
TZOFFSETFROM:+0100
TZOFFSETTO:+0200
TZNAME:CEST
DTSTART:20250330T010000
END:DAYLIGHT
BEGIN:STANDARD
TZOFFSETFROM:+0200
TZOFFSETTO:+0100
TZNAME:CET
DTSTART:20251026T010000
END:STANDARD
END:VTIMEZONE
BEGIN:VEVENT
DTSTART;TZID=Europe/Berlin:20241207T090000
DTEND;TZID=Europe/Berlin:20241207T140000
DTSTAMP:20260421T222850
CREATED:20240829T090322Z
LAST-MODIFIED:20250108T090856Z
UID:10000117-1733562000-1733580000@semifobi.de
SUMMARY:Restriktive orale Bänder beim Säugling - Aufbaukurs
DESCRIPTION:Dieses Seminar dient der Vertiefung zum Thema orale Restriktionen.\nWir besprechen detailliert die Vor- und Nachbereitung der verschiedenen Disziplinen und das aktive Wundmanagement. Der Supervisionstermin bietet die Möglichkeit eigene Fälle zu besprechen.\nEingeladen sind Fachpersonen (Stillberater/innen\, Osteopath/innen\, Logopäd/innen\, Physiotherapeut/innen\, Heilpraktiker/innen\, Hebammen\, Ärzt/innen\, Zahnärzt/innen\, etc.)\, die mit Babys\, Kindern oder Erwachsenen arbeiten und mit dem Thema des zu kurzen Zungenbandes in Berührung kommen. Es soll ein Einblick in die Komplexität dieses Themas gegeben werden\, sowie in die Arbeit mit den Betroffenen und deren Familien. \nLernziel\nDas Seminar dient der Vertiefung des Wissens der Begleitung von Säuglingen mit oralen Restriktionen (Zungen-\, Lippenband). Neben der Vor- und Nachbegleitung wird das aktive Wundmanagement beleuchtet. Einen wichtigen Teil nimmt die individuelle Anpassung des Wundmanagements ein. Der Supervisionstermin bietet die Möglichkeit eigene Fälle in der Gruppe zu besprechen und vom Schwarmwissen der Teilnehmenden zu profitieren.
URL:https://semifobi.de/seminar/restriktive-orale-baender-beim-saeugling-aufbaukurs/
CATEGORIES:Ergo & Logo,Frenotomie/ Zungenband,Hebammen & Logo,Logopädie Interdisziplinär,MFS/ OFD,MFS/ OFD/ Zungenband,Osteopathie & Logo,Pädagogik & Logo,Physio & Logo
LOCATION:https://semifobi.de/seminar/restriktive-orale-baender-beim-saeugling-aufbaukurs/
END:VEVENT
BEGIN:VEVENT
DTSTART;TZID=Europe/Berlin:20241212T000000
DTEND;TZID=Europe/Berlin:20241214T000000
DTSTAMP:20260421T222850
CREATED:20240716T072222Z
LAST-MODIFIED:20241122T085414Z
UID:10000046-1733961600-1734134400@semifobi.de
SUMMARY:"Erzähl mal!“
DESCRIPTION:Narrative Kompetenzen und die Verarbeitung von Texten im Kindesalter\nIn Ausbildung und Studium wird das Thema “Kindliche Erzählkompetenzen” oftmals nicht ausreichend thematisiert.\nMeine Seminarteilnehmenden spiegeln mir oft zurück\, dass sie sich nicht ausreichend informiert fühlen\, um mit Kindern fundiert am Aufbau von Erzählkompetenzen zu arbeiten. Sie wünschen sich\, einen logischen Aufbau des therapeutischen Vorgehens kennen zu lernen\, und mehr Ideen für die Umsetzung.  Hier setzt mein Seminar an\, indem zum Einen die Theorie verdeutlicht wird und zum Anderen eine Vielzahl an Praxisideen aus Praxis\, Schule und Kita gegeben wird. \nDas Produzieren und Verstehen von Texten (vor allem von Erzählungen) begegnet uns immer wieder im Alltag und es stellt eine hohe sprachliche und kognitive Anforderung an uns. Vor allem Kinder mit Spracherwerbsproblemen zeigen hier Schwierigkeiten. Dabei ist die Fähigkeit\, selbst zu erzählen und Erzählungen zu verstehen\, eine wichtige Voraussetzung für den späteren schulischen Erfolg.Zunächst werden die theoretischen Grundlagen anschaulich unter Einbeziehung der ak-tuellen Forschung vermittelt und die TeilnehmerInnen lernen die diagnostischen und therapeutischen Möglichkeiten kennen. Den Schwerpunkt des Seminars bildet der Praxisblock mit vielen kreativen Übungs- und Spielideen zur Förderung erster kleiner Geschichten im jungen Kindergartenalter bis hin zum schriftlichen Erzählen und zum Um-gang mit anderen Textsorten im Jugendalter. \nSeminarteilnehmerInnen sollten Lust zum Spielen und Ausprobieren mitbringen. \n 
URL:https://semifobi.de/seminar/erzaehl-mal/
CATEGORIES:Pädiatrie,Sprachentwicklung/ Grammatik/ Wortschatz
ATTACH;FMTTYPE=image/jpeg:https://semifobi.de/wp-content/uploads/2024/08/Erzaehl-mal-Narrative-Kompetenzen-und-die-Verarbeitung-von-Texten-im-Kindesalter.jpg
LOCATION:https://semifobi.de/seminar/erzaehl-mal/
END:VEVENT
END:VCALENDAR