BEGIN:VCALENDAR
VERSION:2.0
PRODID:-//Seminar-und Fortbildungszentrum Rheine - ECPv6.15.20//NONSGML v1.0//EN
CALSCALE:GREGORIAN
METHOD:PUBLISH
X-WR-CALNAME:Seminar-und Fortbildungszentrum Rheine
X-ORIGINAL-URL:https://semifobi.de
X-WR-CALDESC:Veranstaltungen für Seminar-und Fortbildungszentrum Rheine
REFRESH-INTERVAL;VALUE=DURATION:PT1H
X-Robots-Tag:noindex
X-PUBLISHED-TTL:PT1H
BEGIN:VTIMEZONE
TZID:Europe/Berlin
BEGIN:DAYLIGHT
TZOFFSETFROM:+0100
TZOFFSETTO:+0200
TZNAME:CEST
DTSTART:20240331T010000
END:DAYLIGHT
BEGIN:STANDARD
TZOFFSETFROM:+0200
TZOFFSETTO:+0100
TZNAME:CET
DTSTART:20241027T010000
END:STANDARD
BEGIN:DAYLIGHT
TZOFFSETFROM:+0100
TZOFFSETTO:+0200
TZNAME:CEST
DTSTART:20250330T010000
END:DAYLIGHT
BEGIN:STANDARD
TZOFFSETFROM:+0200
TZOFFSETTO:+0100
TZNAME:CET
DTSTART:20251026T010000
END:STANDARD
BEGIN:DAYLIGHT
TZOFFSETFROM:+0100
TZOFFSETTO:+0200
TZNAME:CEST
DTSTART:20260329T010000
END:DAYLIGHT
BEGIN:STANDARD
TZOFFSETFROM:+0200
TZOFFSETTO:+0100
TZNAME:CET
DTSTART:20261025T010000
END:STANDARD
END:VTIMEZONE
BEGIN:VEVENT
DTSTART;TZID=Europe/Berlin:20251122T100000
DTEND;TZID=Europe/Berlin:20251123T163000
DTSTAMP:20260422T044502
CREATED:20240821T093316Z
LAST-MODIFIED:20251117T102927Z
UID:10000105-1763805600-1763915400@semifobi.de
SUMMARY:Elektrotherapie bei Sprech-\, Stimm- und Schluckstörungen
DESCRIPTION:Theoretische und praktische Ausbildungsinhalte zum Thema Elektrotherapie nach Vorgaben der Medizinprodukte-Betreiberverordnung (MPBetreibV).\nDerzeit wird die funktionelle Therapie als Standardverfahren zur Behandlung von Schluckstörungen eingesetzt. Auf eine Behandlung mit Reizstrom wird dagegen nur selten zurückgegriffen. Dabei lässt sich durch Reizstrom die Schluckfähigkeit unmittelbar beeinflussen\, selbst wenn der Störungsbeginn schon längere Zeit zurückliegt. Bei der Elektrotherapie handelt es sich um einen klassischen Ansatz zur Behandlung von motorischen Schädigungen\, der seit Jahrzehnten im orthopädischen und physiotherapeutischen Bereich zum Einsatz kommt und dessen Wirksamkeit unbestritten ist.\nDie Kombination aus Elektrotherapie und funktioneller Therapie bietet dabei ungleich mehr Möglichkeiten\, als der alleinige Einsatz übender oder kompensatorischer Verfahren.Das Seminar bietet einen Einstieg in die Elektrotherapie mit dem Schwerpunkt der Behandlung neurogener Dysphagien. Neben Fallbeispielen werden aktuelle Studienergebnisse vorgestellt und die praktische Anwendung der Reizstromtechnik vermittelt. \nDazu werden die Grundlagen der Elektrodiagnostik erarbeitet und die Teilnehmer zur eigenständigen Planung und Durchführung der Reizstromtherapie (u.a. bei Fazialis- und Larynxparesen sowie bei Dysarthrie und Sprechapraxie) angeleitet.
URL:https://semifobi.de/seminar/elektrotherapie-bei-sprech-stimm-und-schluckstoerungen/
LOCATION:TAT Rheine\, Hovesaatstraße 6\, Rheine\, 48432\, Deutschland
CATEGORIES:allgemeine Dysphagie,Fazialisparese,Neurologie/ Dysphagie,Stimme & Stimmklang,Stimmstörung,Stimmtraining
ATTACH;FMTTYPE=image/jpeg:https://semifobi.de/wp-content/uploads/2024/12/Intensivseminar-zur-Elektrotherapie-bei.jpg
END:VEVENT
END:VCALENDAR