BEGIN:VCALENDAR
VERSION:2.0
PRODID:-//Seminar-und Fortbildungszentrum Rheine - ECPv6.15.20//NONSGML v1.0//EN
CALSCALE:GREGORIAN
METHOD:PUBLISH
X-WR-CALNAME:Seminar-und Fortbildungszentrum Rheine
X-ORIGINAL-URL:https://semifobi.de
X-WR-CALDESC:Veranstaltungen für Seminar-und Fortbildungszentrum Rheine
REFRESH-INTERVAL;VALUE=DURATION:PT1H
X-Robots-Tag:noindex
X-PUBLISHED-TTL:PT1H
BEGIN:VTIMEZONE
TZID:Europe/Berlin
BEGIN:DAYLIGHT
TZOFFSETFROM:+0100
TZOFFSETTO:+0200
TZNAME:CEST
DTSTART:20240331T010000
END:DAYLIGHT
BEGIN:STANDARD
TZOFFSETFROM:+0200
TZOFFSETTO:+0100
TZNAME:CET
DTSTART:20241027T010000
END:STANDARD
BEGIN:DAYLIGHT
TZOFFSETFROM:+0100
TZOFFSETTO:+0200
TZNAME:CEST
DTSTART:20250330T010000
END:DAYLIGHT
BEGIN:STANDARD
TZOFFSETFROM:+0200
TZOFFSETTO:+0100
TZNAME:CET
DTSTART:20251026T010000
END:STANDARD
BEGIN:DAYLIGHT
TZOFFSETFROM:+0100
TZOFFSETTO:+0200
TZNAME:CEST
DTSTART:20260329T010000
END:DAYLIGHT
BEGIN:STANDARD
TZOFFSETFROM:+0200
TZOFFSETTO:+0100
TZNAME:CET
DTSTART:20261025T010000
END:STANDARD
END:VTIMEZONE
BEGIN:VEVENT
DTSTART;TZID=Europe/Berlin:20250912T150000
DTEND;TZID=Europe/Berlin:20250914T140000
DTSTAMP:20260419T203305
CREATED:20241104T095007Z
LAST-MODIFIED:20250911T081940Z
UID:10000171-1757689200-1757858400@semifobi.de
SUMMARY:Manuelle Schlucktherapie III Zertifizierungskurs
DESCRIPTION:Die Teilnahme an Modul 3 der Manuellen Schlucktherapie bietet einen klaren Praxisvorsprung: fachlich\, methodisch und beruflich\nLogopäd:innen\, Sprach- und Stimmtherapeut:innen mit Interesse an Dysphagie und Beatmungspatient:innen erhalten in diesem Kurs eine sehr praxisnahe\, prozessbegleitete Fortsetzung des modularen Curriculums – ideal für alle\, die professionell und sicher in der manuellen Schlucktherapie arbeiten möchten. \n\nDurch die gezielte Kleingruppenarbeit mit realen Patient:innen gewinnen Therapeut:innen an Sicherheit im klinischen Alltag.\nDas Videofeedback fördert eine präzise Selbsteinschätzung und stärkt die Qualität der Behandlung.\nZusätzlich erhöht die Zertifizierung die eigene Sichtbarkeit – z. B. durch die Aufnahme in die offizielle Therapeutenliste der N.A.P.-Akademie. So profitieren Teilnehmende fachlich\, methodisch und beruflich gleichermaßen.
URL:https://semifobi.de/seminar/manuelle-schlucktherapie-iii-zertifizierungskurs/
LOCATION:TAT Rheine\, Hovesaatstraße 6\, Rheine\, 48432\, Deutschland
CATEGORIES:allgemeine Dysphagie,Neurologie/ Dysphagie,Stimme & Stimmklang,Stimmstörung
ATTACH;FMTTYPE=image/jpeg:https://semifobi.de/wp-content/uploads/2024/11/Manuelle-Schlucktherapie-III-1.jpg
END:VEVENT
BEGIN:VEVENT
DTSTART;TZID=Europe/Berlin:20250509T150000
DTEND;TZID=Europe/Berlin:20250511T140000
DTSTAMP:20260419T203305
CREATED:20241030T084739Z
LAST-MODIFIED:20250410T083757Z
UID:10000166-1746802800-1746972000@semifobi.de
SUMMARY:Manuelle Schlucktherapie II
DESCRIPTION:In der Manuellen Schlucktherapie verbindet sich das Vorgehen aus der NAP® mit den sequentiellen Betrachtungen von Schlucken und Atmung und ihre Koordination aus der Facio-Oralen Trakt Therapie (F.O.T.T.®).\nDieses Vorgehen ist ebenso erfolgreich anwendbar bei Patienten mit Sprech- und Stimmstörungen zentraler und peripher Genese\, u.a. bei myofunktionellen Störungen. Ziel dieser drei- moduligen Kursreihe ist\, die Bedeutung der posturalen Kontrolle für das Schlucken zu verstehen. \nNach Verletzungen und Erkrankungen kommt es zu limbisch gesteuerten und vegetativ generierten Schutzprogrammen\, die mit Steifigkeit der am Sprechen\, Kauen und Schlucken und vor allem an der Atmung beteiligten Muskulatur einhergehen. Auch die Faszien verlieren Elastizität\, was zu einer verminderten Gleitfähigkeit der Nerven führt.
URL:https://semifobi.de/seminar/manuelle-schlucktherapie-ii/
LOCATION:TAT Rheine\, Hovesaatstraße 6\, Rheine\, 48432\, Deutschland
CATEGORIES:allgemeine Dysphagie,Neurologie/ Dysphagie,Stimme & Stimmklang,Stimmstörung
ATTACH;FMTTYPE=image/jpeg:https://semifobi.de/wp-content/uploads/2024/11/Manuelle-Schlucktherapie-II.jpg
END:VEVENT
BEGIN:VEVENT
DTSTART;TZID=Europe/Berlin:20250221T150000
DTEND;TZID=Europe/Berlin:20250223T150000
DTSTAMP:20260419T203305
CREATED:20241030T092328Z
LAST-MODIFIED:20241217T103056Z
UID:10000167-1740150000-1740322800@semifobi.de
SUMMARY:Manuelle Schlucktherapie I
DESCRIPTION:In der Manuellen Schlucktherapie verbindet sich das Vorgehen aus der NAP® mit den sequentiellen Betrachtungen von Schlucken und Atmung und ihre Koordination aus der Facio-Oralen Trakt Therapie (F.O.T.T.®).\nDieses Vorgehen ist ebenso erfolgreich anwendbar bei Patienten mit Sprech- und Stimmstörungen zentraler und peripher Genese\, u.a. bei myofunktionellen Störungen. Ziel dieser drei-moduligen Kursreihe ist\, die Bedeutung der posturalen Kontrolle für das Schlucken zu verstehen. \nNach Verletzungen und Erkrankungen kommt es zu limbisch gesteuerten und vegetativ generierten Schutzprogrammen\, die mit Steifigkeit der am Sprechen\, Kauen und Schlucken und vor allem an der Atmung beteiligten Muskulatur einhergehen. Auch die Faszien verlieren Elastizität\, was zu einer verminderten Gleitfähigkeit der Nerven führt.
URL:https://semifobi.de/seminar/manuelle-schlucktherapie-i/
LOCATION:TAT Rheine\, Hovesaatstraße 6\, Rheine\, 48432\, Deutschland
CATEGORIES:allgemeine Dysphagie,Neurologie/ Dysphagie,Stimme & Stimmklang,Stimmstörung
ATTACH;FMTTYPE=image/jpeg:https://semifobi.de/wp-content/uploads/2024/11/Manuelle-Schlucktherapie-I.jpg
END:VEVENT
END:VCALENDAR