BEGIN:VCALENDAR
VERSION:2.0
PRODID:-//Seminar-und Fortbildungszentrum Rheine - ECPv6.15.20//NONSGML v1.0//EN
CALSCALE:GREGORIAN
METHOD:PUBLISH
X-WR-CALNAME:Seminar-und Fortbildungszentrum Rheine
X-ORIGINAL-URL:https://semifobi.de
X-WR-CALDESC:Veranstaltungen für Seminar-und Fortbildungszentrum Rheine
REFRESH-INTERVAL;VALUE=DURATION:PT1H
X-Robots-Tag:noindex
X-PUBLISHED-TTL:PT1H
BEGIN:VTIMEZONE
TZID:Europe/Berlin
BEGIN:DAYLIGHT
TZOFFSETFROM:+0100
TZOFFSETTO:+0200
TZNAME:CEST
DTSTART:20250330T010000
END:DAYLIGHT
BEGIN:STANDARD
TZOFFSETFROM:+0200
TZOFFSETTO:+0100
TZNAME:CET
DTSTART:20251026T010000
END:STANDARD
BEGIN:DAYLIGHT
TZOFFSETFROM:+0100
TZOFFSETTO:+0200
TZNAME:CEST
DTSTART:20260329T010000
END:DAYLIGHT
BEGIN:STANDARD
TZOFFSETFROM:+0200
TZOFFSETTO:+0100
TZNAME:CET
DTSTART:20261025T010000
END:STANDARD
BEGIN:DAYLIGHT
TZOFFSETFROM:+0100
TZOFFSETTO:+0200
TZNAME:CEST
DTSTART:20270328T010000
END:DAYLIGHT
BEGIN:STANDARD
TZOFFSETFROM:+0200
TZOFFSETTO:+0100
TZNAME:CET
DTSTART:20271031T010000
END:STANDARD
END:VTIMEZONE
BEGIN:VEVENT
DTSTART;TZID=Europe/Berlin:20260612T150000
DTEND;TZID=Europe/Berlin:20260614T140000
DTSTAMP:20260421T222344
CREATED:20250623T095648Z
LAST-MODIFIED:20260420T095547Z
UID:10000341-1781276400-1781445600@semifobi.de
SUMMARY:Manuelle Schlucktherapie I – NAP® & F.O.T.T.® für Therapeut:innen
DESCRIPTION:Manuelle Techniken bei Dysphagie\, Stimme und myofunktionellen Störungen\nIn der Manuellen Schlucktherapie I verbindest du manuelle Techniken mit fundiertem Wissen zu Schlucken\, Atmung und posturaler Kontrolle – für mehr Sicherheit im Umgang mit Patient:innen mit Schluck-\, Sprech- und Stimmstörungen. Die Fortbildung richtet sich an Fachkräfte aus Logopädie\, klinischer Linguistik\, Ergotherapie\, Physiotherapie und Medizin\, die ihre Behandlung von Dysphagien und myofunktionellen Störungen praxisnah vertiefen möchten. In der Manuellen Schlucktherapie werden das Vorgehen aus der NAP® (Neuroorthopädische Aktivitätsabhängige Plastizität) mit den sequentiellen Betrachtungen von Schlucken und Atmung aus der Facio-Oralen Trakt Therapie (F.O.T.T.®) kombiniert. Du lernst\, wie eng Schlucken\, Atmung und Haltung zusammenhängen und wie du posturale Kontrolle gezielt nutzt\, um sichere und effektivere Schluckabläufe zu ermöglichen. \nManuelle Techniken bei Dysphagie\, Stimme und myofunktionellen Störungen\nNach Verletzungen und neurologischen Erkrankungen aktiviert der Körper Schutzprogramme\, die limbisch und vegetativ gesteuert sind und zu erhöhter Muskelsteifigkeit im Bereich von Kopf\, Nacken\, Schultergürtel und Atemmuskulatur führen. Gleichzeitig verlieren Faszien an Elastizität\, was die Gleitfähigkeit der Nerven und damit die Bewegungsqualität von Sprechen\, Kauen und Schlucken beeinträchtigt. Genau hier setzt die Manuelle Schlucktherapie an: Du lernst\, diese Schutzmuster zu erkennen\, zu regulieren und über Haltung und gezielte Handgriffe funktionelle Bewegungsabläufe wieder anzubahnen. \nInhalte der Manuellen Schlucktherapie I\nIm ersten Modul der dreiteiligen Kursreihe liegt der Fokus auf den Grundlagen\, die du für eine differenzierte Behandlung von Schluckstörungen brauchst. Du arbeitest unter anderem zu folgenden Themen: \n\nEinfluss des limbischen Systems auf Haltung und posturale Kontrolle beim Schlucken.\n​Anatomie und Biomechanik der Kopf-\, Nacken- und Schultergürtelmuskulatur in Bezug auf Schlucken\, Atmung und Stimme.\nMotorische Lernprinzipien\, mit denen du neue Bewegungsmuster nachhaltig im Alltag deiner Patient:innen verankerst.\n​Elastizitätsförderung der Atem- und Schluckmuskulatur\, um Beweglichkeit und Funktion zu verbessern.\nMaßnahmen zur Dämpfung des Sympathikotonus zur Reduktion von Tonuserhöhung\, Stressreaktionen und Schonhaltungen.\nGesichts- und Zungenaktivitäten für das Schlucken als Sequenz\, orientiert an F.O.T.T.® und alltagsnahen Handlungsketten.\n\nDie Inhalte sind konsequent praxisorientiert aufgebaut\, sodass du jede Technik im Kurs selbst erprobst und klar auf deinen Berufsalltag übertragen kannst. \nFür welche Patient:innen eignet sich die Manuelle Schlucktherapie?\nDie vermittelten Techniken eignen sich für: \n\nPatient:innen mit Schluckstörungen (Dysphagien) unterschiedlicher Genese.\nMenschen mit Sprech- und Stimmstörungen zentraler oder peripherer Ursache\, inklusive myofunktioneller Störungen.\nSchwerbetroffene Patient:innen\, die beatmet werden müssen oder an Vigilanzstörungen leiden.\nNeurologische Patient:innen\, bei denen Haltung\, Atmung und Schlucken gleichzeitig adressiert werden sollen.\n\nDu lernst\, manuelle Techniken immer mit sinnvollen\, alltagsrelevanten Handlungen zu verknüpfen – ein Ansatz\, der die Wirksamkeit deiner Therapie deutlich erhöhen kann. \nPraktische Hinweise und Arbeitsmaterial\nFür das praktische Arbeiten im Seminar bringst du bitte eine Decke\, ein kleines Kissen\, ein Handtuch sowie einen Kajal-Stift mit. Diese Materialien unterstützen dich dabei\, Lagerung\, Markierungen und manuelle Techniken komfortabel und strukturiert durchzuführen. Das Seminar findet als Präsenzveranstaltung in Rheine (Nordrhein-Westfalen) statt und ist Teil einer dreimoduligen Weiterbildung\, die mit einem Zertifikat abgeschlossen werden kann. \nExpertise der Dozent:innen\nDie Kursreihe wird von Dozent:innen der N.A.P.-Akademie durchgeführt\, die über langjährige Erfahrung in der Behandlung von neurologischen Patient:innen\, Dysphagien und myofunktionellen Störungen verfügen. Du profitierst von einem hohen Praxisanteil\, konkreten Fallbeispielen und klaren Handlungsstrategien\, die du direkt nach dem Seminar in deiner Arbeit mit Patient:innen umsetzen kannst. \nZertifikatskurs: So geht es in Modul II und III weiter\nManuelle Schlucktherapie II – Mehr Beweglichkeit für Kau‑\, Schluck- und Stimmfunktion\nIm zweiten Teil der Manuellen Schlucktherapie vertiefst du deine praktischen Fähigkeiten: Du arbeitest intensiver an der Elastizität von Kau-\, Schluck-\, Stimm- und Sprechmuskulatur und lernst Mobilisationstechniken für Kiefergelenk\, Kopfgelenke und den cervikothorakalen Übergang kennen. Befundorientierte\, problemlösende Strategien helfen dir\, deine manuellen Techniken noch gezielter mit sinnvollen Handlungen im Alltag deiner Patient:innen zu verknüpfen. \nManuelle Schlucktherapie III Zertifizierungskurs –  Arbeiten mit echten Patient:innen\, Videofeedback und klarer Therapeuten-Profile\n\n\n\n\n\n\n\n\n\n\n\n\n\n\n\n\n\n\n\nIm dritten Teil\, dem Zertifizierungskurs\, setzt du dein Wissen direkt an realen Patient:innen um und gewinnst durch Kleingruppenarbeit und Videofeedback maximale Sicherheit für deinen klinischen Alltag. Mit dem Abschluss stärkst du nicht nur deine therapeutische Kompetenz\, sondern erhöhst auch deine Sichtbarkeit als spezialisierte Therapeut:in in der Manuellen Schlucktherapie.
URL:https://semifobi.de/seminar/manuelle-schlucktherapie-i-2/
LOCATION:TAT Rheine\, Hovesaatstraße 6\, Rheine\, 48432\, Deutschland
CATEGORIES:allgemeine Dysphagie,Neurologie/ Dysphagie,Stimme & Stimmklang,Stimmstörung
ATTACH;FMTTYPE=image/jpeg:https://semifobi.de/wp-content/uploads/2024/11/Manuelle-Schlucktherapie-I.jpg
END:VEVENT
BEGIN:VEVENT
DTSTART;TZID=Europe/Berlin:20260904T150000
DTEND;TZID=Europe/Berlin:20260906T140000
DTSTAMP:20260421T222344
CREATED:20250623T095817Z
LAST-MODIFIED:20250623T095817Z
UID:10000342-1788534000-1788703200@semifobi.de
SUMMARY:Manuelle Schlucktherapie II
DESCRIPTION:In der Manuellen Schlucktherapie verbindet sich das Vorgehen aus der NAP® mit den sequentiellen Betrachtungen von Schlucken und Atmung und ihre Koordination aus der Facio-Oralen Trakt Therapie (F.O.T.T.®).\nDieses Vorgehen ist ebenso erfolgreich anwendbar bei Patienten mit Sprech- und Stimmstörungen zentraler und peripher Genese\, u.a. bei myofunktionellen Störungen. Ziel dieser drei- moduligen Kursreihe ist\, die Bedeutung der posturalen Kontrolle für das Schlucken zu verstehen. \nNach Verletzungen und Erkrankungen kommt es zu limbisch gesteuerten und vegetativ generierten Schutzprogrammen\, die mit Steifigkeit der am Sprechen\, Kauen und Schlucken und vor allem an der Atmung beteiligten Muskulatur einhergehen. Auch die Faszien verlieren Elastizität\, was zu einer verminderten Gleitfähigkeit der Nerven führt.
URL:https://semifobi.de/seminar/manuelle-schlucktherapie-ii-2/
LOCATION:TAT Rheine\, Hovesaatstraße 6\, Rheine\, 48432\, Deutschland
CATEGORIES:allgemeine Dysphagie,Neurologie/ Dysphagie,Stimme & Stimmklang,Stimmstörung
ATTACH;FMTTYPE=image/jpeg:https://semifobi.de/wp-content/uploads/2024/11/Manuelle-Schlucktherapie-II.jpg
END:VEVENT
BEGIN:VEVENT
DTSTART;TZID=Europe/Berlin:20261120T150000
DTEND;TZID=Europe/Berlin:20261122T140000
DTSTAMP:20260421T222344
CREATED:20250623T095957Z
LAST-MODIFIED:20250825T144210Z
UID:10000343-1795186800-1795356000@semifobi.de
SUMMARY:Manuelle Schlucktherapie III Zertifizierungskurs
DESCRIPTION:Die Teilnahme an Modul 3 der Manuellen Schlucktherapie bietet einen klaren Praxisvorsprung: fachlich\, methodisch und beruflich\nLogopäd:innen\, Sprach- und Stimmtherapeut:innen mit Interesse an Dysphagie und Beatmungspatient:innen erhalten in diesem Kurs eine sehr praxisnahe\, prozessbegleitete Fortsetzung des modularen Curriculums – ideal für alle\, die professionell und sicher in der manuellen Schlucktherapie arbeiten möchten. \n\nDurch die gezielte Kleingruppenarbeit mit realen Patient:innen gewinnen Therapeut:innen an Sicherheit im klinischen Alltag.\nDas Videofeedback fördert eine präzise Selbsteinschätzung und stärkt die Qualität der Behandlung.\nZusätzlich erhöht die Zertifizierung die eigene Sichtbarkeit – z. B. durch die Aufnahme in die offizielle Therapeutenliste der N.A.P.-Akademie. So profitieren Teilnehmende fachlich\, methodisch und beruflich gleichermaßen.
URL:https://semifobi.de/seminar/manuelle-schlucktherapie-iii-zertifizierungskurs-2/
LOCATION:TAT Rheine\, Hovesaatstraße 6\, Rheine\, 48432\, Deutschland
CATEGORIES:allgemeine Dysphagie,Neurologie/ Dysphagie,Stimme & Stimmklang,Stimmstörung
ATTACH;FMTTYPE=image/jpeg:https://semifobi.de/wp-content/uploads/2024/11/Manuelle-Schlucktherapie-III-1.jpg
END:VEVENT
END:VCALENDAR