BEGIN:VCALENDAR
VERSION:2.0
PRODID:-//Seminar-und Fortbildungszentrum Rheine - ECPv6.15.20//NONSGML v1.0//EN
CALSCALE:GREGORIAN
METHOD:PUBLISH
X-ORIGINAL-URL:https://semifobi.de
X-WR-CALDESC:Veranstaltungen für Seminar-und Fortbildungszentrum Rheine
REFRESH-INTERVAL;VALUE=DURATION:PT1H
X-Robots-Tag:noindex
X-PUBLISHED-TTL:PT1H
BEGIN:VTIMEZONE
TZID:Europe/Berlin
BEGIN:DAYLIGHT
TZOFFSETFROM:+0100
TZOFFSETTO:+0200
TZNAME:CEST
DTSTART:20230326T010000
END:DAYLIGHT
BEGIN:STANDARD
TZOFFSETFROM:+0200
TZOFFSETTO:+0100
TZNAME:CET
DTSTART:20231029T010000
END:STANDARD
BEGIN:DAYLIGHT
TZOFFSETFROM:+0100
TZOFFSETTO:+0200
TZNAME:CEST
DTSTART:20240331T010000
END:DAYLIGHT
BEGIN:STANDARD
TZOFFSETFROM:+0200
TZOFFSETTO:+0100
TZNAME:CET
DTSTART:20241027T010000
END:STANDARD
BEGIN:DAYLIGHT
TZOFFSETFROM:+0100
TZOFFSETTO:+0200
TZNAME:CEST
DTSTART:20250330T010000
END:DAYLIGHT
BEGIN:STANDARD
TZOFFSETFROM:+0200
TZOFFSETTO:+0100
TZNAME:CET
DTSTART:20251026T010000
END:STANDARD
BEGIN:DAYLIGHT
TZOFFSETFROM:+0100
TZOFFSETTO:+0200
TZNAME:CEST
DTSTART:20260329T010000
END:DAYLIGHT
BEGIN:STANDARD
TZOFFSETFROM:+0200
TZOFFSETTO:+0100
TZNAME:CET
DTSTART:20261025T010000
END:STANDARD
END:VTIMEZONE
BEGIN:VEVENT
DTSTART;TZID=Europe/Berlin:20251210T180000
DTEND;TZID=Europe/Berlin:20251210T211500
DTSTAMP:20260424T084800
CREATED:20240711T064842Z
LAST-MODIFIED:20251124T144732Z
UID:10000030-1765389600-1765401300@semifobi.de
SUMMARY:Spielend lernen - spielpädagogische Ansätze in der LRS-Therapie
DESCRIPTION:Spielpädagogik bei LRS?\nWenn Lerninhalte nicht als Pflicht\, sondern als spannende Aktivität erlebt werden: Spielerische Methoden stärken Lust und Freude am Umgang mit Sprache\, was nicht nur die Motivation der Kinder stärkt sondern auch ein positives Lernklima schafft und neue Chancen für einen erfolgreichen Therapieverlauf eröffnet.\nKinder mit LRS haben oft Hemmungen oder sogar eine Abneigung gegenüber Lesen und Schreiben. Das liegt nicht selten daran\, dass sie sich zu oft erfolglos an traditionellen Übungen versuchen mussten. Hier setzt die Spielpädagogik an: Sie ermöglicht dir\, Therapieeinheiten so zu gestalten\, dass Kinder sich spielerisch mit Sprache beschäftigen. Dadurch werden Lerninhalte nicht als Pflicht\, sondern als spannende Aktivität erlebt. Evidenzbasierte Programme setzen gezielt auf diese Ansätze\, denn sie steigern die Leistungsbereitschaft und die Freude am Lernen. \n\nDu lernst unterschiedliche Lernspiele kennen\, die du flexibel und altersgerecht einsetzen kannst.\nDu entwickelst deinen eigenen Methodenkoffer\, mit dem du passend zur Zielgruppe und den Leistungsniveaus variieren kannst.\nDer Aufbau des Seminars orientiert sich daran\, beliebte Spiele für die LRS-Therapie zu adaptieren – so sorgst du für Abwechslung und Motivation in jedem Setting.\nDie Einbindung von PC-basierten Spielformen wird ebenso behandelt\, sodass du digitale Angebote sinnvoll nutzen kannst.\nFür spezifische Trainingsbereiche (zum Beispiel Morpheme) erhältst du gezielte Spielideen\, die du direkt in Deiner Praxis umsetzen kannst.\n\n*Für Logopäd:innen in Deutschland 2 Fortbildungspunkte weitere Berufsgruppen 4 Fortbildungspunkte.
URL:https://semifobi.de/seminar/spielend-lernen/
CATEGORIES:LRS,LRS/ AVWS/ Hörstörung
ATTACH;FMTTYPE=image/jpeg:https://semifobi.de/wp-content/uploads/2024/07/LRS-Therapie.jpg
LOCATION:https://semifobi.de/seminar/spielend-lernen/
END:VEVENT
BEGIN:VEVENT
DTSTART;TZID=Europe/Berlin:20241126T100000
DTEND;TZID=Europe/Berlin:20241126T171500
DTSTAMP:20260424T084800
CREATED:20240710T083224Z
LAST-MODIFIED:20241017T115518Z
UID:10000013-1732615200-1732641300@semifobi.de
SUMMARY:Was wirklich hilft
DESCRIPTION:Ein Überblick über die evidenzbasierte LRS-Förderung\nIm Seminar werden unterschiedliche\, evidenzbasierte Förderkonzepte präsentiert.\nDadurch lernen Therapeut:innen verschiedene Methoden für diverse Alters -und Leisungsniveaus kennen und können im Therapiealltag passgenaue Lösungen für unterschieldiche Problembereiche des Schriftspracherwerbs entwickeln.\n \nDas Angebot an Fördermaterialien im Bereich LRS ist riesig. Allerdings wurde die Wirkung der meisten dieser Materialien nicht wissenschaftlich überprüft. Damit sich Therapeut:innen nicht ausschließlich auf Beobachtung und ihre Intuition verlassen müssen\, wird im Seminar ein Überblick über evidenzbasiertes Therapiematerial auf den unterschiedlichen Entwicklungsstufen im Schriftspracherwerb gegeben. Der Fokus liegt dabei auf der praktischen Anwendung der Materialien in der Arbeit mit lese- und rechtschreibschwachen Kindern und Jugendlichen.
URL:https://semifobi.de/seminar/was-wirklich-hilft/
CATEGORIES:LRS,LRS/ AVWS/ Hörstörung
ATTACH;FMTTYPE=image/jpeg:https://semifobi.de/wp-content/uploads/2024/08/Ein-Ueberblick-ueber-die-evidenzbasierte-LRS-Foerderung-in-der-therapeutischen-Praxis.jpg
LOCATION:https://semifobi.de/seminar/was-wirklich-hilft/
END:VEVENT
END:VCALENDAR