BEGIN:VCALENDAR
VERSION:2.0
PRODID:-//Seminar-und Fortbildungszentrum Rheine - ECPv6.15.20//NONSGML v1.0//EN
CALSCALE:GREGORIAN
METHOD:PUBLISH
X-ORIGINAL-URL:https://semifobi.de
X-WR-CALDESC:Veranstaltungen für Seminar-und Fortbildungszentrum Rheine
REFRESH-INTERVAL;VALUE=DURATION:PT1H
X-Robots-Tag:noindex
X-PUBLISHED-TTL:PT1H
BEGIN:VTIMEZONE
TZID:Europe/Berlin
BEGIN:DAYLIGHT
TZOFFSETFROM:+0100
TZOFFSETTO:+0200
TZNAME:CEST
DTSTART:20240331T010000
END:DAYLIGHT
BEGIN:STANDARD
TZOFFSETFROM:+0200
TZOFFSETTO:+0100
TZNAME:CET
DTSTART:20241027T010000
END:STANDARD
BEGIN:DAYLIGHT
TZOFFSETFROM:+0100
TZOFFSETTO:+0200
TZNAME:CEST
DTSTART:20250330T010000
END:DAYLIGHT
BEGIN:STANDARD
TZOFFSETFROM:+0200
TZOFFSETTO:+0100
TZNAME:CET
DTSTART:20251026T010000
END:STANDARD
BEGIN:DAYLIGHT
TZOFFSETFROM:+0100
TZOFFSETTO:+0200
TZNAME:CEST
DTSTART:20260329T010000
END:DAYLIGHT
BEGIN:STANDARD
TZOFFSETFROM:+0200
TZOFFSETTO:+0100
TZNAME:CET
DTSTART:20261025T010000
END:STANDARD
END:VTIMEZONE
BEGIN:VEVENT
DTSTART;TZID=Europe/Berlin:20250613T090000
DTEND;TZID=Europe/Berlin:20250614T163000
DTSTAMP:20260422T132554
CREATED:20241121T093900Z
LAST-MODIFIED:20250410T085841Z
UID:10000196-1749805200-1749918600@semifobi.de
SUMMARY:Mut heißt machen: Kindern mit selektivem Mutismus in´s Sprechen helfen
DESCRIPTION:Kinder mit selektivem Mutismus leiden unter einer Angststörung\, die eine massive Kommunikations- und Sprechblockade bewirkt. Betroffene können meist zuhause und mit vertrauten Personen sprechen\, bringen aber in sozialen Situationen\, in denen Sprechen erwartet wird – z.B. im Kindergarten oder in der Schule kein Wort heraus. Therapeut:innen\, Eltern und Lehrpersonen stellt das schweigende Verhalten vor große Herausforderungen.\nGrundlage des Seminars ist das verhaltenstherapeutische Konzept der Parent-Child-Interaction Therapy Adapted for selective Mutism (PCIT-SM). Um miteinander die Techniken dieses Ansatzes zu üben\, legen sich die Teilnehmenden bitte Spielzeug parat\, das sich zum Freispiel eignet – z.B. Lego\, Bausteine oder Knete. Der Kurs ist geeignet für Therapierende\, Lehrpersonen und Eltern\, die ein Kind im Alter von 3 bis 11 Jahren unterstützen\, das selektiven Mutismus hat.
URL:https://semifobi.de/seminar/mut-heisst-machen/
CATEGORIES:Mutismus,Neurodiversität/ Mutismus
ATTACH;FMTTYPE=image/jpeg:https://semifobi.de/wp-content/uploads/2024/12/Mut-heisst-machen.jpg
LOCATION:https://semifobi.de/seminar/mut-heisst-machen/
END:VEVENT
END:VCALENDAR