BEGIN:VCALENDAR
VERSION:2.0
PRODID:-//Seminar-und Fortbildungszentrum Rheine - ECPv6.15.20//NONSGML v1.0//EN
CALSCALE:GREGORIAN
METHOD:PUBLISH
X-WR-CALNAME:Seminar-und Fortbildungszentrum Rheine
X-ORIGINAL-URL:https://semifobi.de
X-WR-CALDESC:Veranstaltungen für Seminar-und Fortbildungszentrum Rheine
REFRESH-INTERVAL;VALUE=DURATION:PT1H
X-Robots-Tag:noindex
X-PUBLISHED-TTL:PT1H
BEGIN:VTIMEZONE
TZID:Europe/Berlin
BEGIN:DAYLIGHT
TZOFFSETFROM:+0100
TZOFFSETTO:+0200
TZNAME:CEST
DTSTART:20240331T010000
END:DAYLIGHT
BEGIN:STANDARD
TZOFFSETFROM:+0200
TZOFFSETTO:+0100
TZNAME:CET
DTSTART:20241027T010000
END:STANDARD
BEGIN:DAYLIGHT
TZOFFSETFROM:+0100
TZOFFSETTO:+0200
TZNAME:CEST
DTSTART:20250330T010000
END:DAYLIGHT
BEGIN:STANDARD
TZOFFSETFROM:+0200
TZOFFSETTO:+0100
TZNAME:CET
DTSTART:20251026T010000
END:STANDARD
BEGIN:DAYLIGHT
TZOFFSETFROM:+0100
TZOFFSETTO:+0200
TZNAME:CEST
DTSTART:20260329T010000
END:DAYLIGHT
BEGIN:STANDARD
TZOFFSETFROM:+0200
TZOFFSETTO:+0100
TZNAME:CET
DTSTART:20261025T010000
END:STANDARD
END:VTIMEZONE
BEGIN:VEVENT
DTSTART;TZID=Europe/Berlin:20251129T090000
DTEND;TZID=Europe/Berlin:20251130T170000
DTSTAMP:20260424T012814
CREATED:20250709T083344Z
LAST-MODIFIED:20250828T073959Z
UID:10000359-1764406800-1764522000@semifobi.de
SUMMARY:Intensivkurs Praktische Stimmtherapie
DESCRIPTION:Die stimmtherapeutische Landschaft ist vielfältig und komplex. In diesem Kurs erarbeiten wir gemeinsam die praktische Anwendung bewährter stimmtherapeutischer Tools\, die durch wissenschaftliche Forschung und kollegiale Erfahrungswerte als besonders wirkungsvoll eingestuft wurden.\nSie lernen\, wann welche Techniken am besten eingesetzt werden und erhalten Klarheit über die Struktur und Anwendung der verschiedenen Methoden. In Einzel- und Gruppensituationen arbeiten wir an unterschiedlichen stimmlichen Qualitäten\, diskutieren klinische Urteilsbildung und räumen Missverständnisse aus dem Weg\, um Ihnen eine effektive Unterstützung in der Praxis zu bieten.\n**** Achtung\, dieses Seminar wird von unserem Kooperationspartner PODIUM in Hamburg ausgerichtet ****
URL:https://semifobi.de/seminar/intensivkurs-praktische-stimmtherapie/
LOCATION:Hamburg
CATEGORIES:Logopädie Interdisziplinär,Sprachentwicklung/ Grammatik/ Wortschatz,Sprechstörung,Stimme & Stimmklang,Stimmtraining,Therapie-Unterstützung
ATTACH;FMTTYPE=image/jpeg:https://semifobi.de/wp-content/uploads/2025/07/Intensivkurs-Praktische-Stimmtherapie.jpg
END:VEVENT
END:VCALENDAR